| Back to Build/check report for BioC 3.15 experimental data |
|
This page was generated on 2022-02-17 08:36:53 -0500 (Thu, 17 Feb 2022).
| Hostname | OS | Arch (*) | R version | Installed pkgs |
|---|---|---|---|---|
| nebbiolo2 | Linux (Ubuntu 20.04.4 LTS) | x86_64 | R Under development (unstable) (2022-01-05 r81451) -- "Unsuffered Consequences" | 1362 |
| Click on any hostname to see more info about the system (e.g. compilers) (*) as reported by 'uname -p', except on Windows and Mac OS X | ||||
|
To the developers/maintainers of the pd.atdschip.tiling package: Make sure to use the following settings in order to reproduce any error or warning you see on this page. |
| Package 272/406 | Hostname | OS / Arch | INSTALL | BUILD | CHECK | ||||||||
| pd.atdschip.tiling 0.33.1 (landing page) Kristof De Beuf
| nebbiolo2 | Linux (Ubuntu 20.04.4 LTS) / x86_64 | OK | OK | WARNINGS | ||||||||
| Package: pd.atdschip.tiling |
| Version: 0.33.1 |
| Command: /home/biocbuild/bbs-3.15-data-experiment/R/bin/R CMD build --keep-empty-dirs --no-resave-data pd.atdschip.tiling |
| StartedAt: 2022-02-17 06:11:40 -0500 (Thu, 17 Feb 2022) |
| EndedAt: 2022-02-17 06:14:17 -0500 (Thu, 17 Feb 2022) |
| EllapsedTime: 156.8 seconds |
| RetCode: 0 |
| Status: OK |
| PackageFile: pd.atdschip.tiling_0.33.1.tar.gz |
| PackageFileSize: 134.3 MiB |
##############################################################################
##############################################################################
###
### Running command:
###
### /home/biocbuild/bbs-3.15-data-experiment/R/bin/R CMD build --keep-empty-dirs --no-resave-data pd.atdschip.tiling
###
##############################################################################
##############################################################################
* checking for file ‘pd.atdschip.tiling/DESCRIPTION’ ... OK
* preparing ‘pd.atdschip.tiling’:
* checking DESCRIPTION meta-information ... OK
* checking for LF line-endings in source and make files and shell scripts
* checking for empty or unneeded directories
* looking to see if a ‘data/datalist’ file should be added
NB: this package now depends on R (>= 3.5.0)
WARNING: Added dependency on R >= 3.5.0 because serialized objects in
serialize/load version 3 cannot be read in older versions of R.
File(s) containing such objects:
‘pd.atdschip.tiling/data/bgSequence.rda’
‘pd.atdschip.tiling/data/pmSequence.rda’
* building ‘pd.atdschip.tiling_0.33.1.tar.gz’