| Back to Build/check report for BioC 3.15 experimental data |
|
This page was generated on 2022-02-17 08:36:53 -0500 (Thu, 17 Feb 2022).
| Hostname | OS | Arch (*) | R version | Installed pkgs |
|---|---|---|---|---|
| nebbiolo2 | Linux (Ubuntu 20.04.4 LTS) | x86_64 | R Under development (unstable) (2022-01-05 r81451) -- "Unsuffered Consequences" | 1362 |
| Click on any hostname to see more info about the system (e.g. compilers) (*) as reported by 'uname -p', except on Windows and Mac OS X | ||||
|
To the developers/maintainers of the minfiData package: Make sure to use the following settings in order to reproduce any error or warning you see on this page. |
| Package 229/406 | Hostname | OS / Arch | INSTALL | BUILD | CHECK | ||||||||
| minfiData 0.41.0 (landing page) Kasper Daniel Hansen
| nebbiolo2 | Linux (Ubuntu 20.04.4 LTS) / x86_64 | OK | OK | WARNINGS | ||||||||
| Package: minfiData |
| Version: 0.41.0 |
| Command: /home/biocbuild/bbs-3.15-data-experiment/R/bin/R CMD build --keep-empty-dirs --no-resave-data minfiData |
| StartedAt: 2022-02-17 06:07:24 -0500 (Thu, 17 Feb 2022) |
| EndedAt: 2022-02-17 06:07:38 -0500 (Thu, 17 Feb 2022) |
| EllapsedTime: 13.8 seconds |
| RetCode: 0 |
| Status: OK |
| PackageFile: minfiData_0.41.0.tar.gz |
| PackageFileSize: 74.56 MiB |
##############################################################################
##############################################################################
###
### Running command:
###
### /home/biocbuild/bbs-3.15-data-experiment/R/bin/R CMD build --keep-empty-dirs --no-resave-data minfiData
###
##############################################################################
##############################################################################
* checking for file ‘minfiData/DESCRIPTION’ ... OK
* preparing ‘minfiData’:
* checking DESCRIPTION meta-information ... OK
* checking for LF line-endings in source and make files and shell scripts
* checking for empty or unneeded directories
NB: this package now depends on R (>= 3.5.0)
WARNING: Added dependency on R >= 3.5.0 because serialized objects in
serialize/load version 3 cannot be read in older versions of R.
File(s) containing such objects:
‘minfiData/data/MsetEx.rda’ ‘minfiData/data/MsetEx.sub.rda’
‘minfiData/data/RGsetEx.rda’ ‘minfiData/data/RGsetEx.sub.rda’
* building ‘minfiData_0.41.0.tar.gz’