| Back to Build/check report for BioC 3.15 experimental data |
|
This page was generated on 2022-02-17 08:36:54 -0500 (Thu, 17 Feb 2022).
| Hostname | OS | Arch (*) | R version | Installed pkgs |
|---|---|---|---|---|
| nebbiolo2 | Linux (Ubuntu 20.04.4 LTS) | x86_64 | R Under development (unstable) (2022-01-05 r81451) -- "Unsuffered Consequences" | 1362 |
| Click on any hostname to see more info about the system (e.g. compilers) (*) as reported by 'uname -p', except on Windows and Mac OS X | ||||
|
To the developers/maintainers of the sesameData package: Make sure to use the following settings in order to reproduce any error or warning you see on this page. |
| Package 345/406 | Hostname | OS / Arch | INSTALL | BUILD | CHECK | ||||||||
| sesameData 1.13.27 (landing page) Wanding Zhou
| nebbiolo2 | Linux (Ubuntu 20.04.4 LTS) / x86_64 | OK | OK | OK | ||||||||
| Package: sesameData |
| Version: 1.13.27 |
| Command: /home/biocbuild/bbs-3.15-data-experiment/R/bin/R CMD check --install=check:sesameData.install-out.txt --library=/home/biocbuild/bbs-3.15-data-experiment/R/library --no-vignettes --timings sesameData_1.13.27.tar.gz |
| StartedAt: 2022-02-17 07:58:36 -0500 (Thu, 17 Feb 2022) |
| EndedAt: 2022-02-17 08:02:16 -0500 (Thu, 17 Feb 2022) |
| EllapsedTime: 220.1 seconds |
| RetCode: 0 |
| Status: OK |
| CheckDir: sesameData.Rcheck |
| Warnings: 0 |
##############################################################################
##############################################################################
###
### Running command:
###
### /home/biocbuild/bbs-3.15-data-experiment/R/bin/R CMD check --install=check:sesameData.install-out.txt --library=/home/biocbuild/bbs-3.15-data-experiment/R/library --no-vignettes --timings sesameData_1.13.27.tar.gz
###
##############################################################################
##############################################################################
* using log directory ‘/home/biocbuild/bbs-3.15-data-experiment/meat/sesameData.Rcheck’
* using R Under development (unstable) (2022-01-05 r81451)
* using platform: x86_64-pc-linux-gnu (64-bit)
* using session charset: UTF-8
* using option ‘--no-vignettes’
* checking for file ‘sesameData/DESCRIPTION’ ... OK
* checking extension type ... Package
* this is package ‘sesameData’ version ‘1.13.27’
* checking package namespace information ... OK
* checking package dependencies ... OK
* checking if this is a source package ... OK
* checking if there is a namespace ... OK
* checking for hidden files and directories ... OK
* checking for portable file names ... OK
* checking for sufficient/correct file permissions ... OK
* checking whether package ‘sesameData’ can be installed ... OK
* checking installed package size ... OK
* checking package directory ... OK
* checking ‘build’ directory ... OK
* checking DESCRIPTION meta-information ... OK
* checking top-level files ... OK
* checking for left-over files ... OK
* checking index information ... OK
* checking package subdirectories ... OK
* checking R files for non-ASCII characters ... OK
* checking R files for syntax errors ... OK
* checking whether the package can be loaded ... OK
* checking whether the package can be loaded with stated dependencies ... OK
* checking whether the package can be unloaded cleanly ... OK
* checking whether the namespace can be loaded with stated dependencies ... OK
* checking whether the namespace can be unloaded cleanly ... OK
* checking dependencies in R code ... OK
* checking S3 generic/method consistency ... OK
* checking replacement functions ... OK
* checking foreign function calls ... OK
* checking R code for possible problems ... OK
* checking Rd files ... OK
* checking Rd metadata ... OK
* checking Rd cross-references ... OK
* checking for missing documentation entries ... OK
* checking for code/documentation mismatches ... OK
* checking Rd \usage sections ... OK
* checking Rd contents ... OK
* checking for unstated dependencies in examples ... OK
* checking R/sysdata.rda ... OK
* checking files in ‘vignettes’ ... OK
* checking examples ... OK
Examples with CPU (user + system) or elapsed time > 5s
user system elapsed
sesameData_getGenesByProbes 18.582 0.457 20.283
inferPlatformFromProbeIDs 13.027 0.463 13.655
sesameData_getTranscriptsByGene 4.392 0.113 5.901
sesameDataGet 3.314 0.099 9.062
* checking for unstated dependencies in ‘tests’ ... OK
* checking tests ...
Running ‘testthat.R’
OK
* checking for unstated dependencies in vignettes ... OK
* checking package vignettes in ‘inst/doc’ ... OK
* checking running R code from vignettes ... SKIPPED
* checking re-building of vignette outputs ... SKIPPED
* checking PDF version of manual ... OK
* DONE
Status: OK
sesameData.Rcheck/00install.out
############################################################################## ############################################################################## ### ### Running command: ### ### /home/biocbuild/bbs-3.15-data-experiment/R/bin/R CMD INSTALL sesameData ### ############################################################################## ############################################################################## * installing to library ‘/home/biocbuild/bbs-3.15-data-experiment/R/library’ * installing *source* package ‘sesameData’ ... ** using staged installation ** R ** inst ** byte-compile and prepare package for lazy loading ** help *** installing help indices ** building package indices ** installing vignettes ** testing if installed package can be loaded from temporary location ** testing if installed package can be loaded from final location ** testing if installed package keeps a record of temporary installation path * DONE (sesameData)
sesameData.Rcheck/tests/testthat.Rout
R Under development (unstable) (2022-01-05 r81451) -- "Unsuffered Consequences"
Copyright (C) 2022 The R Foundation for Statistical Computing
Platform: x86_64-pc-linux-gnu (64-bit)
R is free software and comes with ABSOLUTELY NO WARRANTY.
You are welcome to redistribute it under certain conditions.
Type 'license()' or 'licence()' for distribution details.
R is a collaborative project with many contributors.
Type 'contributors()' for more information and
'citation()' on how to cite R or R packages in publications.
Type 'demo()' for some demos, 'help()' for on-line help, or
'help.start()' for an HTML browser interface to help.
Type 'q()' to quit R.
> library(testthat)
> library(sesame)
Loading required package: sesameData
Loading required package: ExperimentHub
Loading required package: BiocGenerics
Attaching package: 'BiocGenerics'
The following objects are masked from 'package:stats':
IQR, mad, sd, var, xtabs
The following objects are masked from 'package:base':
Filter, Find, Map, Position, Reduce, anyDuplicated, append,
as.data.frame, basename, cbind, colnames, dirname, do.call,
duplicated, eval, evalq, get, grep, grepl, intersect, is.unsorted,
lapply, mapply, match, mget, order, paste, pmax, pmax.int, pmin,
pmin.int, rank, rbind, rownames, sapply, setdiff, sort, table,
tapply, union, unique, unsplit, which.max, which.min
Loading required package: AnnotationHub
Loading required package: BiocFileCache
Loading required package: dbplyr
Loading required package: rmarkdown
Loading sesameData.
----------------------------------------------------------
| SEnsible Step-wise Analysis of DNA MEthylation (SeSAMe)
| --------------------------------------------------------
| Please cache auxiliary data by "sesameDataCache()".
| This needs to be done only once per SeSAMe installation.
----------------------------------------------------------
>
> test_check("sesameData")
[ FAIL 0 | WARN 0 | SKIP 0 | PASS 1 ]
>
> proc.time()
user system elapsed
13.392 0.578 14.213
sesameData.Rcheck/sesameData-Ex.timings
| name | user | system | elapsed | |
| inferPlatformFromProbeIDs | 13.027 | 0.463 | 13.655 | |
| sesameDataCache | 0.000 | 0.001 | 0.000 | |
| sesameDataCacheAll | 0 | 0 | 0 | |
| sesameDataCacheExample | 0 | 0 | 0 | |
| sesameDataGet | 3.314 | 0.099 | 9.062 | |
| sesameDataGet_resetEnv | 1.402 | 0.034 | 1.437 | |
| sesameDataList | 0.037 | 0.000 | 0.036 | |
| sesameData_check_genome | 0.000 | 0.000 | 0.001 | |
| sesameData_check_platform | 0.001 | 0.000 | 0.000 | |
| sesameData_getAnno | 0 | 0 | 0 | |
| sesameData_getAutosomeProbes | 0.190 | 0.004 | 1.106 | |
| sesameData_getGenesByProbes | 18.582 | 0.457 | 20.283 | |
| sesameData_getManifestDF | 3.292 | 0.096 | 4.330 | |
| sesameData_getManifestGRanges | 0.001 | 0.000 | 0.000 | |
| sesameData_getProbesByChromosome | 0.005 | 0.000 | 0.005 | |
| sesameData_getProbesByGene | 0.112 | 0.000 | 0.112 | |
| sesameData_getProbesByRegion | 0.127 | 0.000 | 0.128 | |
| sesameData_getProbesByTSS | 0.155 | 0.004 | 0.158 | |
| sesameData_getTranscriptsByGene | 4.392 | 0.113 | 5.901 | |
| sesameData_getTxnGRanges | 3.329 | 0.024 | 3.352 | |
| sesameData_txnToGeneGRanges | 1.092 | 0.036 | 1.128 | |