| Back to Build/check report for BioC 3.15 experimental data |
|
This page was generated on 2022-02-17 08:36:52 -0500 (Thu, 17 Feb 2022).
| Hostname | OS | Arch (*) | R version | Installed pkgs |
|---|---|---|---|---|
| nebbiolo2 | Linux (Ubuntu 20.04.4 LTS) | x86_64 | R Under development (unstable) (2022-01-05 r81451) -- "Unsuffered Consequences" | 1362 |
| Click on any hostname to see more info about the system (e.g. compilers) (*) as reported by 'uname -p', except on Windows and Mac OS X | ||||
|
To the developers/maintainers of the FlowSorted.CordBloodCombined.450k package: Make sure to use the following settings in order to reproduce any error or warning you see on this page. |
| Package 129/406 | Hostname | OS / Arch | INSTALL | BUILD | CHECK | ||||||||
| FlowSorted.CordBloodCombined.450k 1.11.5 (landing page) Lucas A. Salas
| nebbiolo2 | Linux (Ubuntu 20.04.4 LTS) / x86_64 | OK | OK | OK | ||||||||
| Package: FlowSorted.CordBloodCombined.450k |
| Version: 1.11.5 |
| Command: /home/biocbuild/bbs-3.15-data-experiment/R/bin/R CMD build --keep-empty-dirs --no-resave-data FlowSorted.CordBloodCombined.450k |
| StartedAt: 2022-02-17 05:52:22 -0500 (Thu, 17 Feb 2022) |
| EndedAt: 2022-02-17 05:53:44 -0500 (Thu, 17 Feb 2022) |
| EllapsedTime: 81.9 seconds |
| RetCode: 0 |
| Status: OK |
| PackageFile: FlowSorted.CordBloodCombined.450k_1.11.5.tar.gz |
| PackageFileSize: 59.84 KiB |
############################################################################## ############################################################################## ### ### Running command: ### ### /home/biocbuild/bbs-3.15-data-experiment/R/bin/R CMD build --keep-empty-dirs --no-resave-data FlowSorted.CordBloodCombined.450k ### ############################################################################## ############################################################################## * checking for file ‘FlowSorted.CordBloodCombined.450k/DESCRIPTION’ ... OK * preparing ‘FlowSorted.CordBloodCombined.450k’: * checking DESCRIPTION meta-information ... OK * installing the package to build vignettes * creating vignettes ... OK * checking for LF line-endings in source and make files and shell scripts * checking for empty or unneeded directories * building ‘FlowSorted.CordBloodCombined.450k_1.11.5.tar.gz’