| Back to Build/check report for BioC 3.15 experimental data |
|
This page was generated on 2022-02-17 08:36:52 -0500 (Thu, 17 Feb 2022).
| Hostname | OS | Arch (*) | R version | Installed pkgs |
|---|---|---|---|---|
| nebbiolo2 | Linux (Ubuntu 20.04.4 LTS) | x86_64 | R Under development (unstable) (2022-01-05 r81451) -- "Unsuffered Consequences" | 1362 |
| Click on any hostname to see more info about the system (e.g. compilers) (*) as reported by 'uname -p', except on Windows and Mac OS X | ||||
|
To the developers/maintainers of the h5vcData package: Make sure to use the following settings in order to reproduce any error or warning you see on this page. |
| Package 154/406 | Hostname | OS / Arch | INSTALL | BUILD | CHECK | ||||||||
| h5vcData 2.15.0 (landing page) Paul Theodor Pyl
| nebbiolo2 | Linux (Ubuntu 20.04.4 LTS) / x86_64 | OK | OK | OK | ||||||||
| Package: h5vcData |
| Version: 2.15.0 |
| Command: /home/biocbuild/bbs-3.15-data-experiment/R/bin/R CMD INSTALL h5vcData |
| StartedAt: 2022-02-17 05:00:24 -0500 (Thu, 17 Feb 2022) |
| EndedAt: 2022-02-17 05:00:26 -0500 (Thu, 17 Feb 2022) |
| EllapsedTime: 1.7 seconds |
| RetCode: 0 |
| Status: OK |
############################################################################## ############################################################################## ### ### Running command: ### ### /home/biocbuild/bbs-3.15-data-experiment/R/bin/R CMD INSTALL h5vcData ### ############################################################################## ############################################################################## * installing to library ‘/home/biocbuild/bbs-3.15-data-experiment/R/library’ * installing *source* package ‘h5vcData’ ... ** using staged installation ** R ** data ** inst ** byte-compile and prepare package for lazy loading ** help *** installing help indices ** building package indices ** testing if installed package can be loaded from temporary location ** testing if installed package can be loaded from final location ** testing if installed package keeps a record of temporary installation path * DONE (h5vcData)