| Back to Build/check report for BioC 3.15 experimental data |
|
This page was generated on 2022-02-17 08:36:51 -0500 (Thu, 17 Feb 2022).
| Hostname | OS | Arch (*) | R version | Installed pkgs |
|---|---|---|---|---|
| nebbiolo2 | Linux (Ubuntu 20.04.4 LTS) | x86_64 | R Under development (unstable) (2022-01-05 r81451) -- "Unsuffered Consequences" | 1362 |
| Click on any hostname to see more info about the system (e.g. compilers) (*) as reported by 'uname -p', except on Windows and Mac OS X | ||||
|
To the developers/maintainers of the ARRmData package: Make sure to use the following settings in order to reproduce any error or warning you see on this page. |
| Package 17/406 | Hostname | OS / Arch | INSTALL | BUILD | CHECK | ||||||||
| ARRmData 1.31.0 (landing page) Jean-Philippe Fortin
| nebbiolo2 | Linux (Ubuntu 20.04.4 LTS) / x86_64 | OK | OK | OK | ||||||||
| Package: ARRmData |
| Version: 1.31.0 |
| Command: /home/biocbuild/bbs-3.15-data-experiment/R/bin/R CMD build --keep-empty-dirs --no-resave-data ARRmData |
| StartedAt: 2022-02-17 05:34:17 -0500 (Thu, 17 Feb 2022) |
| EndedAt: 2022-02-17 05:34:22 -0500 (Thu, 17 Feb 2022) |
| EllapsedTime: 5.6 seconds |
| RetCode: 0 |
| Status: OK |
| PackageFile: ARRmData_1.31.0.tar.gz |
| PackageFileSize: 56.51 MiB |
############################################################################## ############################################################################## ### ### Running command: ### ### /home/biocbuild/bbs-3.15-data-experiment/R/bin/R CMD build --keep-empty-dirs --no-resave-data ARRmData ### ############################################################################## ############################################################################## * checking for file ‘ARRmData/DESCRIPTION’ ... OK * preparing ‘ARRmData’: * checking DESCRIPTION meta-information ... OK * checking for LF line-endings in source and make files and shell scripts * checking for empty or unneeded directories * looking to see if a ‘data/datalist’ file should be added * building ‘ARRmData_1.31.0.tar.gz’