| Back to Build/check report for BioC 3.15 experimental data |
|
This page was generated on 2022-02-17 08:36:54 -0500 (Thu, 17 Feb 2022).
| Hostname | OS | Arch (*) | R version | Installed pkgs |
|---|---|---|---|---|
| nebbiolo2 | Linux (Ubuntu 20.04.4 LTS) | x86_64 | R Under development (unstable) (2022-01-05 r81451) -- "Unsuffered Consequences" | 1362 |
| Click on any hostname to see more info about the system (e.g. compilers) (*) as reported by 'uname -p', except on Windows and Mac OS X | ||||
|
To the developers/maintainers of the SomaticCancerAlterations package: Make sure to use the following settings in order to reproduce any error or warning you see on this page. |
| Package 358/406 | Hostname | OS / Arch | INSTALL | BUILD | CHECK | ||||||||
| SomaticCancerAlterations 1.31.1 (landing page) Julian Gehring
| nebbiolo2 | Linux (Ubuntu 20.04.4 LTS) / x86_64 | OK | OK | OK | ||||||||
| Package: SomaticCancerAlterations |
| Version: 1.31.1 |
| Command: /home/biocbuild/bbs-3.15-data-experiment/R/bin/R CMD build --keep-empty-dirs --no-resave-data SomaticCancerAlterations |
| StartedAt: 2022-02-17 06:19:44 -0500 (Thu, 17 Feb 2022) |
| EndedAt: 2022-02-17 06:20:16 -0500 (Thu, 17 Feb 2022) |
| EllapsedTime: 31.9 seconds |
| RetCode: 0 |
| Status: OK |
| PackageFile: SomaticCancerAlterations_1.31.1.tar.gz |
| PackageFileSize: 4.442 MiB |
##############################################################################
##############################################################################
###
### Running command:
###
### /home/biocbuild/bbs-3.15-data-experiment/R/bin/R CMD build --keep-empty-dirs --no-resave-data SomaticCancerAlterations
###
##############################################################################
##############################################################################
* checking for file ‘SomaticCancerAlterations/DESCRIPTION’ ... OK
* preparing ‘SomaticCancerAlterations’:
* checking DESCRIPTION meta-information ... OK
* installing the package to build vignettes
* creating vignettes ... OK
* checking for LF line-endings in source and make files and shell scripts
* checking for empty or unneeded directories
* looking to see if a ‘data/datalist’ file should be added
NB: this package now depends on R (>= 3.5.0)
WARNING: Added dependency on R >= 3.5.0 because serialized objects in
serialize/load version 3 cannot be read in older versions of R.
File(s) containing such objects:
‘SomaticCancerAlterations/data/gbm_tcga.rda’
‘SomaticCancerAlterations/data/hnsc_tcga.rda’
‘SomaticCancerAlterations/data/kirc_tcga.rda’
‘SomaticCancerAlterations/data/luad_tcga.rda’
‘SomaticCancerAlterations/data/lusc_tcga.rda’
‘SomaticCancerAlterations/data/ov_tcga.rda’
‘SomaticCancerAlterations/data/skcm_tcga.rda’
‘SomaticCancerAlterations/data/thca_tcga.rda’
* building ‘SomaticCancerAlterations_1.31.1.tar.gz’