| Back to Build/check report for BioC 3.15 experimental data |
|
This page was generated on 2022-02-17 08:36:52 -0500 (Thu, 17 Feb 2022).
| Hostname | OS | Arch (*) | R version | Installed pkgs |
|---|---|---|---|---|
| nebbiolo2 | Linux (Ubuntu 20.04.4 LTS) | x86_64 | R Under development (unstable) (2022-01-05 r81451) -- "Unsuffered Consequences" | 1362 |
| Click on any hostname to see more info about the system (e.g. compilers) (*) as reported by 'uname -p', except on Windows and Mac OS X | ||||
|
To the developers/maintainers of the GeuvadisTranscriptExpr package: Make sure to use the following settings in order to reproduce any error or warning you see on this page. |
| Package 142/406 | Hostname | OS / Arch | INSTALL | BUILD | CHECK | ||||||||
| GeuvadisTranscriptExpr 1.23.1 (landing page) Malgorzata Nowicka
| nebbiolo2 | Linux (Ubuntu 20.04.4 LTS) / x86_64 | OK | OK | OK | ||||||||
| Package: GeuvadisTranscriptExpr |
| Version: 1.23.1 |
| Command: /home/biocbuild/bbs-3.15-data-experiment/R/bin/R CMD build --keep-empty-dirs --no-resave-data GeuvadisTranscriptExpr |
| StartedAt: 2022-02-17 05:54:59 -0500 (Thu, 17 Feb 2022) |
| EndedAt: 2022-02-17 05:55:34 -0500 (Thu, 17 Feb 2022) |
| EllapsedTime: 34.8 seconds |
| RetCode: 0 |
| Status: OK |
| PackageFile: GeuvadisTranscriptExpr_1.23.1.tar.gz |
| PackageFileSize: 7.194 MiB |
##############################################################################
##############################################################################
###
### Running command:
###
### /home/biocbuild/bbs-3.15-data-experiment/R/bin/R CMD build --keep-empty-dirs --no-resave-data GeuvadisTranscriptExpr
###
##############################################################################
##############################################################################
* checking for file ‘GeuvadisTranscriptExpr/DESCRIPTION’ ... OK
* preparing ‘GeuvadisTranscriptExpr’:
* checking DESCRIPTION meta-information ... OK
* installing the package to build vignettes
* creating vignettes ... OK
* checking for LF line-endings in source and make files and shell scripts
* checking for empty or unneeded directories
NB: this package now depends on R (>= 3.5.0)
WARNING: Added dependency on R >= 3.5.0 because serialized objects in
serialize/load version 3 cannot be read in older versions of R.
File(s) containing such objects:
‘GeuvadisTranscriptExpr/data/gene_ranges.rda’
‘GeuvadisTranscriptExpr/data/snp_ranges.rda’
* building ‘GeuvadisTranscriptExpr_1.23.1.tar.gz’