| Back to Build/check report for BioC 3.15 experimental data |
|
This page was generated on 2022-02-17 08:36:53 -0500 (Thu, 17 Feb 2022).
| Hostname | OS | Arch (*) | R version | Installed pkgs |
|---|---|---|---|---|
| nebbiolo2 | Linux (Ubuntu 20.04.4 LTS) | x86_64 | R Under development (unstable) (2022-01-05 r81451) -- "Unsuffered Consequences" | 1362 |
| Click on any hostname to see more info about the system (e.g. compilers) (*) as reported by 'uname -p', except on Windows and Mac OS X | ||||
|
To the developers/maintainers of the miRNATarget package: Make sure to use the following settings in order to reproduce any error or warning you see on this page. |
| Package 233/406 | Hostname | OS / Arch | INSTALL | BUILD | CHECK | ||||||||
| miRNATarget 1.33.0 (landing page) Y-h. Taguchi
| nebbiolo2 | Linux (Ubuntu 20.04.4 LTS) / x86_64 | OK | OK | OK | ||||||||
| Package: miRNATarget |
| Version: 1.33.0 |
| Command: /home/biocbuild/bbs-3.15-data-experiment/R/bin/R CMD check --install=check:miRNATarget.install-out.txt --library=/home/biocbuild/bbs-3.15-data-experiment/R/library --no-vignettes --timings miRNATarget_1.33.0.tar.gz |
| StartedAt: 2022-02-17 07:38:25 -0500 (Thu, 17 Feb 2022) |
| EndedAt: 2022-02-17 07:40:18 -0500 (Thu, 17 Feb 2022) |
| EllapsedTime: 113.5 seconds |
| RetCode: 0 |
| Status: OK |
| CheckDir: miRNATarget.Rcheck |
| Warnings: 0 |
##############################################################################
##############################################################################
###
### Running command:
###
### /home/biocbuild/bbs-3.15-data-experiment/R/bin/R CMD check --install=check:miRNATarget.install-out.txt --library=/home/biocbuild/bbs-3.15-data-experiment/R/library --no-vignettes --timings miRNATarget_1.33.0.tar.gz
###
##############################################################################
##############################################################################
* using log directory ‘/home/biocbuild/bbs-3.15-data-experiment/meat/miRNATarget.Rcheck’
* using R Under development (unstable) (2022-01-05 r81451)
* using platform: x86_64-pc-linux-gnu (64-bit)
* using session charset: UTF-8
* using option ‘--no-vignettes’
* checking for file ‘miRNATarget/DESCRIPTION’ ... OK
* this is package ‘miRNATarget’ version ‘1.33.0’
* checking package namespace information ... OK
* checking package dependencies ... OK
* checking if this is a source package ... OK
* checking if there is a namespace ... OK
* checking for hidden files and directories ... NOTE
Found the following hidden files and directories:
vignettes/.goutputstream-8N717W
These were most likely included in error. See section ‘Package
structure’ in the ‘Writing R Extensions’ manual.
* checking for portable file names ... OK
* checking for sufficient/correct file permissions ... OK
* checking whether package ‘miRNATarget’ can be installed ... OK
* checking installed package size ... NOTE
installed size is 59.6Mb
sub-directories of 1Mb or more:
data 59.3Mb
* checking package directory ... OK
* checking ‘build’ directory ... OK
* checking DESCRIPTION meta-information ... NOTE
Malformed Description field: should contain one or more complete sentences.
* checking top-level files ... OK
* checking for left-over files ... OK
* checking index information ... OK
* checking package subdirectories ... OK
* checking whether the package can be loaded ... OK
* checking whether the package can be loaded with stated dependencies ... OK
* checking whether the package can be unloaded cleanly ... OK
* checking whether the namespace can be loaded with stated dependencies ... OK
* checking whether the namespace can be unloaded cleanly ... OK
* checking Rd files ... OK
* checking Rd metadata ... OK
* checking Rd cross-references ... OK
* checking for missing documentation entries ... OK
* checking for code/documentation mismatches ... OK
* checking Rd \usage sections ... OK
* checking Rd contents ... OK
* checking for unstated dependencies in examples ... OK
* checking contents of ‘data’ directory ... OK
* checking data for non-ASCII characters ... OK
* checking data for ASCII and uncompressed saves ... OK
* checking files in ‘vignettes’ ... OK
* checking examples ... OK
* checking for unstated dependencies in vignettes ... OK
* checking package vignettes in ‘inst/doc’ ... OK
* checking running R code from vignettes ... SKIPPED
* checking re-building of vignette outputs ... SKIPPED
* checking PDF version of manual ... OK
* DONE
Status: 3 NOTEs
See
‘/home/biocbuild/bbs-3.15-data-experiment/meat/miRNATarget.Rcheck/00check.log’
for details.
miRNATarget.Rcheck/00install.out
############################################################################## ############################################################################## ### ### Running command: ### ### /home/biocbuild/bbs-3.15-data-experiment/R/bin/R CMD INSTALL miRNATarget ### ############################################################################## ############################################################################## * installing to library ‘/home/biocbuild/bbs-3.15-data-experiment/R/library’ * installing *source* package ‘miRNATarget’ ... ** using staged installation ** data ** help *** installing help indices ** building package indices ** installing vignettes ** testing if installed package can be loaded from temporary location ** testing if installed package can be loaded from final location ** testing if installed package keeps a record of temporary installation path * DONE (miRNATarget)
miRNATarget.Rcheck/miRNATarget-Ex.timings
| name | user | system | elapsed | |
| HS_conv_id | 0.103 | 0.003 | 0.107 | |
| HS_refseq_to_affy_hc_g110 | 0.005 | 0.000 | 0.005 | |
| HS_refseq_to_affy_hg_focus | 0.018 | 0.000 | 0.018 | |
| HS_refseq_to_affy_hg_u133_plus_2 | 0.069 | 0.000 | 0.069 | |
| HS_refseq_to_affy_hg_u133a | 0.043 | 0.000 | 0.043 | |
| HS_refseq_to_affy_hg_u133a_2 | 0.037 | 0.003 | 0.041 | |
| HS_refseq_to_affy_hg_u133b | 0.021 | 0.000 | 0.022 | |
| HS_refseq_to_affy_hg_u95a | 0.029 | 0.000 | 0.028 | |
| HS_refseq_to_affy_hg_u95av2 | 0.024 | 0.000 | 0.024 | |
| HS_refseq_to_affy_hg_u95b | 0.018 | 0.000 | 0.017 | |
| HS_refseq_to_affy_hg_u95c | 0.012 | 0.000 | 0.012 | |
| HS_refseq_to_affy_hg_u95d | 0.007 | 0.000 | 0.007 | |
| HS_refseq_to_affy_hg_u95e | 0.013 | 0.000 | 0.012 | |
| HS_refseq_to_affy_huex_1_0_st_v2 | 1.115 | 0.023 | 1.139 | |
| HS_refseq_to_affy_hugene_1_0_st_v1 | 0.056 | 0.000 | 0.057 | |
| HS_refseq_to_affy_hugenefl | 0.016 | 0.000 | 0.016 | |
| HS_refseq_to_affy_u133_x3p | 0.084 | 0.004 | 0.089 | |
| HS_refseq_to_agilent_cgh_44b | 0.017 | 0.000 | 0.017 | |
| HS_refseq_to_agilent_wholegenome | 0.084 | 0.004 | 0.088 | |
| HS_refseq_to_canonical_transcript_stable_id | 0.083 | 0.000 | 0.084 | |
| HS_refseq_to_ccds | 0.051 | 0.000 | 0.051 | |
| HS_refseq_to_codelink | 0.050 | 0.003 | 0.054 | |
| HS_refseq_to_efg_agilent_sureprint_g3_ge_8x60k | 0.002 | 0.000 | 0.002 | |
| HS_refseq_to_efg_agilent_wholegenome_4x44k_v1 | 0.002 | 0.000 | 0.001 | |
| HS_refseq_to_efg_agilent_wholegenome_4x44k_v2 | 0.002 | 0.000 | 0.001 | |
| HS_refseq_to_embl | 1.031 | 0.019 | 1.051 | |
| HS_refseq_to_ensembl_exon_id | 0.002 | 0.001 | 0.002 | |
| HS_refseq_to_ensembl_gene_id | 0.057 | 0.003 | 0.062 | |
| HS_refseq_to_ensembl_peptide_id | 0.055 | 0.003 | 0.059 | |
| HS_refseq_to_ensembl_transcript_id | 0.081 | 0.000 | 0.081 | |
| HS_refseq_to_entrezgene | 0.065 | 0.000 | 0.065 | |
| HS_refseq_to_hgnc_id | 0.426 | 0.000 | 0.426 | |
| HS_refseq_to_hgnc_symbol | 0.062 | 0.000 | 0.062 | |
| HS_refseq_to_hgnc_transcript_name | 0.061 | 0.000 | 0.061 | |
| HS_refseq_to_illumina_humanht_12 | 0.065 | 0.004 | 0.069 | |
| HS_refseq_to_illumina_humanwg_6_v1 | 0.055 | 0.000 | 0.055 | |
| HS_refseq_to_illumina_humanwg_6_v2 | 0.045 | 0.000 | 0.046 | |
| HS_refseq_to_illumina_humanwg_6_v3 | 0.052 | 0.000 | 0.051 | |
| HS_refseq_to_interpro | 0.168 | 0.000 | 0.168 | |
| HS_refseq_to_ipi | 0.174 | 0.007 | 0.182 | |
| HS_refseq_to_merops | 0.007 | 0.000 | 0.007 | |
| HS_refseq_to_pdb | 0.16 | 0.00 | 0.16 | |
| HS_refseq_to_pfam | 0.122 | 0.000 | 0.122 | |
| HS_refseq_to_phalanx_onearray | 0.071 | 0.000 | 0.070 | |
| HS_refseq_to_protein_id | 2.32 | 0.02 | 2.34 | |
| HS_refseq_to_refseq_dna | 0.091 | 0.004 | 0.096 | |
| HS_refseq_to_refseq_genomic | 0.001 | 0.000 | 0.001 | |
| HS_refseq_to_refseq_peptide | 0.166 | 0.000 | 0.166 | |
| HS_refseq_to_rfam | 0.004 | 0.000 | 0.003 | |
| HS_refseq_to_rfam_gene_name | 0.002 | 0.000 | 0.002 | |
| HS_refseq_to_rfam_transcript_name | 0.001 | 0.000 | 0.001 | |
| HS_refseq_to_smart | 0.06 | 0.00 | 0.06 | |
| HS_refseq_to_tigrfam | 0.008 | 0.000 | 0.008 | |
| HS_refseq_to_ucsc | 0.078 | 0.000 | 0.078 | |
| HS_refseq_to_unigene | 0.103 | 0.000 | 0.102 | |
| HS_refseq_to_uniprot_genename | 0.070 | 0.000 | 0.069 | |
| HS_refseq_to_uniprot_genename_transcript_name | 0.000 | 0.002 | 0.002 | |
| HS_refseq_to_uniprot_sptrembl | 0.001 | 0.001 | 0.002 | |
| HS_refseq_to_uniprot_swissprot | 0.002 | 0.001 | 0.002 | |
| HS_refseq_to_uniprot_swissprot_accession | 0.002 | 0.000 | 0.002 | |
| HS_refseq_to_wikigene_id | 0.001 | 0.000 | 0.002 | |
| HS_refseq_to_wikigene_name | 0.078 | 0.000 | 0.078 | |
| MM_conv_id | 0.003 | 0.000 | 0.004 | |
| MM_refseq_to_affy_mg_u74a | 0.026 | 0.000 | 0.026 | |
| MM_refseq_to_affy_mg_u74av2 | 0.023 | 0.000 | 0.024 | |
| MM_refseq_to_affy_mg_u74b | 0.019 | 0.000 | 0.019 | |
| MM_refseq_to_affy_mg_u74bv2 | 0.019 | 0.000 | 0.020 | |
| MM_refseq_to_affy_mg_u74c | 0.003 | 0.004 | 0.007 | |
| MM_refseq_to_affy_mg_u74cv2 | 0.006 | 0.003 | 0.009 | |
| MM_refseq_to_affy_moe430a | 0.052 | 0.000 | 0.052 | |
| MM_refseq_to_affy_moe430b | 0.024 | 0.000 | 0.024 | |
| MM_refseq_to_affy_moex_1_0_st_v1 | 0.647 | 0.008 | 0.656 | |
| MM_refseq_to_affy_mogene_1_0_st_v1 | 0.042 | 0.000 | 0.043 | |
| MM_refseq_to_affy_mouse430_2 | 0.042 | 0.003 | 0.046 | |
| MM_refseq_to_affy_mouse430a_2 | 0.033 | 0.001 | 0.033 | |
| MM_refseq_to_affy_mu11ksuba | 0.012 | 0.000 | 0.012 | |
| MM_refseq_to_affy_mu11ksubb | 0.009 | 0.000 | 0.009 | |
| MM_refseq_to_agilent_wholegenome | 0.065 | 0.000 | 0.065 | |
| MM_refseq_to_canonical_transcript_stable_id | 0.062 | 0.000 | 0.062 | |
| MM_refseq_to_ccds | 0.033 | 0.000 | 0.033 | |
| MM_refseq_to_codelink | 0.038 | 0.000 | 0.038 | |
| MM_refseq_to_efg_agilent_sureprint_g3_ge_8x60k | 0.000 | 0.001 | 0.002 | |
| MM_refseq_to_efg_agilent_wholegenome_4x44k_v1 | 0.000 | 0.001 | 0.002 | |
| MM_refseq_to_efg_agilent_wholegenome_4x44k_v2 | 0.001 | 0.000 | 0.002 | |
| MM_refseq_to_embl | 0.320 | 0.007 | 0.328 | |
| MM_refseq_to_ensembl_exon_id | 0.002 | 0.000 | 0.002 | |
| MM_refseq_to_ensembl_gene_id | 0.268 | 0.000 | 0.268 | |
| MM_refseq_to_ensembl_peptide_id | 0.038 | 0.000 | 0.038 | |
| MM_refseq_to_ensembl_transcript_id | 0.041 | 0.000 | 0.041 | |
| MM_refseq_to_entrezgene | 0.035 | 0.000 | 0.035 | |
| MM_refseq_to_fantom | 0.105 | 0.000 | 0.104 | |
| MM_refseq_to_illumina_mousewg_6_v1 | 0.051 | 0.004 | 0.055 | |
| MM_refseq_to_illumina_mousewg_6_v2 | 0.056 | 0.000 | 0.056 | |
| MM_refseq_to_interpro | 0.096 | 0.008 | 0.104 | |
| MM_refseq_to_ipi | 0.001 | 0.000 | 0.001 | |
| MM_refseq_to_merops | 0.004 | 0.000 | 0.004 | |
| MM_refseq_to_mgi_id | 0.06 | 0.00 | 0.06 | |
| MM_refseq_to_mgi_symbol | 0.065 | 0.000 | 0.065 | |
| MM_refseq_to_mgi_transcript_name | 0.073 | 0.000 | 0.073 | |
| MM_refseq_to_pdb | 0.018 | 0.000 | 0.018 | |
| MM_refseq_to_pfam | 0.102 | 0.003 | 0.106 | |
| MM_refseq_to_phalanx_onearray | 0.057 | 0.001 | 0.056 | |
| MM_refseq_to_protein_id | 0.409 | 0.004 | 0.413 | |
| MM_refseq_to_refseq_dna | 0.048 | 0.004 | 0.052 | |
| MM_refseq_to_refseq_peptide | 0.085 | 0.000 | 0.085 | |
| MM_refseq_to_rfam | 0.002 | 0.000 | 0.002 | |
| MM_refseq_to_rfam_gene_name | 0.002 | 0.000 | 0.001 | |
| MM_refseq_to_rfam_transcript_name | 0.001 | 0.000 | 0.001 | |
| MM_refseq_to_smart | 0.048 | 0.000 | 0.048 | |
| MM_refseq_to_tigrfam | 0.008 | 0.000 | 0.008 | |
| MM_refseq_to_ucsc | 0.068 | 0.003 | 0.072 | |
| MM_refseq_to_unigene | 0.075 | 0.007 | 0.082 | |
| MM_refseq_to_uniprot_genename | 0.064 | 0.000 | 0.064 | |
| MM_refseq_to_uniprot_genename_transcript_name | 0.003 | 0.000 | 0.003 | |
| MM_refseq_to_uniprot_sptrembl | 0.000 | 0.002 | 0.002 | |
| MM_refseq_to_uniprot_swissprot | 0.001 | 0.000 | 0.002 | |
| MM_refseq_to_uniprot_swissprot_accession | 0.002 | 0.001 | 0.002 | |
| MM_refseq_to_wikigene_id | 0.002 | 0.000 | 0.002 | |
| MM_refseq_to_wikigene_name | 0.06 | 0.00 | 0.06 | |
| TBL2 | 1.806 | 0.111 | 1.918 | |
| TBL2_HS | 1.569 | 0.188 | 1.757 | |
| TBL2_MM | 0.951 | 0.160 | 1.111 | |
| conv_id | 0.002 | 0.000 | 0.003 | |
| id_conv | 0.033 | 0.000 | 0.034 | |