| Back to Build/check report for BioC 3.15 experimental data |
|
This page was generated on 2022-02-17 08:36:53 -0500 (Thu, 17 Feb 2022).
| Hostname | OS | Arch (*) | R version | Installed pkgs |
|---|---|---|---|---|
| nebbiolo2 | Linux (Ubuntu 20.04.4 LTS) | x86_64 | R Under development (unstable) (2022-01-05 r81451) -- "Unsuffered Consequences" | 1362 |
| Click on any hostname to see more info about the system (e.g. compilers) (*) as reported by 'uname -p', except on Windows and Mac OS X | ||||
|
To the developers/maintainers of the pRolocdata package: Make sure to use the following settings in order to reproduce any error or warning you see on this page. |
| Package 283/406 | Hostname | OS / Arch | INSTALL | BUILD | CHECK | ||||||||
| pRolocdata 1.33.1 (landing page) Laurent Gatto
| nebbiolo2 | Linux (Ubuntu 20.04.4 LTS) / x86_64 | OK | OK | OK | ||||||||
| Package: pRolocdata |
| Version: 1.33.1 |
| Command: /home/biocbuild/bbs-3.15-data-experiment/R/bin/R CMD check --install=check:pRolocdata.install-out.txt --library=/home/biocbuild/bbs-3.15-data-experiment/R/library --no-vignettes --timings pRolocdata_1.33.1.tar.gz |
| StartedAt: 2022-02-17 07:46:52 -0500 (Thu, 17 Feb 2022) |
| EndedAt: 2022-02-17 07:54:07 -0500 (Thu, 17 Feb 2022) |
| EllapsedTime: 435.3 seconds |
| RetCode: 0 |
| Status: OK |
| CheckDir: pRolocdata.Rcheck |
| Warnings: 0 |
##############################################################################
##############################################################################
###
### Running command:
###
### /home/biocbuild/bbs-3.15-data-experiment/R/bin/R CMD check --install=check:pRolocdata.install-out.txt --library=/home/biocbuild/bbs-3.15-data-experiment/R/library --no-vignettes --timings pRolocdata_1.33.1.tar.gz
###
##############################################################################
##############################################################################
* using log directory ‘/home/biocbuild/bbs-3.15-data-experiment/meat/pRolocdata.Rcheck’
* using R Under development (unstable) (2022-01-05 r81451)
* using platform: x86_64-pc-linux-gnu (64-bit)
* using session charset: UTF-8
* using option ‘--no-vignettes’
* checking for file ‘pRolocdata/DESCRIPTION’ ... OK
* checking extension type ... Package
* this is package ‘pRolocdata’ version ‘1.33.1’
* package encoding: UTF-8
* checking package namespace information ... OK
* checking package dependencies ... OK
* checking if this is a source package ... OK
* checking if there is a namespace ... OK
* checking for hidden files and directories ... OK
* checking for portable file names ... OK
* checking for sufficient/correct file permissions ... OK
* checking whether package ‘pRolocdata’ can be installed ... OK
* checking installed package size ... NOTE
installed size is 587.1Mb
sub-directories of 1Mb or more:
data 180.9Mb
extdata 405.6Mb
* checking package directory ... OK
* checking DESCRIPTION meta-information ... OK
* checking top-level files ... OK
* checking for left-over files ... OK
* checking index information ... OK
* checking package subdirectories ... OK
* checking R files for non-ASCII characters ... OK
* checking R files for syntax errors ... OK
* checking whether the package can be loaded ... OK
* checking whether the package can be loaded with stated dependencies ... OK
* checking whether the package can be unloaded cleanly ... OK
* checking whether the namespace can be loaded with stated dependencies ... OK
* checking whether the namespace can be unloaded cleanly ... OK
* checking dependencies in R code ... OK
* checking S3 generic/method consistency ... OK
* checking replacement functions ... OK
* checking foreign function calls ... OK
* checking R code for possible problems ... OK
* checking Rd files ... OK
* checking Rd metadata ... OK
* checking Rd cross-references ... OK
* checking for missing documentation entries ... OK
* checking for code/documentation mismatches ... OK
* checking Rd \usage sections ... OK
* checking Rd contents ... OK
* checking for unstated dependencies in examples ... OK
* checking contents of ‘data’ directory ... OK
* checking data for non-ASCII characters ... NOTE
Note: found 22 marked UTF-8 strings
* checking data for ASCII and uncompressed saves ... OK
* checking examples ... OK
Examples with CPU (user + system) or elapsed time > 5s
user system elapsed
thpLOPIT2021 13.665 0.208 13.874
krahmer2018pcp 11.109 0.300 11.409
Shin2020 7.947 0.473 8.546
hyperLOPIT2015 5.252 0.141 5.393
* checking for unstated dependencies in ‘tests’ ... OK
* checking tests ...
Running ‘testthat.R’
OK
* checking PDF version of manual ... OK
* DONE
Status: 2 NOTEs
See
‘/home/biocbuild/bbs-3.15-data-experiment/meat/pRolocdata.Rcheck/00check.log’
for details.
pRolocdata.Rcheck/00install.out
############################################################################## ############################################################################## ### ### Running command: ### ### /home/biocbuild/bbs-3.15-data-experiment/R/bin/R CMD INSTALL pRolocdata ### ############################################################################## ############################################################################## * installing to library ‘/home/biocbuild/bbs-3.15-data-experiment/R/library’ * installing *source* package ‘pRolocdata’ ... ** using staged installation ** R ** data ** inst ** byte-compile and prepare package for lazy loading ** help *** installing help indices ** building package indices ** testing if installed package can be loaded from temporary location ** testing if installed package can be loaded from final location ** testing if installed package keeps a record of temporary installation path * DONE (pRolocdata)
pRolocdata.Rcheck/tests/testthat.Rout
R Under development (unstable) (2022-01-05 r81451) -- "Unsuffered Consequences"
Copyright (C) 2022 The R Foundation for Statistical Computing
Platform: x86_64-pc-linux-gnu (64-bit)
R is free software and comes with ABSOLUTELY NO WARRANTY.
You are welcome to redistribute it under certain conditions.
Type 'license()' or 'licence()' for distribution details.
R is a collaborative project with many contributors.
Type 'contributors()' for more information and
'citation()' on how to cite R or R packages in publications.
Type 'demo()' for some demos, 'help()' for on-line help, or
'help.start()' for an HTML browser interface to help.
Type 'q()' to quit R.
> # setting R_TESTS to empty string because of
> # https://github.com/hadley/testthat/issues/144
> # revert this when that issue in R is fixed.
> Sys.setenv("R_TESTS" = "")
> library(testthat)
> library(MSnbase)
Loading required package: BiocGenerics
Attaching package: 'BiocGenerics'
The following objects are masked from 'package:stats':
IQR, mad, sd, var, xtabs
The following objects are masked from 'package:base':
Filter, Find, Map, Position, Reduce, anyDuplicated, append,
as.data.frame, basename, cbind, colnames, dirname, do.call,
duplicated, eval, evalq, get, grep, grepl, intersect, is.unsorted,
lapply, mapply, match, mget, order, paste, pmax, pmax.int, pmin,
pmin.int, rank, rbind, rownames, sapply, setdiff, sort, table,
tapply, union, unique, unsplit, which.max, which.min
Loading required package: Biobase
Welcome to Bioconductor
Vignettes contain introductory material; view with
'browseVignettes()'. To cite Bioconductor, see
'citation("Biobase")', and for packages 'citation("pkgname")'.
Loading required package: mzR
Loading required package: Rcpp
Loading required package: S4Vectors
Loading required package: stats4
Attaching package: 'S4Vectors'
The following objects are masked from 'package:base':
I, expand.grid, unname
Loading required package: ProtGenerics
Attaching package: 'ProtGenerics'
The following object is masked from 'package:stats':
smooth
This is MSnbase version 2.21.5
Visit https://lgatto.github.io/MSnbase/ to get started.
Attaching package: 'MSnbase'
The following object is masked from 'package:base':
trimws
> library(pRolocdata)
This is pRolocdata version 1.33.1.
Use 'pRolocdata()' to list available data sets.
>
> test_check("pRolocdata")
[ FAIL 0 | WARN 0 | SKIP 0 | PASS 140 ]
>
> proc.time()
user system elapsed
47.955 2.020 49.961
pRolocdata.Rcheck/pRolocdata-Ex.timings
| name | user | system | elapsed | |
| E14TG2a | 0.045 | 0.004 | 0.049 | |
| Shin2020 | 7.947 | 0.473 | 8.546 | |
| ToxoLopit | 0.721 | 0.012 | 0.732 | |
| andreyev2010 | 1.428 | 0.056 | 1.484 | |
| andy2011 | 0.058 | 0.004 | 0.062 | |
| at_chloro | 0.090 | 0.004 | 0.095 | |
| baers2018 | 0.446 | 0.016 | 0.462 | |
| beltran2016 | 0.795 | 0.016 | 0.810 | |
| courtland2020 | 0.699 | 0.024 | 0.723 | |
| davies2018 | 0.397 | 0.004 | 0.401 | |
| dunkley2006 | 0.012 | 0.000 | 0.012 | |
| fabre2015 | 0.341 | 0.004 | 0.345 | |
| foster2006 | 0.033 | 0.000 | 0.032 | |
| groen2014 | 1.017 | 0.100 | 1.117 | |
| hall2009 | 0.222 | 0.000 | 0.222 | |
| havugimana2012 | 0.183 | 0.012 | 0.195 | |
| hirst2018 | 1.623 | 0.124 | 1.746 | |
| hyperLOPIT2015 | 5.252 | 0.141 | 5.393 | |
| hyperLOPITU2OS2017 | 2.511 | 0.036 | 2.547 | |
| itzhak2016 | 0.913 | 0.016 | 0.929 | |
| itzhak2017 | 1.974 | 0.039 | 2.016 | |
| itzhak2017dynamic | 1.371 | 0.040 | 1.411 | |
| kirkwood2013 | 0.041 | 0.005 | 0.045 | |
| kozik2020 | 0.255 | 0.003 | 0.259 | |
| krahmer2018pcp | 11.109 | 0.300 | 11.409 | |
| kristensen2012 | 0.026 | 0.000 | 0.026 | |
| lopimsSyn2 | 0.841 | 0.008 | 0.849 | |
| mulvey2015 | 4.303 | 0.224 | 4.527 | |
| nikolovski2012 | 0.37 | 0.00 | 0.37 | |
| nikolovski2014 | 0.433 | 0.012 | 0.445 | |
| orre2019 | 0.516 | 0.020 | 0.535 | |
| pRolocdata | 0.024 | 0.000 | 0.024 | |
| pRolocmetadata | 0.018 | 0.004 | 0.022 | |
| rodriguez2012r1 | 0.792 | 0.004 | 0.797 | |
| stekhoven2014 | 0.293 | 0.008 | 0.300 | |
| tan2009 | 0.016 | 0.000 | 0.017 | |
| thpLOPIT2021 | 13.665 | 0.208 | 13.874 | |
| thpTimecourse2021 | 0.140 | 0.004 | 0.144 | |
| trotter2010 | 0.409 | 0.004 | 0.413 | |
| yeast | 0.420 | 0.008 | 0.428 | |