| Back to Build/check report for BioC 3.15 experimental data |
|
This page was generated on 2022-02-17 08:36:51 -0500 (Thu, 17 Feb 2022).
| Hostname | OS | Arch (*) | R version | Installed pkgs |
|---|---|---|---|---|
| nebbiolo2 | Linux (Ubuntu 20.04.4 LTS) | x86_64 | R Under development (unstable) (2022-01-05 r81451) -- "Unsuffered Consequences" | 1362 |
| Click on any hostname to see more info about the system (e.g. compilers) (*) as reported by 'uname -p', except on Windows and Mac OS X | ||||
|
To the developers/maintainers of the ChAMPdata package: Make sure to use the following settings in order to reproduce any error or warning you see on this page. |
| Package 52/406 | Hostname | OS / Arch | INSTALL | BUILD | CHECK | ||||||||
| ChAMPdata 2.27.1 (landing page) Yuan Tian
| nebbiolo2 | Linux (Ubuntu 20.04.4 LTS) / x86_64 | OK | OK | OK | ||||||||
| Package: ChAMPdata |
| Version: 2.27.1 |
| Command: /home/biocbuild/bbs-3.15-data-experiment/R/bin/R CMD build --keep-empty-dirs --no-resave-data ChAMPdata |
| StartedAt: 2022-02-17 05:38:31 -0500 (Thu, 17 Feb 2022) |
| EndedAt: 2022-02-17 05:39:54 -0500 (Thu, 17 Feb 2022) |
| EllapsedTime: 82.6 seconds |
| RetCode: 0 |
| Status: OK |
| PackageFile: ChAMPdata_2.27.1.tar.gz |
| PackageFileSize: 667.1 MiB |
##############################################################################
##############################################################################
###
### Running command:
###
### /home/biocbuild/bbs-3.15-data-experiment/R/bin/R CMD build --keep-empty-dirs --no-resave-data ChAMPdata
###
##############################################################################
##############################################################################
* checking for file ‘ChAMPdata/DESCRIPTION’ ... OK
* preparing ‘ChAMPdata’:
* checking DESCRIPTION meta-information ... OK
* checking for LF line-endings in source and make files and shell scripts
* checking for empty or unneeded directories
* looking to see if a ‘data/datalist’ file should be added
NB: this package now depends on R (>= 3.5.0)
WARNING: Added dependency on R >= 3.5.0 because serialized objects in
serialize/load version 3 cannot be read in older versions of R.
File(s) containing such objects:
‘ChAMPdata/data/illumina450Gr.rda’
‘ChAMPdata/data/illuminaEPICGr.rda’
* building ‘ChAMPdata_2.27.1.tar.gz’