| Back to Build/check report for BioC 3.15 experimental data |
|
This page was generated on 2022-02-17 08:36:51 -0500 (Thu, 17 Feb 2022).
| Hostname | OS | Arch (*) | R version | Installed pkgs |
|---|---|---|---|---|
| nebbiolo2 | Linux (Ubuntu 20.04.4 LTS) | x86_64 | R Under development (unstable) (2022-01-05 r81451) -- "Unsuffered Consequences" | 1362 |
| Click on any hostname to see more info about the system (e.g. compilers) (*) as reported by 'uname -p', except on Windows and Mac OS X | ||||
|
To the developers/maintainers of the affydata package: Make sure to use the following settings in order to reproduce any error or warning you see on this page. |
| Package 3/406 | Hostname | OS / Arch | INSTALL | BUILD | CHECK | ||||||||
| affydata 1.43.0 (landing page) Harris Jaffee
| nebbiolo2 | Linux (Ubuntu 20.04.4 LTS) / x86_64 | OK | OK | WARNINGS | ||||||||
| Package: affydata |
| Version: 1.43.0 |
| Command: /home/biocbuild/bbs-3.15-data-experiment/R/bin/R CMD INSTALL affydata |
| StartedAt: 2022-02-17 05:01:51 -0500 (Thu, 17 Feb 2022) |
| EndedAt: 2022-02-17 05:01:55 -0500 (Thu, 17 Feb 2022) |
| EllapsedTime: 3.7 seconds |
| RetCode: 0 |
| Status: OK |
##############################################################################
##############################################################################
###
### Running command:
###
### /home/biocbuild/bbs-3.15-data-experiment/R/bin/R CMD INSTALL affydata
###
##############################################################################
##############################################################################
* installing to library ‘/home/biocbuild/bbs-3.15-data-experiment/R/library’
* installing *source* package ‘affydata’ ...
** using staged installation
** R
** data
** inst
** byte-compile and prepare package for lazy loading
** help
*** installing help indices
** building package indices
** installing vignettes
** testing if installed package can be loaded from temporary location
Package
[1,] "affydata"
LibPath
[1,] "/home/biocbuild/bbs-3.15-data-experiment/R/library/00LOCK-affydata/00new"
Item Title
[1,] "Dilution" "AffyBatch instance Dilution"
** testing if installed package can be loaded from final location
Package LibPath Item
[1,] "affydata" "/home/biocbuild/bbs-3.15-data-experiment/R/library" "Dilution"
Title
[1,] "AffyBatch instance Dilution"
** testing if installed package keeps a record of temporary installation path
* DONE (affydata)