| Back to Build/check report for BioC 3.15 experimental data |
|
This page was generated on 2022-02-17 08:36:52 -0500 (Thu, 17 Feb 2022).
| Hostname | OS | Arch (*) | R version | Installed pkgs |
|---|---|---|---|---|
| nebbiolo2 | Linux (Ubuntu 20.04.4 LTS) | x86_64 | R Under development (unstable) (2022-01-05 r81451) -- "Unsuffered Consequences" | 1362 |
| Click on any hostname to see more info about the system (e.g. compilers) (*) as reported by 'uname -p', except on Windows and Mac OS X | ||||
|
To the developers/maintainers of the curatedCRCData package: Make sure to use the following settings in order to reproduce any error or warning you see on this page. |
| Package 81/406 | Hostname | OS / Arch | INSTALL | BUILD | CHECK | ||||||||
| curatedCRCData 2.27.0 (landing page) Princy Parsana
| nebbiolo2 | Linux (Ubuntu 20.04.4 LTS) / x86_64 | OK | OK | OK | ||||||||
| Package: curatedCRCData |
| Version: 2.27.0 |
| Command: /home/biocbuild/bbs-3.15-data-experiment/R/bin/R CMD check --install=check:curatedCRCData.install-out.txt --library=/home/biocbuild/bbs-3.15-data-experiment/R/library --no-vignettes --timings curatedCRCData_2.27.0.tar.gz |
| StartedAt: 2022-02-17 07:14:20 -0500 (Thu, 17 Feb 2022) |
| EndedAt: 2022-02-17 07:18:01 -0500 (Thu, 17 Feb 2022) |
| EllapsedTime: 220.9 seconds |
| RetCode: 0 |
| Status: OK |
| CheckDir: curatedCRCData.Rcheck |
| Warnings: 0 |
##############################################################################
##############################################################################
###
### Running command:
###
### /home/biocbuild/bbs-3.15-data-experiment/R/bin/R CMD check --install=check:curatedCRCData.install-out.txt --library=/home/biocbuild/bbs-3.15-data-experiment/R/library --no-vignettes --timings curatedCRCData_2.27.0.tar.gz
###
##############################################################################
##############################################################################
* using log directory ‘/home/biocbuild/bbs-3.15-data-experiment/meat/curatedCRCData.Rcheck’
* using R Under development (unstable) (2022-01-05 r81451)
* using platform: x86_64-pc-linux-gnu (64-bit)
* using session charset: UTF-8
* using option ‘--no-vignettes’
* checking for file ‘curatedCRCData/DESCRIPTION’ ... OK
* checking extension type ... Package
* this is package ‘curatedCRCData’ version ‘2.27.0’
* checking package namespace information ... OK
* checking package dependencies ... OK
* checking if this is a source package ... OK
* checking if there is a namespace ... OK
* checking for hidden files and directories ... OK
* checking for portable file names ... OK
* checking for sufficient/correct file permissions ... OK
* checking whether package ‘curatedCRCData’ can be installed ... OK
* checking installed package size ... NOTE
installed size is 399.2Mb
sub-directories of 1Mb or more:
data 398.9Mb
* checking package directory ... OK
* checking ‘build’ directory ... OK
* checking DESCRIPTION meta-information ... OK
* checking top-level files ... OK
* checking for left-over files ... OK
* checking index information ... OK
* checking package subdirectories ... OK
* checking whether the package can be loaded ... OK
* checking whether the package can be loaded with stated dependencies ... OK
* checking whether the package can be unloaded cleanly ... OK
* checking whether the namespace can be loaded with stated dependencies ... OK
* checking whether the namespace can be unloaded cleanly ... OK
* checking Rd files ... OK
* checking Rd metadata ... OK
* checking Rd cross-references ... OK
* checking for missing documentation entries ... OK
* checking for code/documentation mismatches ... OK
* checking Rd \usage sections ... OK
* checking Rd contents ... OK
* checking for unstated dependencies in examples ... OK
* checking contents of ‘data’ directory ... OK
* checking data for non-ASCII characters ... OK
* checking data for ASCII and uncompressed saves ... OK
* checking files in ‘vignettes’ ... OK
* checking examples ... OK
* checking for unstated dependencies in vignettes ... OK
* checking package vignettes in ‘inst/doc’ ... OK
* checking running R code from vignettes ... SKIPPED
* checking re-building of vignette outputs ... SKIPPED
* checking PDF version of manual ... OK
* DONE
Status: 1 NOTE
See
‘/home/biocbuild/bbs-3.15-data-experiment/meat/curatedCRCData.Rcheck/00check.log’
for details.
curatedCRCData.Rcheck/00install.out
############################################################################## ############################################################################## ### ### Running command: ### ### /home/biocbuild/bbs-3.15-data-experiment/R/bin/R CMD INSTALL curatedCRCData ### ############################################################################## ############################################################################## * installing to library ‘/home/biocbuild/bbs-3.15-data-experiment/R/library’ * installing *source* package ‘curatedCRCData’ ... ** using staged installation ** data ** inst ** help *** installing help indices ** building package indices ** installing vignettes ** testing if installed package can be loaded from temporary location ** testing if installed package can be loaded from final location ** testing if installed package keeps a record of temporary installation path * DONE (curatedCRCData)
curatedCRCData.Rcheck/curatedCRCData-Ex.timings
| name | user | system | elapsed | |
| curatedCRCData-package | 0.040 | 0.008 | 0.050 | |