Back to Build/check report for BioC 3.23:   simplified   long
ABCDEFGHIJKLMNOPQR[S]TUVWXYZ

This page was generated on 2025-11-05 11:32 -0500 (Wed, 05 Nov 2025).

HostnameOSArch (*)R versionInstalled pkgs
nebbiolo1Linux (Ubuntu 24.04.3 LTS)x86_64R Under development (unstable) (2025-10-20 r88955) -- "Unsuffered Consequences" 4818
Click on any hostname to see more info about the system (e.g. compilers)      (*) as reported by 'uname -p', except on Windows and Mac OS X

All results for package SummarizedExperiment


To the developers/maintainers of the SummarizedExperiment package:
- Allow up to 24 hours (and sometimes 48 hours) for your latest push to git@git.bioconductor.org:packages/SummarizedExperiment.git to reflect on this report. See Troubleshooting Build Report for more information.
- Use the following Renviron settings to reproduce errors and warnings.
- If 'R CMD check' started to fail recently on the Linux builder(s) over a missing dependency, add the missing dependency to 'Suggests:' in your DESCRIPTION file. See Renviron.bioc for more information.

raw results

Package 2117/2323HostnameOS / ArchINSTALLBUILDCHECKBUILD BIN
SummarizedExperiment 1.41.0  (landing page)
Hervé Pagès
Snapshot Date: 2025-11-04 13:40 -0500 (Tue, 04 Nov 2025)
git_url: https://git.bioconductor.org/packages/SummarizedExperiment
git_branch: devel
git_last_commit: 7a9787c
git_last_commit_date: 2025-10-29 14:49:30 -0500 (Wed, 29 Oct 2025)
nebbiolo1Linux (Ubuntu 24.04.3 LTS) / x86_64  OK    OK    OK  UNNEEDED, same version is already published



Results for Bioconductor software packages that depend directly on package SummarizedExperiment

QUICK STATSOS / ArchINSTALLBUILDCHECKBUILD BIN
nebbiolo1Linux (Ubuntu 24.04.3 LTS) / x86_64
013625
035603
02168514
Package 1/638HostnameOS / ArchINSTALLBUILDCHECKBUILD BIN
ADAM 1.27.0  (landing page)
Jose Luiz Rybarczyk Filho
git_last_commit: 75224e2
git_last_commit_date: 2025-10-29 10:48:58 -0500
nebbiolo1Linux (Ubuntu 24.04.3 LTS) / x86_64  OK    OK    OK  UNNEEDED, same version is already published
Package 2/638HostnameOS / ArchINSTALLBUILDCHECKBUILD BIN
ADImpute 1.21.0  (landing page)
Ana Carolina Leote
git_last_commit: 8a9fa73
git_last_commit_date: 2025-10-29 11:04:05 -0500
nebbiolo1Linux (Ubuntu 24.04.3 LTS) / x86_64  OK    OK    WARNINGS  UNNEEDED, same version is already published
Package 3/638HostnameOS / ArchINSTALLBUILDCHECKBUILD BIN
AffiXcan 1.29.0  (landing page)
Alessandro Lussana
git_last_commit: a4562bc
git_last_commit_date: 2025-10-29 10:47:57 -0500
nebbiolo1Linux (Ubuntu 24.04.3 LTS) / x86_64  OK    OK    OK  UNNEEDED, same version is already published
Package 4/638HostnameOS / ArchINSTALLBUILDCHECKBUILD BIN
aggregateBioVar 1.21.0  (landing page)
Jason Ratcliff
git_last_commit: b0e2560
git_last_commit_date: 2025-10-29 11:02:45 -0500
nebbiolo1Linux (Ubuntu 24.04.3 LTS) / x86_64  OK    OK    OK  UNNEEDED, same version is already published
Package 5/638HostnameOS / ArchINSTALLBUILDCHECKBUILD BIN
airpart 1.19.0  (landing page)
Wancen Mu
git_last_commit: b69681a
git_last_commit_date: 2025-10-29 11:07:36 -0500
nebbiolo1Linux (Ubuntu 24.04.3 LTS) / x86_64  OK    OK    OK  UNNEEDED, same version is already published
Package 6/638HostnameOS / ArchINSTALLBUILDCHECKBUILD BIN
alabaster.se 1.11.0  (landing page)
Aaron Lun
git_last_commit: 6b3a91e
git_last_commit_date: 2025-10-29 11:21:17 -0500
nebbiolo1Linux (Ubuntu 24.04.3 LTS) / x86_64  OK    OK    OK  UNNEEDED, same version is already published
Package 7/638HostnameOS / ArchINSTALLBUILDCHECKBUILD BIN
alabaster.sfe 1.3.0  (landing page)
Lambda Moses
git_last_commit: a71e5d5
git_last_commit_date: 2025-10-29 11:35:08 -0500
nebbiolo1Linux (Ubuntu 24.04.3 LTS) / x86_64  OK    OK    OK  NO, package depends on 'SpatialFeatureExperiment' which is not available
Package 8/638HostnameOS / ArchINSTALLBUILDCHECKBUILD BIN
ALDEx2 1.43.0  (landing page)
Greg Gloor
git_last_commit: 298f21d
git_last_commit_date: 2025-10-29 10:21:46 -0500
nebbiolo1Linux (Ubuntu 24.04.3 LTS) / x86_64  OK    OK    OK  UNNEEDED, same version is already published
Package 9/638HostnameOS / ArchINSTALLBUILDCHECKBUILD BIN
AllelicImbalance 1.49.0  (landing page)
Jesper R Gadin
git_last_commit: d78bb64
git_last_commit_date: 2025-10-29 10:16:36 -0500
nebbiolo1Linux (Ubuntu 24.04.3 LTS) / x86_64  OK    OK    OK  YES
Package 10/638HostnameOS / ArchINSTALLBUILDCHECKBUILD BIN
anansi 1.1.0  (landing page)
Thomaz Bastiaanssen
git_last_commit: d5ff74a
git_last_commit_date: 2025-10-29 11:38:37 -0500
nebbiolo1Linux (Ubuntu 24.04.3 LTS) / x86_64  OK    OK    OK  UNNEEDED, same version is already published
Package 11/638HostnameOS / ArchINSTALLBUILDCHECKBUILD BIN
anglemania 1.1.0  (landing page)
Aaron Kollotzek
git_last_commit: fee34a3
git_last_commit_date: 2025-10-29 11:38:09 -0500
nebbiolo1Linux (Ubuntu 24.04.3 LTS) / x86_64  OK    OK    OK  UNNEEDED, same version is already published
Package 12/638HostnameOS / ArchINSTALLBUILDCHECKBUILD BIN
animalcules 1.27.0  (landing page)
Jessica McClintock
git_last_commit: 30597c8
git_last_commit_date: 2025-10-29 10:52:04 -0500
nebbiolo1Linux (Ubuntu 24.04.3 LTS) / x86_64  OK    OK    OK  UNNEEDED, same version is already published
Package 13/638HostnameOS / ArchINSTALLBUILDCHECKBUILD BIN
anota2seq 1.33.0  (landing page)
Christian Oertlin , Ola Larsson
git_last_commit: 8d76555
git_last_commit_date: 2025-10-29 10:41:23 -0500
nebbiolo1Linux (Ubuntu 24.04.3 LTS) / x86_64  OK    OK    WARNINGS  UNNEEDED, same version is already published
Package 14/638HostnameOS / ArchINSTALLBUILDCHECKBUILD BIN
APAlyzer 1.25.0  (landing page)
Ruijia Wang
git_last_commit: 5b343c9
git_last_commit_date: 2025-10-29 10:53:34 -0500
nebbiolo1Linux (Ubuntu 24.04.3 LTS) / x86_64  OK    OK    ERROR  
Package 15/638HostnameOS / ArchINSTALLBUILDCHECKBUILD BIN
apeglm 1.33.0  (landing page)
Anqi Zhu
git_last_commit: 3ff43e2
git_last_commit_date: 2025-10-29 10:40:36 -0500
nebbiolo1Linux (Ubuntu 24.04.3 LTS) / x86_64  OK    OK    OK  UNNEEDED, same version is already published
Package 16/638HostnameOS / ArchINSTALLBUILDCHECKBUILD BIN
APL 1.15.0  (landing page)
Clemens Kohl
git_last_commit: daf6edd
git_last_commit_date: 2025-10-29 11:17:02 -0500
nebbiolo1Linux (Ubuntu 24.04.3 LTS) / x86_64  OK    OK    OK  UNNEEDED, same version is already published
Package 17/638HostnameOS / ArchINSTALLBUILDCHECKBUILD BIN
appreci8R 1.29.0  (landing page)
Sarah Sandmann
git_last_commit: bb148fd
git_last_commit_date: 2025-10-29 10:46:18 -0500
nebbiolo1Linux (Ubuntu 24.04.3 LTS) / x86_64  OK    OK    OK  YES
Package 18/638HostnameOS / ArchINSTALLBUILDCHECKBUILD BIN
ASICS 2.27.0  (landing page)
Gaëlle Lefort
git_last_commit: 98b3e7f
git_last_commit_date: 2025-10-29 10:44:17 -0500
nebbiolo1Linux (Ubuntu 24.04.3 LTS) / x86_64  OK    OK    WARNINGS  YES
Package 19/638HostnameOS / ArchINSTALLBUILDCHECKBUILD BIN
ASURAT 1.15.0  (landing page)
Keita Iida
git_last_commit: 8ae6e6f
git_last_commit_date: 2025-10-29 11:15:46 -0500
nebbiolo1Linux (Ubuntu 24.04.3 LTS) / x86_64  OK    OK    OK  UNNEEDED, same version is already published
Package 20/638HostnameOS / ArchINSTALLBUILDCHECKBUILD BIN
ATACseqTFEA 1.13.0  (landing page)
Jianhong Ou
git_last_commit: e0054ea
git_last_commit_date: 2025-10-29 11:18:13 -0500
nebbiolo1Linux (Ubuntu 24.04.3 LTS) / x86_64  OK    ERROR  skipped
Package 21/638HostnameOS / ArchINSTALLBUILDCHECKBUILD BIN
atena 1.17.0  (landing page)
Robert Castelo
git_last_commit: 2209be2
git_last_commit_date: 2025-10-29 11:12:14 -0500
nebbiolo1Linux (Ubuntu 24.04.3 LTS) / x86_64  OK    OK    OK  YES
Package 22/638HostnameOS / ArchINSTALLBUILDCHECKBUILD BIN
AUCell 1.33.0  (landing page)
Gert Hulselmans
git_last_commit: cf45038
git_last_commit_date: 2025-10-29 10:40:49 -0500
nebbiolo1Linux (Ubuntu 24.04.3 LTS) / x86_64  OK    OK    OK  UNNEEDED, same version is already published
Package 23/638HostnameOS / ArchINSTALLBUILDCHECKBUILD BIN
autonomics 1.19.0  (landing page)
Aditya Bhagwat
git_last_commit: 9fc1276
git_last_commit_date: 2025-10-29 11:06:51 -0500
nebbiolo1Linux (Ubuntu 24.04.3 LTS) / x86_64  OK    OK    OK  UNNEEDED, same version is already published
Package 24/638HostnameOS / ArchINSTALLBUILDCHECKBUILD BIN
awst 1.19.0  (landing page)
Davide Risso
git_last_commit: 7e33cde
git_last_commit_date: 2025-10-29 11:08:47 -0500
nebbiolo1Linux (Ubuntu 24.04.3 LTS) / x86_64  OK    OK    OK  UNNEEDED, same version is already published
Package 25/638HostnameOS / ArchINSTALLBUILDCHECKBUILD BIN
bambu 3.13.0  (landing page)
Ying Chen
git_last_commit: a438673
git_last_commit_date: 2025-10-29 11:03:46 -0500
nebbiolo1Linux (Ubuntu 24.04.3 LTS) / x86_64  OK    OK    OK  YES
Package 26/638HostnameOS / ArchINSTALLBUILDCHECKBUILD BIN
Banksy 1.7.0  (landing page)
Joseph Lee
git_last_commit: 4bdc545
git_last_commit_date: 2025-10-29 11:27:15 -0500
nebbiolo1Linux (Ubuntu 24.04.3 LTS) / x86_64  OK    OK    OK  UNNEEDED, same version is already published
Package 27/638HostnameOS / ArchINSTALLBUILDCHECKBUILD BIN
barbieQ 1.3.0  (landing page)
Liyang Fei
git_last_commit: 7a0202b
git_last_commit_date: 2025-10-29 11:36:03 -0500
nebbiolo1Linux (Ubuntu 24.04.3 LTS) / x86_64  OK    OK    OK  UNNEEDED, same version is already published
Package 28/638HostnameOS / ArchINSTALLBUILDCHECKBUILD BIN
barcodetrackR 1.19.0  (landing page)
Diego Alexander Espinoza
git_last_commit: 2a19bcf
git_last_commit_date: 2025-10-29 11:07:41 -0500
nebbiolo1Linux (Ubuntu 24.04.3 LTS) / x86_64  OK    OK    ERROR  
Package 29/638HostnameOS / ArchINSTALLBUILDCHECKBUILD BIN
BASiCS 2.23.0  (landing page)
Catalina Vallejos
git_last_commit: c192aba
git_last_commit_date: 2025-10-29 10:41:03 -0500
nebbiolo1Linux (Ubuntu 24.04.3 LTS) / x86_64  OK    OK    WARNINGS  UNNEEDED, same version is already published
Package 30/638HostnameOS / ArchINSTALLBUILDCHECKBUILD BIN
BASiCStan 1.13.0  (landing page)
Alan O'Callaghan
git_last_commit: a442827
git_last_commit_date: 2025-10-29 11:18:18 -0500
nebbiolo1Linux (Ubuntu 24.04.3 LTS) / x86_64  OK    OK    OK  UNNEEDED, same version is already published
Package 31/638HostnameOS / ArchINSTALLBUILDCHECKBUILD BIN
batchCorr 1.1.0  (landing page)
Anton Ribbenstedt
git_last_commit: e89ddb8
git_last_commit_date: 2025-10-29 11:37:00 -0500
nebbiolo1Linux (Ubuntu 24.04.3 LTS) / x86_64  OK    OK    OK  UNNEEDED, same version is already published
Package 32/638HostnameOS / ArchINSTALLBUILDCHECKBUILD BIN
batchelor 1.27.0  (landing page)
Aaron Lun
git_last_commit: bb31e4b
git_last_commit_date: 2025-10-29 10:51:04 -0500
nebbiolo1Linux (Ubuntu 24.04.3 LTS) / x86_64  OK    OK    OK  UNNEEDED, same version is already published
Package 33/638HostnameOS / ArchINSTALLBUILDCHECKBUILD BIN
BatchQC 2.7.0  (landing page)
Jessica Anderson
git_last_commit: bfa8664
git_last_commit_date: 2025-10-29 10:31:36 -0500
nebbiolo1Linux (Ubuntu 24.04.3 LTS) / x86_64  OK    OK    OK  UNNEEDED, same version is already published
Package 34/638HostnameOS / ArchINSTALLBUILDCHECKBUILD BIN
BatchSVG 1.3.0  (landing page)
Kinnary Shah
git_last_commit: 6a1beca
git_last_commit_date: 2025-10-29 11:36:00 -0500
nebbiolo1Linux (Ubuntu 24.04.3 LTS) / x86_64  OK    OK    OK  UNNEEDED, same version is already published
Package 35/638HostnameOS / ArchINSTALLBUILDCHECKBUILD BIN
BayesSpace 1.21.0  (landing page)
Senbai Kang
git_last_commit: 47c1795
git_last_commit_date: 2025-10-29 11:03:05 -0500
nebbiolo1Linux (Ubuntu 24.04.3 LTS) / x86_64  OK    OK    OK  UNNEEDED, same version is already published
Package 36/638HostnameOS / ArchINSTALLBUILDCHECKBUILD BIN
bayNorm 1.29.0  (landing page)
Wenhao Tang
git_last_commit: afe0e44
git_last_commit_date: 2025-10-29 10:48:07 -0500
nebbiolo1Linux (Ubuntu 24.04.3 LTS) / x86_64  OK    OK    OK  UNNEEDED, same version is already published
Package 37/638HostnameOS / ArchINSTALLBUILDCHECKBUILD BIN
BBCAnalyzer 1.41.0  (landing page)
Sarah Sandmann
git_last_commit: 7637b40
git_last_commit_date: 2025-10-29 10:27:19 -0500
nebbiolo1Linux (Ubuntu 24.04.3 LTS) / x86_64  OK    OK    OK  YES
Package 38/638HostnameOS / ArchINSTALLBUILDCHECKBUILD BIN
beer 1.15.0  (landing page)
Athena Chen
git_last_commit: 4749fe5
git_last_commit_date: 2025-10-29 11:14:55 -0500
nebbiolo1Linux (Ubuntu 24.04.3 LTS) / x86_64  OK    OK    OK  UNNEEDED, same version is already published
Package 39/638HostnameOS / ArchINSTALLBUILDCHECKBUILD BIN
benchdamic 1.17.0  (landing page)
Matteo Calgaro
git_last_commit: 316209e
git_last_commit_date: 2025-10-29 11:13:17 -0500
nebbiolo1Linux (Ubuntu 24.04.3 LTS) / x86_64  OK    OK    OK  NO, package depends on 'Maaslin2' which is not available
Package 40/638HostnameOS / ArchINSTALLBUILDCHECKBUILD BIN
BERT 1.7.0  (landing page)
Yannis Schumann
git_last_commit: 2e49878
git_last_commit_date: 2025-10-29 11:26:54 -0500
nebbiolo1Linux (Ubuntu 24.04.3 LTS) / x86_64  OK    OK    OK  UNNEEDED, same version is already published
Package 41/638HostnameOS / ArchINSTALLBUILDCHECKBUILD BIN
betaHMM 1.7.0  (landing page)
Koyel Majumdar
git_last_commit: 3efe81d
git_last_commit_date: 2025-10-29 11:27:07 -0500
nebbiolo1Linux (Ubuntu 24.04.3 LTS) / x86_64  OK    OK    OK  UNNEEDED, same version is already published
Package 42/638HostnameOS / ArchINSTALLBUILDCHECKBUILD BIN
bettr 1.7.0  (landing page)
Charlotte Soneson
git_last_commit: b97c673
git_last_commit_date: 2025-10-29 11:28:28 -0500
nebbiolo1Linux (Ubuntu 24.04.3 LTS) / x86_64  OK    OK    OK  UNNEEDED, same version is already published
Package 43/638HostnameOS / ArchINSTALLBUILDCHECKBUILD BIN
BiocSklearn 1.33.0  (landing page)
Vince Carey
git_last_commit: c351496
git_last_commit_date: 2025-10-29 10:39:55 -0500
nebbiolo1Linux (Ubuntu 24.04.3 LTS) / x86_64  OK    OK    OK  UNNEEDED, same version is already published
Package 44/638HostnameOS / ArchINSTALLBUILDCHECKBUILD BIN
BioGA 1.5.0  (landing page)
Dany Mukesha
git_last_commit: 7c8e9a3
git_last_commit_date: 2025-10-29 11:30:53 -0500
nebbiolo1Linux (Ubuntu 24.04.3 LTS) / x86_64  OK    OK    OK  UNNEEDED, same version is already published
Package 45/638HostnameOS / ArchINSTALLBUILDCHECKBUILD BIN
BioNERO 1.19.0  (landing page)
Fabricio Almeida-Silva
git_last_commit: 632a85b
git_last_commit_date: 2025-10-29 11:07:25 -0500
nebbiolo1Linux (Ubuntu 24.04.3 LTS) / x86_64  OK    OK    OK  UNNEEDED, same version is already published
Package 46/638HostnameOS / ArchINSTALLBUILDCHECKBUILD BIN
biosigner 1.39.0  (landing page)
Etienne A. Thevenot
git_last_commit: 65312f0
git_last_commit_date: 2025-10-29 10:30:29 -0500
nebbiolo1Linux (Ubuntu 24.04.3 LTS) / x86_64  OK    OK    OK  YES
Package 47/638HostnameOS / ArchINSTALLBUILDCHECKBUILD BIN
biotmle 1.35.0  (landing page)
Nima Hejazi
git_last_commit: 5690334
git_last_commit_date: 2025-10-29 10:38:19 -0500
nebbiolo1Linux (Ubuntu 24.04.3 LTS) / x86_64  OK    OK    OK  UNNEEDED, same version is already published
Package 48/638HostnameOS / ArchINSTALLBUILDCHECKBUILD BIN
biovizBase 1.59.0  (landing page)
Michael Lawrence
git_last_commit: 7895cbf
git_last_commit_date: 2025-10-29 10:09:04 -0500
nebbiolo1Linux (Ubuntu 24.04.3 LTS) / x86_64  OK    OK    WARNINGS  YES
Package 49/638HostnameOS / ArchINSTALLBUILDCHECKBUILD BIN
biscuiteer 1.25.0  (landing page)
Jacob Morrison
git_last_commit: c74f865
git_last_commit_date: 2025-10-29 10:55:16 -0500
nebbiolo1Linux (Ubuntu 24.04.3 LTS) / x86_64  OK    OK    WARNINGS  NO, package depends on 'dmrseq' which is not available
Package 50/638HostnameOS / ArchINSTALLBUILDCHECKBUILD BIN
BiSeq 1.51.0  (landing page)
Katja Hebestreit
git_last_commit: 6c33e6b
git_last_commit_date: 2025-10-29 10:14:44 -0500
nebbiolo1Linux (Ubuntu 24.04.3 LTS) / x86_64  OK    OK    OK  YES
Package 51/638HostnameOS / ArchINSTALLBUILDCHECKBUILD BIN
blacksheepr 1.25.0  (landing page)
RugglesLab
git_last_commit: 0a6ceb6
git_last_commit_date: 2025-10-29 10:54:55 -0500
nebbiolo1Linux (Ubuntu 24.04.3 LTS) / x86_64  OK    OK    OK  UNNEEDED, same version is already published
Package 52/638HostnameOS / ArchINSTALLBUILDCHECKBUILD BIN
blase 1.1.0  (landing page)
Andrew McCluskey
git_last_commit: 7118ee1
git_last_commit_date: 2025-10-29 11:38:12 -0500
nebbiolo1Linux (Ubuntu 24.04.3 LTS) / x86_64  OK    OK    OK  UNNEEDED, same version is already published
Package 53/638HostnameOS / ArchINSTALLBUILDCHECKBUILD BIN
BloodGen3Module 1.19.0  (landing page)
Darawan Rinchai
git_last_commit: 825e116
git_last_commit_date: 2025-10-29 11:09:33 -0500
nebbiolo1Linux (Ubuntu 24.04.3 LTS) / x86_64  OK    OK    WARNINGS  UNNEEDED, same version is already published
Package 54/638HostnameOS / ArchINSTALLBUILDCHECKBUILD BIN
bnbc 1.33.0  (landing page)
Kipper Fletez-Brant
git_last_commit: dc2adb8
git_last_commit_date: 2025-10-29 10:41:29 -0500
nebbiolo1Linux (Ubuntu 24.04.3 LTS) / x86_64  OK    OK    OK  UNNEEDED, same version is already published
Package 55/638HostnameOS / ArchINSTALLBUILDCHECKBUILD BIN
BreastSubtypeR 1.3.0  (landing page)
Qiao Yang
git_last_commit: 208bd46
git_last_commit_date: 2025-10-29 11:36:09 -0500
nebbiolo1Linux (Ubuntu 24.04.3 LTS) / x86_64  OK    OK    OK  UNNEEDED, same version is already published
Package 56/638HostnameOS / ArchINSTALLBUILDCHECKBUILD BIN
broadSeq 1.5.0  (landing page)
Rishi Das Roy
git_last_commit: f8280c0
git_last_commit_date: 2025-10-29 11:30:34 -0500
nebbiolo1Linux (Ubuntu 24.04.3 LTS) / x86_64  OK    OK    WARNINGS  NO, package depends on 'DELocal' which is not available
Package 57/638HostnameOS / ArchINSTALLBUILDCHECKBUILD BIN
bsseq 1.47.1  (landing page)
Kasper Daniel Hansen
git_last_commit: 46b4295
git_last_commit_date: 2025-10-31 11:03:21 -0500
nebbiolo1Linux (Ubuntu 24.04.3 LTS) / x86_64  OK    OK    WARNINGS  YES
Package 58/638HostnameOS / ArchINSTALLBUILDCHECKBUILD BIN
BulkSignalR 1.3.0  (landing page)
Jean-Philippe Villemin
git_last_commit: 9cefe87
git_last_commit_date: 2025-10-29 11:33:26 -0500
nebbiolo1Linux (Ubuntu 24.04.3 LTS) / x86_64  OK    OK    OK  UNNEEDED, same version is already published
Package 59/638HostnameOS / ArchINSTALLBUILDCHECKBUILD BIN
BUMHMM 1.35.0  (landing page)
Alina Selega
git_last_commit: 468b3c7
git_last_commit_date: 2025-10-29 10:35:55 -0500
nebbiolo1Linux (Ubuntu 24.04.3 LTS) / x86_64  OK    OK    OK  UNNEEDED, same version is already published
Package 60/638HostnameOS / ArchINSTALLBUILDCHECKBUILD BIN
BUScorrect 1.29.0  (landing page)
Xiangyu Luo
git_last_commit: f70aa1c
git_last_commit_date: 2025-10-29 10:46:58 -0500
nebbiolo1Linux (Ubuntu 24.04.3 LTS) / x86_64  OK    OK    OK  UNNEEDED, same version is already published
Package 61/638HostnameOS / ArchINSTALLBUILDCHECKBUILD BIN
BUSseq 1.17.0  (landing page)
Fangda Song
git_last_commit: effd843
git_last_commit_date: 2025-10-29 11:10:22 -0500
nebbiolo1Linux (Ubuntu 24.04.3 LTS) / x86_64  OK    OK    OK  UNNEEDED, same version is already published
Package 62/638HostnameOS / ArchINSTALLBUILDCHECKBUILD BIN
CaDrA 1.9.0  (landing page)
Reina Chau
git_last_commit: 210ae5d
git_last_commit_date: 2025-10-29 11:23:54 -0500
nebbiolo1Linux (Ubuntu 24.04.3 LTS) / x86_64  OK    OK    OK  UNNEEDED, same version is already published
Package 63/638HostnameOS / ArchINSTALLBUILDCHECKBUILD BIN
CAEN 1.19.0  (landing page)
Zhou Yan
git_last_commit: af0f850
git_last_commit_date: 2025-10-29 11:05:20 -0500
nebbiolo1Linux (Ubuntu 24.04.3 LTS) / x86_64  OK    OK    OK  UNNEEDED, same version is already published
Package 64/638HostnameOS / ArchINSTALLBUILDCHECKBUILD BIN
CAGEfightR 1.31.0  (landing page)
Malte Thodberg
git_last_commit: c45462c
git_last_commit_date: 2025-10-29 10:45:17 -0500
nebbiolo1Linux (Ubuntu 24.04.3 LTS) / x86_64  OK    OK    OK  YES
Package 65/638HostnameOS / ArchINSTALLBUILDCHECKBUILD BIN
CAGEr 2.17.0  (landing page)
Charles Plessy
git_last_commit: 0a93a41
git_last_commit_date: 2025-10-29 10:13:45 -0500
nebbiolo1Linux (Ubuntu 24.04.3 LTS) / x86_64  OK    OK    OK  YES
Package 66/638HostnameOS / ArchINSTALLBUILDCHECKBUILD BIN
CalibraCurve 1.1.0  (landing page)
Karin Schork
git_last_commit: 251148a
git_last_commit_date: 2025-10-29 11:38:43 -0500
nebbiolo1Linux (Ubuntu 24.04.3 LTS) / x86_64  OK    OK    OK  UNNEEDED, same version is already published
Package 67/638HostnameOS / ArchINSTALLBUILDCHECKBUILD BIN
CARDspa 1.3.0  (landing page)
Jing Fu
git_last_commit: dbb2600
git_last_commit_date: 2025-10-29 11:34:40 -0500
nebbiolo1Linux (Ubuntu 24.04.3 LTS) / x86_64  OK    OK    OK  UNNEEDED, same version is already published
Package 68/638HostnameOS / ArchINSTALLBUILDCHECKBUILD BIN
CATALYST 1.35.0  (landing page)
Helena L. Crowell
git_last_commit: 2e03f66
git_last_commit_date: 2025-10-29 10:38:04 -0500
nebbiolo1Linux (Ubuntu 24.04.3 LTS) / x86_64  OK    OK    OK  UNNEEDED, same version is already published
Package 69/638HostnameOS / ArchINSTALLBUILDCHECKBUILD BIN
CatsCradle 1.5.1  (landing page)
Michael Shapiro
git_last_commit: 032f58b
git_last_commit_date: 2025-11-04 07:21:19 -0500
nebbiolo1Linux (Ubuntu 24.04.3 LTS) / x86_64  OK    OK    OK  YES
Package 70/638HostnameOS / ArchINSTALLBUILDCHECKBUILD BIN
cBioPortalData 2.23.0  (landing page)
Marcel Ramos
git_last_commit: eaed633
git_last_commit_date: 2025-10-29 10:59:37 -0500
nebbiolo1Linux (Ubuntu 24.04.3 LTS) / x86_64  ERROR    ERROR  skipped
Package 71/638HostnameOS / ArchINSTALLBUILDCHECKBUILD BIN
ccfindR 1.31.0  (landing page)
Jun Woo
git_last_commit: ee2b32c
git_last_commit_date: 2025-10-29 10:45:06 -0500
nebbiolo1Linux (Ubuntu 24.04.3 LTS) / x86_64  OK    OK    OK  UNNEEDED, same version is already published
Package 72/638HostnameOS / ArchINSTALLBUILDCHECKBUILD BIN
ccImpute 1.13.0  (landing page)
Marcin Malec
git_last_commit: 076b708
git_last_commit_date: 2025-10-29 11:19:37 -0500
nebbiolo1Linux (Ubuntu 24.04.3 LTS) / x86_64  OK    OK    OK  UNNEEDED, same version is already published
Package 73/638HostnameOS / ArchINSTALLBUILDCHECKBUILD BIN
CDI 1.9.0  (landing page)
Jiyuan Fang
git_last_commit: e2bde79
git_last_commit_date: 2025-10-29 11:24:10 -0500
nebbiolo1Linux (Ubuntu 24.04.3 LTS) / x86_64  OK    OK    OK  UNNEEDED, same version is already published
Package 74/638HostnameOS / ArchINSTALLBUILDCHECKBUILD BIN
celaref 1.29.0  (landing page)
Sarah Williams
git_last_commit: 20dbb3d
git_last_commit_date: 2025-10-29 10:46:48 -0500
nebbiolo1Linux (Ubuntu 24.04.3 LTS) / x86_64  OK    OK    OK  UNNEEDED, same version is already published
Package 75/638HostnameOS / ArchINSTALLBUILDCHECKBUILD BIN
celda 1.27.0  (landing page)
Joshua Campbell
git_last_commit: 9bcee6f
git_last_commit_date: 2025-10-29 10:52:12 -0500
nebbiolo1Linux (Ubuntu 24.04.3 LTS) / x86_64  OK    OK    OK  YES
Package 76/638HostnameOS / ArchINSTALLBUILDCHECKBUILD BIN
CelliD 1.19.0  (landing page)
Akira Cortal
git_last_commit: bfb224e
git_last_commit_date: 2025-10-29 11:07:10 -0500
nebbiolo1Linux (Ubuntu 24.04.3 LTS) / x86_64  OK    OK    WARNINGS  UNNEEDED, same version is already published
Package 77/638HostnameOS / ArchINSTALLBUILDCHECKBUILD BIN
CellMixS 1.27.0  (landing page)
Almut Lütge
git_last_commit: 4692bc3
git_last_commit_date: 2025-10-29 10:51:12 -0500
nebbiolo1Linux (Ubuntu 24.04.3 LTS) / x86_64  OK    OK    OK  UNNEEDED, same version is already published
Package 78/638HostnameOS / ArchINSTALLBUILDCHECKBUILD BIN
CellTrails 1.29.0  (landing page)
Daniel Ellwanger
git_last_commit: 75d815a
git_last_commit_date: 2025-10-29 10:46:02 -0500
nebbiolo1Linux (Ubuntu 24.04.3 LTS) / x86_64  OK    OK    OK  UNNEEDED, same version is already published
Package 79/638HostnameOS / ArchINSTALLBUILDCHECKBUILD BIN
censcyt 1.19.0  (landing page)
Reto Gerber
git_last_commit: e0a4611
git_last_commit_date: 2025-10-29 11:05:07 -0500
nebbiolo1Linux (Ubuntu 24.04.3 LTS) / x86_64  OK    OK    OK  UNNEEDED, same version is already published
Package 80/638HostnameOS / ArchINSTALLBUILDCHECKBUILD BIN
Cepo 1.17.0  (landing page)
Hani Jieun Kim
git_last_commit: 884e02b
git_last_commit_date: 2025-10-29 11:13:24 -0500
nebbiolo1Linux (Ubuntu 24.04.3 LTS) / x86_64  OK    OK    OK  YES
Package 81/638HostnameOS / ArchINSTALLBUILDCHECKBUILD BIN
CeTF 1.23.0  (landing page)
Carlos Alberto Oliveira de Biagi Junior
git_last_commit: d8786fc
git_last_commit_date: 2025-10-29 10:56:07 -0500
nebbiolo1Linux (Ubuntu 24.04.3 LTS) / x86_64  OK    OK    OK  UNNEEDED, same version is already published
Package 82/638HostnameOS / ArchINSTALLBUILDCHECKBUILD BIN
CHETAH 1.27.0  (landing page)
Jurrian de Kanter
git_last_commit: 93f3784
git_last_commit_date: 2025-10-29 11:17:46 -0500
nebbiolo1Linux (Ubuntu 24.04.3 LTS) / x86_64  OK    OK    OK  UNNEEDED, same version is already published
Package 83/638HostnameOS / ArchINSTALLBUILDCHECKBUILD BIN
ChIPpeakAnno 3.45.0  (landing page)
Jianhong Ou
git_last_commit: 2e00e23
git_last_commit_date: 2025-10-29 10:03:18 -0500
nebbiolo1Linux (Ubuntu 24.04.3 LTS) / x86_64  ERROR    ERROR  skipped
Package 84/638HostnameOS / ArchINSTALLBUILDCHECKBUILD BIN
ChromSCape 1.21.0  (landing page)
Pacome Prompsy
git_last_commit: 47d0ff7
git_last_commit_date: 2025-10-29 11:02:56 -0500
nebbiolo1Linux (Ubuntu 24.04.3 LTS) / x86_64  OK    OK    WARNINGS  YES
Package 85/638HostnameOS / ArchINSTALLBUILDCHECKBUILD BIN
chromVAR 1.33.0  (landing page)
Alicia Schep
git_last_commit: 1730858
git_last_commit_date: 2025-10-29 10:41:16 -0500
nebbiolo1Linux (Ubuntu 24.04.3 LTS) / x86_64  ERROR    ERROR  skipped
Package 86/638HostnameOS / ArchINSTALLBUILDCHECKBUILD BIN
CiteFuse 1.23.0  (landing page)
Yingxin Lin
git_last_commit: ef26cba
git_last_commit_date: 2025-10-29 10:58:33 -0500
nebbiolo1Linux (Ubuntu 24.04.3 LTS) / x86_64  OK    OK    OK  UNNEEDED, same version is already published
Package 87/638HostnameOS / ArchINSTALLBUILDCHECKBUILD BIN
CleanUpRNAseq 1.5.0  (landing page)
Haibo Liu
git_last_commit: 4f653f6
git_last_commit_date: 2025-10-29 11:31:19 -0500
nebbiolo1Linux (Ubuntu 24.04.3 LTS) / x86_64  OK    OK    OK  YES
Package 88/638HostnameOS / ArchINSTALLBUILDCHECKBUILD BIN
clusterExperiment 2.31.0  (landing page)
Elizabeth Purdom
git_last_commit: dc97d45
git_last_commit_date: 2025-10-29 10:33:07 -0500
nebbiolo1Linux (Ubuntu 24.04.3 LTS) / x86_64  OK    OK    WARNINGS  UNNEEDED, same version is already published
Package 89/638HostnameOS / ArchINSTALLBUILDCHECKBUILD BIN
clustifyr 1.23.0  (landing page)
Rui Fu
git_last_commit: a7c098e
git_last_commit_date: 2025-10-29 10:56:51 -0500
nebbiolo1Linux (Ubuntu 24.04.3 LTS) / x86_64  OK    OK    OK  UNNEEDED, same version is already published
Package 90/638HostnameOS / ArchINSTALLBUILDCHECKBUILD BIN
clustSIGNAL 1.3.0  (landing page)
Pratibha Panwar
git_last_commit: 2c2540c
git_last_commit_date: 2025-10-29 11:35:51 -0500
nebbiolo1Linux (Ubuntu 24.04.3 LTS) / x86_64  OK    OK    OK  UNNEEDED, same version is already published
Package 91/638HostnameOS / ArchINSTALLBUILDCHECKBUILD BIN
cmapR 1.23.0  (landing page)
Ted Natoli
git_last_commit: b3d9762
git_last_commit_date: 2025-10-29 10:57:41 -0500
nebbiolo1Linux (Ubuntu 24.04.3 LTS) / x86_64  OK    OK    OK  UNNEEDED, same version is already published
Package 92/638HostnameOS / ArchINSTALLBUILDCHECKBUILD BIN
CNVfilteR 1.25.0  (landing page)
Jose Marcos Moreno-Cabrera
git_last_commit: e65bd7a
git_last_commit_date: 2025-10-29 10:54:50 -0500
nebbiolo1Linux (Ubuntu 24.04.3 LTS) / x86_64  OK    OK    OK  YES
Package 93/638HostnameOS / ArchINSTALLBUILDCHECKBUILD BIN
CNVRanger 1.27.0  (landing page)
Ludwig Geistlinger
git_last_commit: 16600ca
git_last_commit_date: 2025-10-29 10:49:57 -0500
nebbiolo1Linux (Ubuntu 24.04.3 LTS) / x86_64  OK    ERROR  skipped
Package 94/638HostnameOS / ArchINSTALLBUILDCHECKBUILD BIN
CoGAPS 3.31.0  (landing page)
Elana J. Fertig
git_last_commit: 46dd3c5
git_last_commit_date: 2025-10-29 10:05:26 -0500
nebbiolo1Linux (Ubuntu 24.04.3 LTS) / x86_64  OK    OK    OK  UNNEEDED, same version is already published
Package 95/638HostnameOS / ArchINSTALLBUILDCHECKBUILD BIN
comapr 1.15.0  (landing page)
Ruqian Lyu
git_last_commit: 50b0041
git_last_commit_date: 2025-10-29 11:14:26 -0500
nebbiolo1Linux (Ubuntu 24.04.3 LTS) / x86_64  OK    OK    ERROR  
Package 96/638HostnameOS / ArchINSTALLBUILDCHECKBUILD BIN
combi 1.23.0  (landing page)
Stijn Hawinkel
git_last_commit: 29ef8d9
git_last_commit_date: 2025-10-29 10:57:46 -0500
nebbiolo1Linux (Ubuntu 24.04.3 LTS) / x86_64  OK    OK    OK  UNNEEDED, same version is already published
Package 97/638HostnameOS / ArchINSTALLBUILDCHECKBUILD BIN
concordexR 1.11.0  (landing page)
Kayla Jackson
git_last_commit: 7b24dc8
git_last_commit_date: 2025-10-29 11:22:42 -0500
nebbiolo1Linux (Ubuntu 24.04.3 LTS) / x86_64  OK    OK    WARNINGS  UNNEEDED, same version is already published
Package 98/638HostnameOS / ArchINSTALLBUILDCHECKBUILD BIN
condiments 1.19.0  (landing page)
Hector Roux de Bezieux
git_last_commit: 68a222c
git_last_commit_date: 2025-10-29 11:07:39 -0500
nebbiolo1Linux (Ubuntu 24.04.3 LTS) / x86_64  OK    OK    OK  UNNEEDED, same version is already published
Package 99/638HostnameOS / ArchINSTALLBUILDCHECKBUILD BIN
consensusDE 1.29.0  (landing page)
Ashley J. Waardenberg
git_last_commit: e69df52
git_last_commit_date: 2025-10-29 10:48:35 -0500
nebbiolo1Linux (Ubuntu 24.04.3 LTS) / x86_64  ERROR    ERROR  skipped
Package 100/638HostnameOS / ArchINSTALLBUILDCHECKBUILD BIN
consICA 2.9.0  (landing page)
Petr V. Nazarov
git_last_commit: 093c307
git_last_commit_date: 2025-10-29 11:18:38 -0500
nebbiolo1Linux (Ubuntu 24.04.3 LTS) / x86_64  OK    OK    OK  UNNEEDED, same version is already published
Package 101/638HostnameOS / ArchINSTALLBUILDCHECKBUILD BIN
CopyNumberPlots 1.27.0  (landing page)
Bernat Gel
git_last_commit: d68d13f
git_last_commit_date: 2025-10-29 10:51:43 -0500
nebbiolo1Linux (Ubuntu 24.04.3 LTS) / x86_64  OK    OK    OK  YES
Package 102/638HostnameOS / ArchINSTALLBUILDCHECKBUILD BIN
Coralysis 1.1.0  (landing page)
António Sousa
git_last_commit: 94d3ee0
git_last_commit_date: 2025-10-29 11:36:31 -0500
nebbiolo1Linux (Ubuntu 24.04.3 LTS) / x86_64  OK    OK    OK  UNNEEDED, same version is already published
Package 103/638HostnameOS / ArchINSTALLBUILDCHECKBUILD BIN
CoreGx 2.15.0  (landing page)
Benjamin Haibe-Kains
git_last_commit: e18fa83
git_last_commit_date: 2025-10-29 10:59:21 -0500
nebbiolo1Linux (Ubuntu 24.04.3 LTS) / x86_64  OK    OK    OK  UNNEEDED, same version is already published
Package 104/638HostnameOS / ArchINSTALLBUILDCHECKBUILD BIN
corral 1.21.0  (landing page)
Lauren Hsu
git_last_commit: 87340f9
git_last_commit_date: 2025-10-29 11:00:12 -0500
nebbiolo1Linux (Ubuntu 24.04.3 LTS) / x86_64  OK    OK    OK  UNNEEDED, same version is already published
Package 105/638HostnameOS / ArchINSTALLBUILDCHECKBUILD BIN
coseq 1.35.0  (landing page)
Andrea Rau
git_last_commit: 9d19790
git_last_commit_date: 2025-10-29 10:36:16 -0500
nebbiolo1Linux (Ubuntu 24.04.3 LTS) / x86_64  OK    OK    OK  UNNEEDED, same version is already published
Package 106/638HostnameOS / ArchINSTALLBUILDCHECKBUILD BIN
countsimQC 1.29.0  (landing page)
Charlotte Soneson
git_last_commit: 21f3a2b
git_last_commit_date: 2025-10-29 10:47:52 -0500
nebbiolo1Linux (Ubuntu 24.04.3 LTS) / x86_64  OK    OK    OK  UNNEEDED, same version is already published
Package 107/638HostnameOS / ArchINSTALLBUILDCHECKBUILD BIN
CPSM 1.3.0  (landing page)
Harpreet Kaur
git_last_commit: 12c6f22
git_last_commit_date: 2025-10-29 11:34:56 -0500
nebbiolo1Linux (Ubuntu 24.04.3 LTS) / x86_64  OK    OK    OK  UNNEEDED, same version is already published
Package 108/638HostnameOS / ArchINSTALLBUILDCHECKBUILD BIN
crupR 1.3.0  (landing page)
Persia Akbari Omgba
git_last_commit: f02dafa
git_last_commit_date: 2025-10-29 11:36:29 -0500
nebbiolo1Linux (Ubuntu 24.04.3 LTS) / x86_64  OK    OK    OK  YES
Package 109/638HostnameOS / ArchINSTALLBUILDCHECKBUILD BIN
csaw 1.45.0  (landing page)
Aaron Lun
git_last_commit: 39b0f81
git_last_commit_date: 2025-10-29 10:22:22 -0500
nebbiolo1Linux (Ubuntu 24.04.3 LTS) / x86_64  OK    OK    OK  UNNEEDED, same version is already published
Package 110/638HostnameOS / ArchINSTALLBUILDCHECKBUILD BIN
CSOA 1.1.0  (landing page)
Andrei-Florian Stoica
git_last_commit: c51650a
git_last_commit_date: 2025-10-29 11:37:44 -0500
nebbiolo1Linux (Ubuntu 24.04.3 LTS) / x86_64  OK    OK    OK  UNNEEDED, same version is already published
Package 111/638HostnameOS / ArchINSTALLBUILDCHECKBUILD BIN
CSSQ 1.23.0  (landing page)
Fan Lab at Georgia Institute of Technology
git_last_commit: b5e08ec
git_last_commit_date: 2025-10-29 10:56:02 -0500
nebbiolo1Linux (Ubuntu 24.04.3 LTS) / x86_64  OK    OK    OK  YES
Package 112/638HostnameOS / ArchINSTALLBUILDCHECKBUILD BIN
CTexploreR 1.7.0  (landing page)
Axelle Loriot
git_last_commit: db48290
git_last_commit_date: 2025-10-29 11:26:51 -0500
nebbiolo1Linux (Ubuntu 24.04.3 LTS) / x86_64  OK    OK    OK  UNNEEDED, same version is already published
Package 113/638HostnameOS / ArchINSTALLBUILDCHECKBUILD BIN
CTSV 1.13.0  (landing page)
Jinge Yu Developer
git_last_commit: 2a4282f
git_last_commit_date: 2025-10-29 11:17:28 -0500
nebbiolo1Linux (Ubuntu 24.04.3 LTS) / x86_64  OK    OK    OK  UNNEEDED, same version is already published
Package 114/638HostnameOS / ArchINSTALLBUILDCHECKBUILD BIN
CuratedAtlasQueryR 1.9.0  (landing page)
Stefano Mangiola
git_last_commit: 0ecd53b
git_last_commit_date: 2025-10-29 11:24:15 -0500
nebbiolo1Linux (Ubuntu 24.04.3 LTS) / x86_64  OK    OK    OK  UNNEEDED, same version is already published
Package 115/638HostnameOS / ArchINSTALLBUILDCHECKBUILD BIN
cydar 1.35.0  (landing page)
Aaron Lun
git_last_commit: d8b7be4
git_last_commit_date: 2025-10-29 10:37:34 -0500
nebbiolo1Linux (Ubuntu 24.04.3 LTS) / x86_64  OK    OK    OK  UNNEEDED, same version is already published
Package 116/638HostnameOS / ArchINSTALLBUILDCHECKBUILD BIN
cypress 1.7.0  (landing page)
Shilin Yu
git_last_commit: 40f21f4
git_last_commit_date: 2025-10-29 11:29:05 -0500
nebbiolo1Linux (Ubuntu 24.04.3 LTS) / x86_64  OK    OK    OK  UNNEEDED, same version is already published
Package 117/638HostnameOS / ArchINSTALLBUILDCHECKBUILD BIN
CyTOFpower 1.17.0  (landing page)
Anne-Maud Ferreira
git_last_commit: 7886a64
git_last_commit_date: 2025-10-29 11:13:08 -0500
nebbiolo1Linux (Ubuntu 24.04.3 LTS) / x86_64  OK    OK    OK  UNNEEDED, same version is already published
Package 118/638HostnameOS / ArchINSTALLBUILDCHECKBUILD BIN
cytofQC 1.11.0  (landing page)
Jill Lundell
git_last_commit: 17fcbe3
git_last_commit_date: 2025-10-29 11:21:55 -0500
nebbiolo1Linux (Ubuntu 24.04.3 LTS) / x86_64  ERROR    ERROR  skipped
Package 119/638HostnameOS / ArchINSTALLBUILDCHECKBUILD BIN
cytoKernel 1.17.0  (landing page)
Tusharkanti Ghosh
git_last_commit: 25ec3e0
git_last_commit_date: 2025-10-29 11:12:20 -0500
nebbiolo1Linux (Ubuntu 24.04.3 LTS) / x86_64  OK    OK    OK  UNNEEDED, same version is already published
Package 120/638HostnameOS / ArchINSTALLBUILDCHECKBUILD BIN
cytomapper 1.23.0  (landing page)
Lasse Meyer
git_last_commit: 20338b5
git_last_commit_date: 2025-10-29 10:57:59 -0500
nebbiolo1Linux (Ubuntu 24.04.3 LTS) / x86_64  OK    OK    OK  UNNEEDED, same version is already published
Package 121/638HostnameOS / ArchINSTALLBUILDCHECKBUILD BIN
cytoviewer 1.11.0  (landing page)
Lasse Meyer
git_last_commit: a269d53
git_last_commit_date: 2025-10-29 11:22:11 -0500
nebbiolo1Linux (Ubuntu 24.04.3 LTS) / x86_64  OK    OK    OK  UNNEEDED, same version is already published
Package 122/638HostnameOS / ArchINSTALLBUILDCHECKBUILD BIN
DAMEfinder 1.23.0  (landing page)
Stephany Orjuela
git_last_commit: cb8c833
git_last_commit_date: 2025-10-29 10:56:31 -0500
nebbiolo1Linux (Ubuntu 24.04.3 LTS) / x86_64  OK    OK    OK  YES
Package 123/638HostnameOS / ArchINSTALLBUILDCHECKBUILD BIN
DaMiRseq 2.23.0  (landing page)
Mattia Chiesa
git_last_commit: 48f9b25
git_last_commit_date: 2025-10-29 10:37:23 -0500
nebbiolo1Linux (Ubuntu 24.04.3 LTS) / x86_64  OK    OK    OK  YES
Package 124/638HostnameOS / ArchINSTALLBUILDCHECKBUILD BIN
dandelionR 1.3.0  (landing page)
Kelvin Tuong
git_last_commit: 29dd237
git_last_commit_date: 2025-10-29 11:34:23 -0500
nebbiolo1Linux (Ubuntu 24.04.3 LTS) / x86_64  OK    OK    OK  NO, package depends on 'destiny' which is not available
Package 125/638HostnameOS / ArchINSTALLBUILDCHECKBUILD BIN
debCAM 1.29.0  (landing page)
Lulu Chen
git_last_commit: 2c79071
git_last_commit_date: 2025-10-29 10:54:19 -0500
nebbiolo1Linux (Ubuntu 24.04.3 LTS) / x86_64  ERROR    ERROR  skipped
Package 126/638HostnameOS / ArchINSTALLBUILDCHECKBUILD BIN
debrowser 1.39.0  (landing page)
Alper Kucukural
git_last_commit: 17795bc
git_last_commit_date: 2025-10-29 10:30:54 -0500
nebbiolo1Linux (Ubuntu 24.04.3 LTS) / x86_64  OK    OK    OK  YES
Package 127/638HostnameOS / ArchINSTALLBUILDCHECKBUILD BIN
decompTumor2Sig 2.27.0  (landing page)
Rosario M. Piro
git_last_commit: d30b743
git_last_commit_date: 2025-10-29 10:49:06 -0500
nebbiolo1Linux (Ubuntu 24.04.3 LTS) / x86_64  OK    OK    OK  YES
Package 128/638HostnameOS / ArchINSTALLBUILDCHECKBUILD BIN
decontX 1.9.0  (landing page)
Joshua Campbell
git_last_commit: 0f7be1c
git_last_commit_date: 2025-10-29 11:26:26 -0500
nebbiolo1Linux (Ubuntu 24.04.3 LTS) / x86_64  OK    OK    OK  YES
Package 129/638HostnameOS / ArchINSTALLBUILDCHECKBUILD BIN
DeconvoBuddies 1.3.0  (landing page)
Louise Huuki-Myers
git_last_commit: a72d7d5
git_last_commit_date: 2025-10-29 11:35:32 -0500
nebbiolo1Linux (Ubuntu 24.04.3 LTS) / x86_64  OK    OK    OK  UNNEEDED, same version is already published
Package 130/638HostnameOS / ArchINSTALLBUILDCHECKBUILD BIN
DeeDeeExperiment 1.1.0  (landing page)
Najla Abassi
git_last_commit: 482df35
git_last_commit_date: 2025-10-29 11:37:21 -0500
nebbiolo1Linux (Ubuntu 24.04.3 LTS) / x86_64  OK    OK    OK  UNNEEDED, same version is already published
Package 131/638HostnameOS / ArchINSTALLBUILDCHECKBUILD BIN
deepSNV 1.57.0  (landing page)
Moritz Gerstung
git_last_commit: 445cbf8
git_last_commit_date: 2025-10-29 10:10:15 -0500
nebbiolo1Linux (Ubuntu 24.04.3 LTS) / x86_64  OK    OK    OK  YES
Package 132/638HostnameOS / ArchINSTALLBUILDCHECKBUILD BIN
DEFormats 1.39.0  (landing page)
Andrzej Oleś
git_last_commit: 5034890
git_last_commit_date: 2025-10-29 10:31:05 -0500
nebbiolo1Linux (Ubuntu 24.04.3 LTS) / x86_64  OK    OK    OK  UNNEEDED, same version is already published
Package 133/638HostnameOS / ArchINSTALLBUILDCHECKBUILD BIN
DEGreport 1.47.0  (landing page)
Lorena Pantano
git_last_commit: 792957e
git_last_commit_date: 2025-10-29 10:19:57 -0500
nebbiolo1Linux (Ubuntu 24.04.3 LTS) / x86_64  OK    OK    OK  UNNEEDED, same version is already published
Package 134/638HostnameOS / ArchINSTALLBUILDCHECKBUILD BIN
DELocal 1.11.0  (landing page)
Rishi Das Roy
git_last_commit: 4c4795e
git_last_commit_date: 2025-10-29 11:22:35 -0500
nebbiolo1Linux (Ubuntu 24.04.3 LTS) / x86_64  OK    ERROR  skipped
Package 135/638HostnameOS / ArchINSTALLBUILDCHECKBUILD BIN
deltaCaptureC 1.25.0  (landing page)
Michael Shapiro
git_last_commit: 012ccf3
git_last_commit_date: 2025-10-29 10:54:03 -0500
nebbiolo1Linux (Ubuntu 24.04.3 LTS) / x86_64  OK    OK    OK  UNNEEDED, same version is already published
Package 136/638HostnameOS / ArchINSTALLBUILDCHECKBUILD BIN
DeMixT 1.27.0  (landing page)
Ruonan Li
git_last_commit: 438eef5
git_last_commit_date: 2025-10-29 10:50:59 -0500
nebbiolo1Linux (Ubuntu 24.04.3 LTS) / x86_64  OK    OK    WARNINGS  YES
Package 137/638HostnameOS / ArchINSTALLBUILDCHECKBUILD BIN
demuxSNP 1.9.0  (landing page)
Michael Lynch
git_last_commit: e594034
git_last_commit_date: 2025-10-29 11:23:27 -0500
nebbiolo1Linux (Ubuntu 24.04.3 LTS) / x86_64  OK    OK    OK  YES
Package 138/638HostnameOS / ArchINSTALLBUILDCHECKBUILD BIN
DEScan2 1.31.0  (landing page)
Dario Righelli
git_last_commit: 788dce2
git_last_commit_date: 2025-10-29 10:43:48 -0500
nebbiolo1Linux (Ubuntu 24.04.3 LTS) / x86_64  ERROR    ERROR  skipped
Package 139/638HostnameOS / ArchINSTALLBUILDCHECKBUILD BIN
DESeq2 1.51.0  (landing page)
Michael Love
git_last_commit: 3323082
git_last_commit_date: 2025-10-29 10:13:48 -0500
nebbiolo1Linux (Ubuntu 24.04.3 LTS) / x86_64  OK    OK    OK  UNNEEDED, same version is already published
Package 140/638HostnameOS / ArchINSTALLBUILDCHECKBUILD BIN
DESpace 2.3.1  (landing page)
Peiying Cai
git_last_commit: 3dbd101
git_last_commit_date: 2025-10-31 08:13:38 -0500
nebbiolo1Linux (Ubuntu 24.04.3 LTS) / x86_64  OK    OK    OK  UNNEEDED, same version is already published
Package 141/638HostnameOS / ArchINSTALLBUILDCHECKBUILD BIN
destiny 3.25.0  (landing page)
Philipp Angerer
git_last_commit: 424224a
git_last_commit_date: 2025-10-29 11:14:40 -0500
nebbiolo1Linux (Ubuntu 24.04.3 LTS) / x86_64  OK    OK    ERROR  
Package 142/638HostnameOS / ArchINSTALLBUILDCHECKBUILD BIN
DEWSeq 1.25.0  (landing page)
bioinformatics team Hentze
git_last_commit: 065d2b7
git_last_commit_date: 2025-10-29 10:55:18 -0500
nebbiolo1Linux (Ubuntu 24.04.3 LTS) / x86_64  OK    OK    OK  UNNEEDED, same version is already published
Package 143/638HostnameOS / ArchINSTALLBUILDCHECKBUILD BIN
DEXSeq 1.57.0  (landing page)
Alejandro Reyes
git_last_commit: db6ed7c
git_last_commit_date: 2025-10-29 10:07:54 -0500
nebbiolo1Linux (Ubuntu 24.04.3 LTS) / x86_64  OK    OK    OK  UNNEEDED, same version is already published
Package 144/638HostnameOS / ArchINSTALLBUILDCHECKBUILD BIN
DiffBind 3.21.0  (landing page)
Rory Stark
git_last_commit: f329968
git_last_commit_date: 2025-10-29 10:08:58 -0500
nebbiolo1Linux (Ubuntu 24.04.3 LTS) / x86_64  OK    OK    ERROR  
Package 145/638HostnameOS / ArchINSTALLBUILDCHECKBUILD BIN
diffcoexp 1.31.0  (landing page)
Wenbin Wei
git_last_commit: 8943d77
git_last_commit_date: 2025-10-29 10:43:50 -0500
nebbiolo1Linux (Ubuntu 24.04.3 LTS) / x86_64  OK    OK    OK  UNNEEDED, same version is already published
Package 146/638HostnameOS / ArchINSTALLBUILDCHECKBUILD BIN
diffcyt 1.31.0  (landing page)
Lukas M. Weber
git_last_commit: 5b52099
git_last_commit_date: 2025-10-29 10:44:30 -0500
nebbiolo1Linux (Ubuntu 24.04.3 LTS) / x86_64  OK    OK    OK  UNNEEDED, same version is already published
Package 147/638HostnameOS / ArchINSTALLBUILDCHECKBUILD BIN
DifferentialRegulation 2.9.0  (landing page)
Simone Tiberi
git_last_commit: e4187ce
git_last_commit_date: 2025-10-29 11:16:49 -0500
nebbiolo1Linux (Ubuntu 24.04.3 LTS) / x86_64  OK    OK    OK  UNNEEDED, same version is already published
Package 148/638HostnameOS / ArchINSTALLBUILDCHECKBUILD BIN
diffHic 1.43.0  (landing page)
Aaron Lun , Gordon Smyth , Hannah Coughlin
git_last_commit: c909cdb
git_last_commit_date: 2025-10-29 10:25:47 -0500
nebbiolo1Linux (Ubuntu 24.04.3 LTS) / x86_64  OK    OK    OK  YES
Package 149/638HostnameOS / ArchINSTALLBUILDCHECKBUILD BIN
diffUTR 1.19.0  (landing page)
Pierre-Luc Germain
git_last_commit: 2f86b30
git_last_commit_date: 2025-10-29 11:09:14 -0500
nebbiolo1Linux (Ubuntu 24.04.3 LTS) / x86_64  OK    OK    OK  YES
Package 150/638HostnameOS / ArchINSTALLBUILDCHECKBUILD BIN
Dino 1.17.0  (landing page)
Jared Brown
git_last_commit: 89317b9
git_last_commit_date: 2025-10-29 11:10:41 -0500
nebbiolo1Linux (Ubuntu 24.04.3 LTS) / x86_64  OK    OK    OK  UNNEEDED, same version is already published
Package 151/638HostnameOS / ArchINSTALLBUILDCHECKBUILD BIN
dinoR 1.7.0  (landing page)
Michaela Schwaiger
git_last_commit: ad3d7ac
git_last_commit_date: 2025-10-29 11:28:52 -0500
nebbiolo1Linux (Ubuntu 24.04.3 LTS) / x86_64  OK    OK    OK  UNNEEDED, same version is already published
Package 152/638HostnameOS / ArchINSTALLBUILDCHECKBUILD BIN
DiscoRhythm 1.27.0  (landing page)
Matthew Carlucci
git_last_commit: 15d7b60
git_last_commit_date: 2025-10-29 10:51:20 -0500
nebbiolo1Linux (Ubuntu 24.04.3 LTS) / x86_64  OK    OK    OK  UNNEEDED, same version is already published
Package 153/638HostnameOS / ArchINSTALLBUILDCHECKBUILD BIN
distinct 1.23.0  (landing page)
Simone Tiberi
git_last_commit: fecbaac
git_last_commit_date: 2025-10-29 10:58:17 -0500
nebbiolo1Linux (Ubuntu 24.04.3 LTS) / x86_64  OK    OK    OK  UNNEEDED, same version is already published
Package 154/638HostnameOS / ArchINSTALLBUILDCHECKBUILD BIN
dittoSeq 1.23.0  (landing page)
Daniel Bunis
git_last_commit: 9ee30ee
git_last_commit_date: 2025-10-29 10:57:12 -0500
nebbiolo1Linux (Ubuntu 24.04.3 LTS) / x86_64  OK    OK    OK  UNNEEDED, same version is already published
Package 155/638HostnameOS / ArchINSTALLBUILDCHECKBUILD BIN
divergence 1.27.0  (landing page)
Wikum Dinalankara , Luigi Marchionni
git_last_commit: 3e893d2
git_last_commit_date: 2025-10-29 10:49:51 -0500
nebbiolo1Linux (Ubuntu 24.04.3 LTS) / x86_64  OK    OK    OK  UNNEEDED, same version is already published
Package 156/638HostnameOS / ArchINSTALLBUILDCHECKBUILD BIN
DMCFB 1.25.0  (landing page)
Farhad Shokoohi
git_last_commit: 528814e
git_last_commit_date: 2025-10-29 10:54:42 -0500
nebbiolo1Linux (Ubuntu 24.04.3 LTS) / x86_64  OK    OK    OK  YES
Package 157/638HostnameOS / ArchINSTALLBUILDCHECKBUILD BIN
DMCHMM 1.33.0  (landing page)
Farhad Shokoohi
git_last_commit: 338f80e
git_last_commit_date: 2025-10-29 10:40:26 -0500
nebbiolo1Linux (Ubuntu 24.04.3 LTS) / x86_64  OK    OK    OK  YES
Package 158/638HostnameOS / ArchINSTALLBUILDCHECKBUILD BIN
dmGsea 1.1.1  (landing page)
Zongli Xu
git_last_commit: 248aa7c
git_last_commit_date: 2025-10-31 09:40:12 -0500
nebbiolo1Linux (Ubuntu 24.04.3 LTS) / x86_64  OK    OK    OK  UNNEEDED, same version is already published
Package 159/638HostnameOS / ArchINSTALLBUILDCHECKBUILD BIN
DMRcate 3.7.0  (landing page)
Tim Peters
git_last_commit: c4e3304
git_last_commit_date: 2025-10-29 10:18:14 -0500
nebbiolo1Linux (Ubuntu 24.04.3 LTS) / x86_64  OK    OK    OK  YES
Package 160/638HostnameOS / ArchINSTALLBUILDCHECKBUILD BIN
DNEA 1.1.0  (landing page)
Christopher Patsalis
git_last_commit: 0ff4d1c
git_last_commit_date: 2025-10-29 11:36:34 -0500
nebbiolo1Linux (Ubuntu 24.04.3 LTS) / x86_64  OK    OK    OK  UNNEEDED, same version is already published
Package 161/638HostnameOS / ArchINSTALLBUILDCHECKBUILD BIN
dominatR 0.99.4  (landing page)
Simon Lizarazo
git_last_commit: de43091
git_last_commit_date: 2025-10-28 16:24:19 -0500
nebbiolo1Linux (Ubuntu 24.04.3 LTS) / x86_64  OK    OK    ERROR  
Package 162/638HostnameOS / ArchINSTALLBUILDCHECKBUILD BIN
DominoEffect 1.31.0  (landing page)
Marija Buljan , Peter Blattmann
git_last_commit: 2cae082
git_last_commit_date: 2025-10-29 10:43:24 -0500
nebbiolo1Linux (Ubuntu 24.04.3 LTS) / x86_64  OK    OK    OK  YES
Package 163/638HostnameOS / ArchINSTALLBUILDCHECKBUILD BIN
doppelgangR 1.39.0  (landing page)
Levi Waldron
git_last_commit: c1614da
git_last_commit_date: 2025-10-29 10:30:40 -0500
nebbiolo1Linux (Ubuntu 24.04.3 LTS) / x86_64  OK    OK    OK  UNNEEDED, same version is already published
Package 164/638HostnameOS / ArchINSTALLBUILDCHECKBUILD BIN
doseR 1.27.0  (landing page)
ake.vastermark
git_last_commit: 8901528
git_last_commit_date: 2025-10-29 10:50:15 -0500
nebbiolo1Linux (Ubuntu 24.04.3 LTS) / x86_64  OK    OK    OK  UNNEEDED, same version is already published
Package 165/638HostnameOS / ArchINSTALLBUILDCHECKBUILD BIN
dreamlet 1.9.0  (landing page)
Gabriel Hoffman
git_last_commit: dfc1aac
git_last_commit_date: 2025-10-29 11:25:03 -0500
nebbiolo1Linux (Ubuntu 24.04.3 LTS) / x86_64  OK    OK    OK  NO, package depends on 'zenith' which is not available
Package 166/638HostnameOS / ArchINSTALLBUILDCHECKBUILD BIN
DropletUtils 1.31.0  (landing page)
Jonathan Griffiths
git_last_commit: 92de364
git_last_commit_date: 2025-10-29 10:42:43 -0500
nebbiolo1Linux (Ubuntu 24.04.3 LTS) / x86_64  OK    OK    WARNINGS  UNNEEDED, same version is already published
Package 167/638HostnameOS / ArchINSTALLBUILDCHECKBUILD BIN
DspikeIn 1.1.0  (landing page)
Mitra Ghotbi
git_last_commit: 18fc5b8
git_last_commit_date: 2025-10-29 11:39:12 -0500
nebbiolo1Linux (Ubuntu 24.04.3 LTS) / x86_64  OK    OK    OK  UNNEEDED, same version is already published
Package 168/638HostnameOS / ArchINSTALLBUILDCHECKBUILD BIN
Dune 1.23.0  (landing page)
Hector Roux de Bezieux
git_last_commit: 9318153
git_last_commit_date: 2025-10-29 10:57:43 -0500
nebbiolo1Linux (Ubuntu 24.04.3 LTS) / x86_64  OK    OK    OK  UNNEEDED, same version is already published
Package 169/638HostnameOS / ArchINSTALLBUILDCHECKBUILD BIN
easyRNASeq 2.47.0  (landing page)
Nicolas Delhomme
git_last_commit: 1cb9a73
git_last_commit_date: 2025-10-29 10:10:00 -0500
nebbiolo1Linux (Ubuntu 24.04.3 LTS) / x86_64  OK    OK    WARNINGS  UNNEEDED, same version is already published
Package 170/638HostnameOS / ArchINSTALLBUILDCHECKBUILD BIN
eisaR 1.23.1  (landing page)
Michael Stadler
git_last_commit: 7a06cdb
git_last_commit_date: 2025-11-03 09:29:00 -0500
nebbiolo1Linux (Ubuntu 24.04.3 LTS) / x86_64  OK    OK    OK  UNNEEDED, same version is already published
Package 171/638HostnameOS / ArchINSTALLBUILDCHECKBUILD BIN
ELMER 2.35.0  (landing page)
Tiago Chedraoui Silva
git_last_commit: 642227c
git_last_commit_date: 2025-10-29 10:26:17 -0500
nebbiolo1Linux (Ubuntu 24.04.3 LTS) / x86_64  OK    ERROR  skipped
Package 172/638HostnameOS / ArchINSTALLBUILDCHECKBUILD BIN
ENmix 1.47.0  (landing page)
Zongli Xu
git_last_commit: 3ce4b4c
git_last_commit_date: 2025-10-29 10:25:39 -0500
nebbiolo1Linux (Ubuntu 24.04.3 LTS) / x86_64  OK    OK    OK  YES
Package 173/638HostnameOS / ArchINSTALLBUILDCHECKBUILD BIN
EnrichmentBrowser 2.41.0  (landing page)
Ludwig Geistlinger
git_last_commit: eb4505a
git_last_commit_date: 2025-10-29 10:21:30 -0500
nebbiolo1Linux (Ubuntu 24.04.3 LTS) / x86_64  OK    OK    ERROR  
Package 174/638HostnameOS / ArchINSTALLBUILDCHECKBUILD BIN
epigenomix 1.51.0  (landing page)
Hans-Ulrich Klein
git_last_commit: 5563ca4
git_last_commit_date: 2025-10-29 10:13:59 -0500
nebbiolo1Linux (Ubuntu 24.04.3 LTS) / x86_64  OK    OK    OK  NO, package depends on 'beadarray' which is not available
Package 175/638HostnameOS / ArchINSTALLBUILDCHECKBUILD BIN
epigraHMM 1.19.0  (landing page)
Pedro Baldoni
git_last_commit: af5be02
git_last_commit_date: 2025-10-29 11:09:46 -0500
nebbiolo1Linux (Ubuntu 24.04.3 LTS) / x86_64  OK    OK    WARNINGS  YES
Package 176/638HostnameOS / ArchINSTALLBUILDCHECKBUILD BIN
EpiMix 1.13.0  (landing page)
Yuanning Zheng
git_last_commit: 5408436
git_last_commit_date: 2025-10-29 11:17:43 -0500
nebbiolo1Linux (Ubuntu 24.04.3 LTS) / x86_64  OK    OK    OK  YES
Package 177/638HostnameOS / ArchINSTALLBUILDCHECKBUILD BIN
epimutacions 1.15.0  (landing page)
Dolors Pelegri-Siso
git_last_commit: 9c5c202
git_last_commit_date: 2025-10-29 11:16:20 -0500
nebbiolo1Linux (Ubuntu 24.04.3 LTS) / x86_64  OK    OK    OK  YES
Package 178/638HostnameOS / ArchINSTALLBUILDCHECKBUILD BIN
epiregulon 2.1.0  (landing page)
Xiaosai Yao
git_last_commit: eec881c
git_last_commit_date: 2025-10-29 11:30:12 -0500
nebbiolo1Linux (Ubuntu 24.04.3 LTS) / x86_64  OK    OK    OK  YES
Package 179/638HostnameOS / ArchINSTALLBUILDCHECKBUILD BIN
epiregulon.extra 1.7.0  (landing page)
Xiaosai Yao
git_last_commit: a48846b
git_last_commit_date: 2025-10-29 11:30:15 -0500
nebbiolo1Linux (Ubuntu 24.04.3 LTS) / x86_64  OK    OK    OK  YES
Package 180/638HostnameOS / ArchINSTALLBUILDCHECKBUILD BIN
epistack 1.17.0  (landing page)
DEVAILLY Guillaume
git_last_commit: d86c320
git_last_commit_date: 2025-10-29 11:13:05 -0500
nebbiolo1Linux (Ubuntu 24.04.3 LTS) / x86_64  OK    OK    OK  UNNEEDED, same version is already published
Package 181/638HostnameOS / ArchINSTALLBUILDCHECKBUILD BIN
epivizrData 1.39.0  (landing page)
Hector Corrada Bravo
git_last_commit: ec95aa6
git_last_commit_date: 2025-10-29 10:32:07 -0500
nebbiolo1Linux (Ubuntu 24.04.3 LTS) / x86_64  OK    OK    OK  YES
Package 182/638HostnameOS / ArchINSTALLBUILDCHECKBUILD BIN
escape 2.7.0  (landing page)
Nick Borcherding
git_last_commit: 9042b72
git_last_commit_date: 2025-10-29 11:00:52 -0500
nebbiolo1Linux (Ubuntu 24.04.3 LTS) / x86_64  OK    OK    ERROR  
Package 183/638HostnameOS / ArchINSTALLBUILDCHECKBUILD BIN
escheR 1.11.0  (landing page)
Boyi Guo
git_last_commit: f2a303a
git_last_commit_date: 2025-10-29 11:22:13 -0500
nebbiolo1Linux (Ubuntu 24.04.3 LTS) / x86_64  OK    OK    OK  UNNEEDED, same version is already published
Package 184/638HostnameOS / ArchINSTALLBUILDCHECKBUILD BIN
evaluomeR 1.27.0  (landing page)
José Antonio Bernabé-Díaz
git_last_commit: 71a13fd
git_last_commit_date: 2025-10-29 10:50:57 -0500
nebbiolo1Linux (Ubuntu 24.04.3 LTS) / x86_64  OK    OK    WARNINGS  UNNEEDED, same version is already published
Package 185/638HostnameOS / ArchINSTALLBUILDCHECKBUILD BIN
EventPointer 3.19.0  (landing page)
Juan A. Ferrer-Bonsoms
git_last_commit: ab73f34
git_last_commit_date: 2025-10-29 10:37:08 -0500
nebbiolo1Linux (Ubuntu 24.04.3 LTS) / x86_64  ERROR    ERROR  skipped
Package 186/638HostnameOS / ArchINSTALLBUILDCHECKBUILD BIN
EWCE 1.19.0  (landing page)
Hiranyamaya Dash
git_last_commit: 5ede728
git_last_commit_date: 2025-10-29 11:08:07 -0500
nebbiolo1Linux (Ubuntu 24.04.3 LTS) / x86_64  OK    OK    OK  UNNEEDED, same version is already published
Package 187/638HostnameOS / ArchINSTALLBUILDCHECKBUILD BIN
ExperimentSubset 1.21.0  (landing page)
Irzam Sarfraz
git_last_commit: a61ebd5
git_last_commit_date: 2025-10-29 11:03:30 -0500
nebbiolo1Linux (Ubuntu 24.04.3 LTS) / x86_64  OK    OK    OK  UNNEEDED, same version is already published
Package 188/638HostnameOS / ArchINSTALLBUILDCHECKBUILD BIN
ExpressionAtlas 2.3.0  (landing page)
Anil Thanki
git_last_commit: a94288f
git_last_commit_date: 2025-10-29 10:30:04 -0500
nebbiolo1Linux (Ubuntu 24.04.3 LTS) / x86_64  OK    OK    OK  UNNEEDED, same version is already published
Package 189/638HostnameOS / ArchINSTALLBUILDCHECKBUILD BIN
extraChIPs 1.15.0  (landing page)
Stevie Pederson
git_last_commit: 9ceda11
git_last_commit_date: 2025-10-29 11:16:32 -0500
nebbiolo1Linux (Ubuntu 24.04.3 LTS) / x86_64  OK    OK    OK  YES
Package 190/638HostnameOS / ArchINSTALLBUILDCHECKBUILD BIN
fcScan 1.25.0  (landing page)
Pierre Khoueiry Abdullah El-Kurdi
git_last_commit: 5da32a8
git_last_commit_date: 2025-10-29 10:53:36 -0500
nebbiolo1Linux (Ubuntu 24.04.3 LTS) / x86_64  OK    OK    OK  YES
Package 191/638HostnameOS / ArchINSTALLBUILDCHECKBUILD BIN
FEAST 1.19.0  (landing page)
Kenong Su
git_last_commit: 56aecc5
git_last_commit_date: 2025-10-29 11:08:37 -0500
nebbiolo1Linux (Ubuntu 24.04.3 LTS) / x86_64  OK    OK    OK  UNNEEDED, same version is already published
Package 192/638HostnameOS / ArchINSTALLBUILDCHECKBUILD BIN
FeatSeekR 1.11.0  (landing page)
Tuemay Capraz
git_last_commit: a6a78bf
git_last_commit_date: 2025-10-29 11:22:58 -0500
nebbiolo1Linux (Ubuntu 24.04.3 LTS) / x86_64  OK    OK    OK  UNNEEDED, same version is already published
Package 193/638HostnameOS / ArchINSTALLBUILDCHECKBUILD BIN
findIPs 1.7.0  (landing page)
Shuo Wang
git_last_commit: e70b87c
git_last_commit_date: 2025-10-29 11:30:10 -0500
nebbiolo1Linux (Ubuntu 24.04.3 LTS) / x86_64  OK    OK    OK  UNNEEDED, same version is already published
Package 194/638HostnameOS / ArchINSTALLBUILDCHECKBUILD BIN
FindIT2 1.17.0  (landing page)
Guandong Shang
git_last_commit: 6e3f32a
git_last_commit_date: 2025-10-29 11:10:30 -0500
nebbiolo1Linux (Ubuntu 24.04.3 LTS) / x86_64  OK    OK    OK  YES
Package 195/638HostnameOS / ArchINSTALLBUILDCHECKBUILD BIN
fishpond 2.17.0  (landing page)
Michael Love
git_last_commit: 2293072
git_last_commit_date: 2025-10-29 10:50:11 -0500
nebbiolo1Linux (Ubuntu 24.04.3 LTS) / x86_64  OK    OK    OK  UNNEEDED, same version is already published
Package 196/638HostnameOS / ArchINSTALLBUILDCHECKBUILD BIN
FLAMES 2.5.1  (landing page)
Changqing Wang
git_last_commit: 7887658
git_last_commit_date: 2025-10-31 02:11:54 -0500
nebbiolo1Linux (Ubuntu 24.04.3 LTS) / x86_64  OK    OK    OK  YES
Package 197/638HostnameOS / ArchINSTALLBUILDCHECKBUILD BIN
FRASER 2.7.0  (landing page)
Christian Mertes
git_last_commit: ecd421c
git_last_commit_date: 2025-10-29 10:58:54 -0500
nebbiolo1Linux (Ubuntu 24.04.3 LTS) / x86_64  ERROR    ERROR  skipped
Package 198/638HostnameOS / ArchINSTALLBUILDCHECKBUILD BIN
FuseSOM 1.13.0  (landing page)
Elijah Willie
git_last_commit: e01d218
git_last_commit_date: 2025-10-29 11:19:49 -0500
nebbiolo1Linux (Ubuntu 24.04.3 LTS) / x86_64  OK    OK    OK  UNNEEDED, same version is already published
Package 199/638HostnameOS / ArchINSTALLBUILDCHECKBUILD BIN
G4SNVHunter 1.3.0  (landing page)
Rongxin Zhang
git_last_commit: ec8c408
git_last_commit_date: 2025-10-29 11:33:18 -0500
nebbiolo1Linux (Ubuntu 24.04.3 LTS) / x86_64  OK    OK    WARNINGS  YES
Package 200/638HostnameOS / ArchINSTALLBUILDCHECKBUILD BIN
GARS 1.31.0  (landing page)
Mattia Chiesa
git_last_commit: 816c572
git_last_commit_date: 2025-10-29 10:43:37 -0500
nebbiolo1Linux (Ubuntu 24.04.3 LTS) / x86_64  OK    OK    OK  YES
Package 201/638HostnameOS / ArchINSTALLBUILDCHECKBUILD BIN
gCrisprTools 2.17.0  (landing page)
Russell Bainer
git_last_commit: d372d36
git_last_commit_date: 2025-10-29 10:34:14 -0500
nebbiolo1Linux (Ubuntu 24.04.3 LTS) / x86_64  OK    OK    OK  UNNEEDED, same version is already published
Package 202/638HostnameOS / ArchINSTALLBUILDCHECKBUILD BIN
gDNAx 1.9.0  (landing page)
Robert Castelo
git_last_commit: 64d243e
git_last_commit_date: 2025-10-29 11:24:57 -0500
nebbiolo1Linux (Ubuntu 24.04.3 LTS) / x86_64  OK    OK    OK  YES
Package 203/638HostnameOS / ArchINSTALLBUILDCHECKBUILD BIN
gDRcore 1.9.1  (landing page)
Arkadiusz Gladki
git_last_commit: 6b41ab3
git_last_commit_date: 2025-10-30 05:31:59 -0500
nebbiolo1Linux (Ubuntu 24.04.3 LTS) / x86_64  OK    OK    OK  UNNEEDED, same version is already published
Package 204/638HostnameOS / ArchINSTALLBUILDCHECKBUILD BIN
gDRimport 1.9.1  (landing page)
Arkadiusz Gladki
git_last_commit: 16632cf
git_last_commit_date: 2025-10-30 05:32:55 -0500
nebbiolo1Linux (Ubuntu 24.04.3 LTS) / x86_64  OK    OK    OK  UNNEEDED, same version is already published
Package 205/638HostnameOS / ArchINSTALLBUILDCHECKBUILD BIN
gDRutils 1.9.1  (landing page)
Arkadiusz Gladki
git_last_commit: 4a412dc
git_last_commit_date: 2025-10-30 05:33:15 -0500
nebbiolo1Linux (Ubuntu 24.04.3 LTS) / x86_64  OK    OK    OK  UNNEEDED, same version is already published
Package 206/638HostnameOS / ArchINSTALLBUILDCHECKBUILD BIN
gemma.R 3.7.0  (landing page)
Ogan Mancarci
git_last_commit: 8486536
git_last_commit_date: 2025-10-29 11:18:54 -0500
nebbiolo1Linux (Ubuntu 24.04.3 LTS) / x86_64  OK    OK    OK  UNNEEDED, same version is already published
Package 207/638HostnameOS / ArchINSTALLBUILDCHECKBUILD BIN
GeneTonic 3.5.0  (landing page)
Federico Marini
git_last_commit: 0340f38
git_last_commit_date: 2025-10-29 10:56:40 -0500
nebbiolo1Linux (Ubuntu 24.04.3 LTS) / x86_64  OK    OK    OK  YES
Package 208/638HostnameOS / ArchINSTALLBUILDCHECKBUILD BIN
GenomicAlignments 1.47.0  (landing page)
Hervé Pagès
git_last_commit: 085e9df
git_last_commit_date: 2025-10-29 14:50:25 -0500
nebbiolo1Linux (Ubuntu 24.04.3 LTS) / x86_64  OK    OK    OK  UNNEEDED, same version is already published
Package 209/638HostnameOS / ArchINSTALLBUILDCHECKBUILD BIN
GenomicFiles 1.47.0  (landing page)
Bioconductor Package Maintainer
git_last_commit: 76a7462
git_last_commit_date: 2025-10-29 10:19:18 -0500
nebbiolo1Linux (Ubuntu 24.04.3 LTS) / x86_64  OK    OK    OK  YES
Package 210/638HostnameOS / ArchINSTALLBUILDCHECKBUILD BIN
genomicInstability 1.17.0  (landing page)
Mariano Alvarez
git_last_commit: 17308a2
git_last_commit_date: 2025-10-29 11:11:25 -0500
nebbiolo1Linux (Ubuntu 24.04.3 LTS) / x86_64  OK    OK    OK  UNNEEDED, same version is already published
Package 211/638HostnameOS / ArchINSTALLBUILDCHECKBUILD BIN
GenomicSuperSignature 1.19.0  (landing page)
Sehyun Oh
git_last_commit: 7a9c399
git_last_commit_date: 2025-10-29 11:09:57 -0500
nebbiolo1Linux (Ubuntu 24.04.3 LTS) / x86_64  OK    OK    WARNINGS  UNNEEDED, same version is already published
Package 212/638HostnameOS / ArchINSTALLBUILDCHECKBUILD BIN
GEOquery 2.79.0  (landing page)
Sean Davis
git_last_commit: 05cec56
git_last_commit_date: 2025-10-29 09:57:26 -0500
nebbiolo1Linux (Ubuntu 24.04.3 LTS) / x86_64  OK    OK    WARNINGS  UNNEEDED, same version is already published
Package 213/638HostnameOS / ArchINSTALLBUILDCHECKBUILD BIN
GeoTcgaData 2.11.0  (landing page)
Erqiang Hu
git_last_commit: 4541645
git_last_commit_date: 2025-10-29 11:21:53 -0500
nebbiolo1Linux (Ubuntu 24.04.3 LTS) / x86_64  OK    OK    OK  UNNEEDED, same version is already published
Package 214/638HostnameOS / ArchINSTALLBUILDCHECKBUILD BIN
getDEE2 1.21.0  (landing page)
Mark 0000-0002-7688-6974 Ziemann
git_last_commit: 5d99578
git_last_commit_date: 2025-10-29 10:59:58 -0500
nebbiolo1Linux (Ubuntu 24.04.3 LTS) / x86_64  OK    OK    OK  UNNEEDED, same version is already published
Package 215/638HostnameOS / ArchINSTALLBUILDCHECKBUILD BIN
geyser 1.3.0  (landing page)
David McGaughey
git_last_commit: 339131f
git_last_commit_date: 2025-10-29 11:33:40 -0500
nebbiolo1Linux (Ubuntu 24.04.3 LTS) / x86_64  OK    OK    OK  UNNEEDED, same version is already published
Package 216/638HostnameOS / ArchINSTALLBUILDCHECKBUILD BIN
ggbio 1.59.0  (landing page)
Michael Lawrence
git_last_commit: 6c3efb9
git_last_commit_date: 2025-10-29 10:09:27 -0500
nebbiolo1Linux (Ubuntu 24.04.3 LTS) / x86_64  OK    OK    WARNINGS  YES
Package 217/638HostnameOS / ArchINSTALLBUILDCHECKBUILD BIN
ggsc 1.9.0  (landing page)
Guangchuang Yu
git_last_commit: 9591222
git_last_commit_date: 2025-10-29 11:26:02 -0500
nebbiolo1Linux (Ubuntu 24.04.3 LTS) / x86_64  OK    OK    OK  UNNEEDED, same version is already published
Package 218/638HostnameOS / ArchINSTALLBUILDCHECKBUILD BIN
ggspavis 1.17.0  (landing page)
Lukas M. Weber
git_last_commit: 0e5bfdb
git_last_commit_date: 2025-10-29 11:11:33 -0500
nebbiolo1Linux (Ubuntu 24.04.3 LTS) / x86_64  OK    OK    OK  UNNEEDED, same version is already published
Package 219/638HostnameOS / ArchINSTALLBUILDCHECKBUILD BIN
gINTomics 1.7.0  (landing page)
Angelo Velle
git_last_commit: 4cacafe
git_last_commit_date: 2025-10-29 11:30:01 -0500
nebbiolo1Linux (Ubuntu 24.04.3 LTS) / x86_64  OK    OK    OK  NO, package depends on 'OmnipathR' which is not available
Package 220/638HostnameOS / ArchINSTALLBUILDCHECKBUILD BIN
Glimma 2.21.0  (landing page)
Shian Su
git_last_commit: c7699be
git_last_commit_date: 2025-10-29 10:31:31 -0500
nebbiolo1Linux (Ubuntu 24.04.3 LTS) / x86_64  OK    OK    OK  UNNEEDED, same version is already published
Package 221/638HostnameOS / ArchINSTALLBUILDCHECKBUILD BIN
glmGamPoi 1.23.0  (landing page)
Constantin Ahlmann-Eltze
git_last_commit: 23ac45d
git_last_commit_date: 2025-10-29 10:58:15 -0500
nebbiolo1Linux (Ubuntu 24.04.3 LTS) / x86_64  OK    OK    WARNINGS  UNNEEDED, same version is already published
Package 222/638HostnameOS / ArchINSTALLBUILDCHECKBUILD BIN
glmSparseNet 1.29.0  (landing page)
André Veríssimo
git_last_commit: 4e68566
git_last_commit_date: 2025-10-29 10:47:42 -0500
nebbiolo1Linux (Ubuntu 24.04.3 LTS) / x86_64  OK    ERROR  skipped
Package 223/638HostnameOS / ArchINSTALLBUILDCHECKBUILD BIN
GNET2 1.27.0  (landing page)
Chen Chen
git_last_commit: 2926e7b
git_last_commit_date: 2025-10-29 10:51:02 -0500
nebbiolo1Linux (Ubuntu 24.04.3 LTS) / x86_64  OK    OK    OK  UNNEEDED, same version is already published
Package 224/638HostnameOS / ArchINSTALLBUILDCHECKBUILD BIN
GRaNIE 1.15.0  (landing page)
Christian Arnold
git_last_commit: 43246b6
git_last_commit_date: 2025-10-29 11:16:56 -0500
nebbiolo1Linux (Ubuntu 24.04.3 LTS) / x86_64  OK    OK    ERROR  
Package 225/638HostnameOS / ArchINSTALLBUILDCHECKBUILD BIN
GreyListChIP 1.43.0  (landing page)
Matt Eldridge
git_last_commit: 8633e38
git_last_commit_date: 2025-10-29 10:23:48 -0500
nebbiolo1Linux (Ubuntu 24.04.3 LTS) / x86_64  OK    OK    OK  YES
Package 226/638HostnameOS / ArchINSTALLBUILDCHECKBUILD BIN
GRmetrics 1.37.0  (landing page)
Nicholas Clark , Mario Medvedovic
git_last_commit: c19a8a1
git_last_commit_date: 2025-10-29 10:33:50 -0500
nebbiolo1Linux (Ubuntu 24.04.3 LTS) / x86_64  OK    OK    OK  UNNEEDED, same version is already published
Package 227/638HostnameOS / ArchINSTALLBUILDCHECKBUILD BIN
gscreend 1.25.0  (landing page)
Katharina Imkeller
git_last_commit: 53c6ec5
git_last_commit_date: 2025-10-29 10:54:53 -0500
nebbiolo1Linux (Ubuntu 24.04.3 LTS) / x86_64  OK    OK    OK  UNNEEDED, same version is already published
Package 228/638HostnameOS / ArchINSTALLBUILDCHECKBUILD BIN
GSEABenchmarkeR 1.31.0  (landing page)
Ludwig Geistlinger
git_last_commit: 129d655
git_last_commit_date: 2025-10-29 10:44:06 -0500
nebbiolo1Linux (Ubuntu 24.04.3 LTS) / x86_64  OK    OK    OK  NO, package depends on 'EnrichmentBrowser' which is not available
Package 229/638HostnameOS / ArchINSTALLBUILDCHECKBUILD BIN
GSVA 2.5.0  (landing page)
Robert Castelo
git_last_commit: a714c64
git_last_commit_date: 2025-10-29 10:07:40 -0500
nebbiolo1Linux (Ubuntu 24.04.3 LTS) / x86_64  OK    OK    OK  YES
Package 230/638HostnameOS / ArchINSTALLBUILDCHECKBUILD BIN
gwasurvivr 1.29.0  (landing page)
Abbas Rizvi
git_last_commit: f8ecda5
git_last_commit_date: 2025-10-29 10:45:55 -0500
nebbiolo1Linux (Ubuntu 24.04.3 LTS) / x86_64  OK    OK    OK  YES
Package 231/638HostnameOS / ArchINSTALLBUILDCHECKBUILD BIN
GWENA 1.21.0  (landing page)
Gwenaëlle Lemoine
git_last_commit: 28d0013
git_last_commit_date: 2025-10-29 11:00:28 -0500
nebbiolo1Linux (Ubuntu 24.04.3 LTS) / x86_64  OK    OK    WARNINGS  UNNEEDED, same version is already published
Package 232/638HostnameOS / ArchINSTALLBUILDCHECKBUILD BIN
HarmonizR 1.9.0  (landing page)
Simon Schlumbohm
git_last_commit: 17b1b32
git_last_commit_date: 2025-10-29 11:24:28 -0500
nebbiolo1Linux (Ubuntu 24.04.3 LTS) / x86_64  OK    OK    OK  UNNEEDED, same version is already published
Package 233/638HostnameOS / ArchINSTALLBUILDCHECKBUILD BIN
HelloRanges 1.37.0  (landing page)
Michael Lawrence
git_last_commit: 38fc888
git_last_commit_date: 2025-10-29 10:35:10 -0500
nebbiolo1Linux (Ubuntu 24.04.3 LTS) / x86_64  OK    OK    OK  YES
Package 234/638HostnameOS / ArchINSTALLBUILDCHECKBUILD BIN
hermes 1.15.0  (landing page)
Daniel Sabanés Bové
git_last_commit: da21eaa
git_last_commit_date: 2025-10-29 11:14:07 -0500
nebbiolo1Linux (Ubuntu 24.04.3 LTS) / x86_64  OK    OK    OK  UNNEEDED, same version is already published
Package 235/638HostnameOS / ArchINSTALLBUILDCHECKBUILD BIN
HERON 1.9.0  (landing page)
Sean McIlwain
git_last_commit: 4b63635
git_last_commit_date: 2025-10-29 11:24:33 -0500
nebbiolo1Linux (Ubuntu 24.04.3 LTS) / x86_64  OK    OK    OK  UNNEEDED, same version is already published
Package 236/638HostnameOS / ArchINSTALLBUILDCHECKBUILD BIN
HiCDOC 1.13.0  (landing page)
Maigné Élise
git_last_commit: 6ee95b8
git_last_commit_date: 2025-10-29 11:17:41 -0500
nebbiolo1Linux (Ubuntu 24.04.3 LTS) / x86_64  OK    OK    OK  UNNEEDED, same version is already published
Package 237/638HostnameOS / ArchINSTALLBUILDCHECKBUILD BIN
HiContacts 1.13.0  (landing page)
Jacques Serizay
git_last_commit: 0b86ddb
git_last_commit_date: 2025-10-29 11:18:51 -0500
nebbiolo1Linux (Ubuntu 24.04.3 LTS) / x86_64  OK    OK    OK  UNNEEDED, same version is already published
Package 238/638HostnameOS / ArchINSTALLBUILDCHECKBUILD BIN
HiCParser 1.3.0  (landing page)
Maigné Élise
git_last_commit: a19d833
git_last_commit_date: 2025-10-29 11:34:38 -0500
nebbiolo1Linux (Ubuntu 24.04.3 LTS) / x86_64  OK    OK    OK  UNNEEDED, same version is already published
Package 239/638HostnameOS / ArchINSTALLBUILDCHECKBUILD BIN
hipathia 3.11.0  (landing page)
Marta R. Hidalgo
git_last_commit: 14e5361
git_last_commit_date: 2025-10-29 10:44:56 -0500
nebbiolo1Linux (Ubuntu 24.04.3 LTS) / x86_64  OK    ERROR  skipped
Package 240/638HostnameOS / ArchINSTALLBUILDCHECKBUILD BIN
HoloFoodR 1.5.0  (landing page)
Tuomas Borman
git_last_commit: 53c2191
git_last_commit_date: 2025-10-29 11:30:56 -0500
nebbiolo1Linux (Ubuntu 24.04.3 LTS) / x86_64  OK    OK    OK  UNNEEDED, same version is already published
Package 241/638HostnameOS / ArchINSTALLBUILDCHECKBUILD BIN
hoodscanR 1.9.0  (landing page)
Ning Liu
git_last_commit: fbbd399
git_last_commit_date: 2025-10-29 11:25:11 -0500
nebbiolo1Linux (Ubuntu 24.04.3 LTS) / x86_64  OK    OK    OK  UNNEEDED, same version is already published
Package 242/638HostnameOS / ArchINSTALLBUILDCHECKBUILD BIN
hummingbird 1.21.0  (landing page)
Eleni Adam
git_last_commit: dd35632
git_last_commit_date: 2025-10-29 11:01:14 -0500
nebbiolo1Linux (Ubuntu 24.04.3 LTS) / x86_64  OK    OK    OK  UNNEEDED, same version is already published
Package 243/638HostnameOS / ArchINSTALLBUILDCHECKBUILD BIN
HybridExpress 1.7.0  (landing page)
Fabricio Almeida-Silva
git_last_commit: 0f48849
git_last_commit_date: 2025-10-29 11:28:44 -0500
nebbiolo1Linux (Ubuntu 24.04.3 LTS) / x86_64  OK    OK    OK  UNNEEDED, same version is already published
Package 244/638HostnameOS / ArchINSTALLBUILDCHECKBUILD BIN
iasva 1.29.0  (landing page)
Donghyung Lee , Anthony Cheng
git_last_commit: b521934
git_last_commit_date: 2025-10-29 10:45:37 -0500
nebbiolo1Linux (Ubuntu 24.04.3 LTS) / x86_64  OK    OK    OK  UNNEEDED, same version is already published
Package 245/638HostnameOS / ArchINSTALLBUILDCHECKBUILD BIN
Ibex 1.1.0  (landing page)
Nick Borcherding
git_last_commit: 1dadb52
git_last_commit_date: 2025-10-29 11:38:26 -0500
nebbiolo1Linux (Ubuntu 24.04.3 LTS) / x86_64  OK    OK    OK  NO, package depends on 'scRepertoire' which is not available
Package 246/638HostnameOS / ArchINSTALLBUILDCHECKBUILD BIN
icetea 1.29.0  (landing page)
Vivek Bhardwaj
git_last_commit: 2bfbdfd
git_last_commit_date: 2025-10-29 10:45:57 -0500
nebbiolo1Linux (Ubuntu 24.04.3 LTS) / x86_64  OK    OK    WARNINGS  YES
Package 247/638HostnameOS / ArchINSTALLBUILDCHECKBUILD BIN
ideal 2.5.0  (landing page)
Federico Marini
git_last_commit: 2ff36ae
git_last_commit_date: 2025-10-29 10:38:28 -0500
nebbiolo1Linux (Ubuntu 24.04.3 LTS) / x86_64  OK    OK    OK  YES
Package 248/638HostnameOS / ArchINSTALLBUILDCHECKBUILD BIN
IFAA 1.13.0  (landing page)
Zhigang Li
git_last_commit: 4c864fa
git_last_commit_date: 2025-10-29 11:20:10 -0500
nebbiolo1Linux (Ubuntu 24.04.3 LTS) / x86_64  OK    OK    OK  UNNEEDED, same version is already published
Package 249/638HostnameOS / ArchINSTALLBUILDCHECKBUILD BIN
IgGeneUsage 1.25.0  (landing page)
Simo Kitanovski
git_last_commit: 03134f1
git_last_commit_date: 2025-10-29 10:53:29 -0500
nebbiolo1Linux (Ubuntu 24.04.3 LTS) / x86_64  OK    OK    OK  UNNEEDED, same version is already published
Package 250/638HostnameOS / ArchINSTALLBUILDCHECKBUILD BIN
ILoReg 1.21.0  (landing page)
Johannes Smolander
git_last_commit: 676b5a1
git_last_commit_date: 2025-10-29 11:00:58 -0500
nebbiolo1Linux (Ubuntu 24.04.3 LTS) / x86_64  OK    OK    WARNINGS  UNNEEDED, same version is already published
Package 251/638HostnameOS / ArchINSTALLBUILDCHECKBUILD BIN
imcRtools 1.17.0  (landing page)
Daniel Schulz
git_last_commit: 00166f2
git_last_commit_date: 2025-10-29 11:12:28 -0500
nebbiolo1Linux (Ubuntu 24.04.3 LTS) / x86_64  OK    OK    OK  UNNEEDED, same version is already published
Package 252/638HostnameOS / ArchINSTALLBUILDCHECKBUILD BIN
iModMix 1.1.0  (landing page)
Isis Narvaez-Bandera
git_last_commit: 096c0d6
git_last_commit_date: 2025-10-29 11:38:57 -0500
nebbiolo1Linux (Ubuntu 24.04.3 LTS) / x86_64  OK    OK    OK  UNNEEDED, same version is already published
Package 253/638HostnameOS / ArchINSTALLBUILDCHECKBUILD BIN
iNETgrate 1.9.0  (landing page)
Habil Zare
git_last_commit: 81fc611
git_last_commit_date: 2025-10-29 11:23:49 -0500
nebbiolo1Linux (Ubuntu 24.04.3 LTS) / x86_64  OK    OK    OK  NO, package depends on 'Pigengene' which is not available
Package 254/638HostnameOS / ArchINSTALLBUILDCHECKBUILD BIN
infercnv 1.27.0  (landing page)
Christophe Georgescu
git_last_commit: 4e0174e
git_last_commit_date: 2025-10-29 10:52:07 -0500
nebbiolo1Linux (Ubuntu 24.04.3 LTS) / x86_64  OK    OK    OK  UNNEEDED, same version is already published
Package 255/638HostnameOS / ArchINSTALLBUILDCHECKBUILD BIN
INSPEcT 1.41.0  (landing page)
Stefano de Pretis
git_last_commit: 54a4fbd
git_last_commit_date: 2025-10-29 10:26:37 -0500
nebbiolo1Linux (Ubuntu 24.04.3 LTS) / x86_64  OK    OK    OK  YES
Package 256/638HostnameOS / ArchINSTALLBUILDCHECKBUILD BIN
InTAD 1.31.0  (landing page)
Konstantin Okonechnikov
git_last_commit: c1355bb
git_last_commit_date: 2025-10-29 10:44:46 -0500
nebbiolo1Linux (Ubuntu 24.04.3 LTS) / x86_64  OK    OK    OK  YES
Package 257/638HostnameOS / ArchINSTALLBUILDCHECKBUILD BIN
InteractionSet 1.39.0  (landing page)
Aaron Lun
git_last_commit: 3862179
git_last_commit_date: 2025-10-29 10:31:52 -0500
nebbiolo1Linux (Ubuntu 24.04.3 LTS) / x86_64  OK    OK    OK  UNNEEDED, same version is already published
Package 258/638HostnameOS / ArchINSTALLBUILDCHECKBUILD BIN
IntEREst 1.35.0  (landing page)
Ali Oghabian
git_last_commit: 0e454ed
git_last_commit_date: 2025-10-29 10:37:18 -0500
nebbiolo1Linux (Ubuntu 24.04.3 LTS) / x86_64  OK    ERROR  skipped
Package 259/638HostnameOS / ArchINSTALLBUILDCHECKBUILD BIN
iSEE 2.23.0  (landing page)
Kevin Rue-Albrecht
git_last_commit: bbed327
git_last_commit_date: 2025-10-29 10:43:55 -0500
nebbiolo1Linux (Ubuntu 24.04.3 LTS) / x86_64  OK    OK    OK  UNNEEDED, same version is already published
Package 260/638HostnameOS / ArchINSTALLBUILDCHECKBUILD BIN
iSEEde 1.9.0  (landing page)
Kevin Rue-Albrecht
git_last_commit: b1d08fe
git_last_commit_date: 2025-10-29 11:24:44 -0500
nebbiolo1Linux (Ubuntu 24.04.3 LTS) / x86_64  OK    OK    OK  UNNEEDED, same version is already published
Package 261/638HostnameOS / ArchINSTALLBUILDCHECKBUILD BIN
iSEEfier 1.7.0  (landing page)
Najla Abassi
git_last_commit: a000139
git_last_commit_date: 2025-10-29 11:29:10 -0500
nebbiolo1Linux (Ubuntu 24.04.3 LTS) / x86_64  OK    OK    OK  UNNEEDED, same version is already published
Package 262/638HostnameOS / ArchINSTALLBUILDCHECKBUILD BIN
iSEEhex 1.13.0  (landing page)
Kevin Rue-Albrecht
git_last_commit: 2ce63cf
git_last_commit_date: 2025-10-29 11:17:20 -0500
nebbiolo1Linux (Ubuntu 24.04.3 LTS) / x86_64  OK    OK    OK  UNNEEDED, same version is already published
Package 263/638HostnameOS / ArchINSTALLBUILDCHECKBUILD BIN
iSEEhub 1.13.0  (landing page)
Kevin Rue-Albrecht
git_last_commit: f5f8921
git_last_commit_date: 2025-10-29 11:18:40 -0500
nebbiolo1Linux (Ubuntu 24.04.3 LTS) / x86_64  OK    OK    OK  UNNEEDED, same version is already published
Package 264/638HostnameOS / ArchINSTALLBUILDCHECKBUILD BIN
iSEEindex 1.9.0  (landing page)
Kevin Rue-Albrecht
git_last_commit: 8de1724
git_last_commit_date: 2025-10-29 11:23:59 -0500
nebbiolo1Linux (Ubuntu 24.04.3 LTS) / x86_64  OK    OK    OK  UNNEEDED, same version is already published
Package 265/638HostnameOS / ArchINSTALLBUILDCHECKBUILD BIN
iSEEpathways 1.9.0  (landing page)
Kevin Rue-Albrecht
git_last_commit: 2f932af
git_last_commit_date: 2025-10-29 11:25:06 -0500
nebbiolo1Linux (Ubuntu 24.04.3 LTS) / x86_64  OK    OK    OK  UNNEEDED, same version is already published
Package 266/638HostnameOS / ArchINSTALLBUILDCHECKBUILD BIN
iSEEtree 1.5.0  (landing page)
Giulio Benedetti
git_last_commit: 63da959
git_last_commit_date: 2025-10-29 11:31:13 -0500
nebbiolo1Linux (Ubuntu 24.04.3 LTS) / x86_64  OK    OK    OK  UNNEEDED, same version is already published
Package 267/638HostnameOS / ArchINSTALLBUILDCHECKBUILD BIN
iSEEu 1.23.0  (landing page)
Kevin Rue-Albrecht
git_last_commit: 2f5ca87
git_last_commit_date: 2025-10-29 10:58:30 -0500
nebbiolo1Linux (Ubuntu 24.04.3 LTS) / x86_64  OK    OK    WARNINGS  UNNEEDED, same version is already published
Package 268/638HostnameOS / ArchINSTALLBUILDCHECKBUILD BIN
ISLET 1.13.0  (landing page)
Hao Feng
git_last_commit: 6b4e816
git_last_commit_date: 2025-10-29 11:18:35 -0500
nebbiolo1Linux (Ubuntu 24.04.3 LTS) / x86_64  OK    OK    OK  UNNEEDED, same version is already published
Package 269/638HostnameOS / ArchINSTALLBUILDCHECKBUILD BIN
IsoBayes 1.9.0  (landing page)
Simone Tiberi
git_last_commit: 2a6c228
git_last_commit_date: 2025-10-29 11:26:35 -0500
nebbiolo1Linux (Ubuntu 24.04.3 LTS) / x86_64  OK    OK    OK  UNNEEDED, same version is already published
Package 270/638HostnameOS / ArchINSTALLBUILDCHECKBUILD BIN
IsoformSwitchAnalyzeR 2.11.0  (landing page)
Kristoffer Vitting-Seerup
git_last_commit: dc055b6
git_last_commit_date: 2025-10-29 10:38:58 -0500
nebbiolo1Linux (Ubuntu 24.04.3 LTS) / x86_64  OK    OK    OK  YES
Package 271/638HostnameOS / ArchINSTALLBUILDCHECKBUILD BIN
isomiRs 1.39.0  (landing page)
Lorena Pantano
git_last_commit: feed20d
git_last_commit_date: 2025-10-29 10:31:12 -0500
nebbiolo1Linux (Ubuntu 24.04.3 LTS) / x86_64  OK    OK    ERROR  
Package 272/638HostnameOS / ArchINSTALLBUILDCHECKBUILD BIN
ivygapSE 1.33.0  (landing page)
VJ Carey
git_last_commit: e007a21
git_last_commit_date: 2025-10-29 10:41:50 -0500
nebbiolo1Linux (Ubuntu 24.04.3 LTS) / x86_64  OK    OK    OK  UNNEEDED, same version is already published
Package 273/638HostnameOS / ArchINSTALLBUILDCHECKBUILD BIN
kmcut 1.5.0  (landing page)
Igor Kuznetsov
git_last_commit: 2654e48
git_last_commit_date: 2025-10-29 11:31:26 -0500
nebbiolo1Linux (Ubuntu 24.04.3 LTS) / x86_64  OK    OK    OK  UNNEEDED, same version is already published
Package 274/638HostnameOS / ArchINSTALLBUILDCHECKBUILD BIN
LACE 2.15.0  (landing page)
Davide Maspero
git_last_commit: 389a4b3
git_last_commit_date: 2025-10-29 10:59:31 -0500
nebbiolo1Linux (Ubuntu 24.04.3 LTS) / x86_64  OK    OK    OK  UNNEEDED, same version is already published
Package 275/638HostnameOS / ArchINSTALLBUILDCHECKBUILD BIN
lefser 1.21.0  (landing page)
Sehyun Oh
git_last_commit: d77aa04
git_last_commit_date: 2025-10-29 11:04:25 -0500
nebbiolo1Linux (Ubuntu 24.04.3 LTS) / x86_64  OK    OK    OK  UNNEEDED, same version is already published
Package 276/638HostnameOS / ArchINSTALLBUILDCHECKBUILD BIN
lemur 1.9.0  (landing page)
Constantin Ahlmann-Eltze
git_last_commit: 2426da6
git_last_commit_date: 2025-10-29 11:26:19 -0500
nebbiolo1Linux (Ubuntu 24.04.3 LTS) / x86_64  OK    OK    WARNINGS  UNNEEDED, same version is already published
Package 277/638HostnameOS / ArchINSTALLBUILDCHECKBUILD BIN
limpca 1.7.0  (landing page)
Manon Martin
git_last_commit: 224acb2
git_last_commit_date: 2025-10-29 11:30:18 -0500
nebbiolo1Linux (Ubuntu 24.04.3 LTS) / x86_64  OK    OK    OK  UNNEEDED, same version is already published
Package 278/638HostnameOS / ArchINSTALLBUILDCHECKBUILD BIN
LimROTS 1.3.0  (landing page)
Ali Mostafa Anwar
git_last_commit: a82e83b
git_last_commit_date: 2025-10-29 11:33:21 -0500
nebbiolo1Linux (Ubuntu 24.04.3 LTS) / x86_64  OK    OK    OK  UNNEEDED, same version is already published
Package 279/638HostnameOS / ArchINSTALLBUILDCHECKBUILD BIN
lineagespot 1.15.0  (landing page)
Nikolaos Pechlivanis
git_last_commit: 409c851
git_last_commit_date: 2025-10-29 11:14:52 -0500
nebbiolo1Linux (Ubuntu 24.04.3 LTS) / x86_64  OK    OK    OK  YES
Package 280/638HostnameOS / ArchINSTALLBUILDCHECKBUILD BIN
lionessR 1.25.0  (landing page)
Ping-Han Hsieh
git_last_commit: e10cf52
git_last_commit_date: 2025-10-29 10:54:26 -0500
nebbiolo1Linux (Ubuntu 24.04.3 LTS) / x86_64  OK    OK    OK  UNNEEDED, same version is already published
Package 281/638HostnameOS / ArchINSTALLBUILDCHECKBUILD BIN
lipidr 2.25.0  (landing page)
Ahmed Mohamed
git_last_commit: 364f6ac
git_last_commit_date: 2025-10-29 10:51:46 -0500
nebbiolo1Linux (Ubuntu 24.04.3 LTS) / x86_64  OK    OK    OK  YES
Package 282/638HostnameOS / ArchINSTALLBUILDCHECKBUILD BIN
LipidTrend 1.1.0  (landing page)
Wei-Chung Cheng
git_last_commit: 8eef251
git_last_commit_date: 2025-10-29 11:36:37 -0500
nebbiolo1Linux (Ubuntu 24.04.3 LTS) / x86_64  OK    OK    OK  UNNEEDED, same version is already published
Package 283/638HostnameOS / ArchINSTALLBUILDCHECKBUILD BIN
lisaClust 1.19.0  (landing page)
Ellis Patrick
git_last_commit: f25f3da
git_last_commit_date: 2025-10-29 11:06:59 -0500
nebbiolo1Linux (Ubuntu 24.04.3 LTS) / x86_64  OK    OK    OK  UNNEEDED, same version is already published
Package 284/638HostnameOS / ArchINSTALLBUILDCHECKBUILD BIN
looking4clusters 1.1.0  (landing page)
David Barrios
git_last_commit: 7fb974e
git_last_commit_date: 2025-10-29 11:38:18 -0500
nebbiolo1Linux (Ubuntu 24.04.3 LTS) / x86_64  OK    OK    OK  UNNEEDED, same version is already published
Package 285/638HostnameOS / ArchINSTALLBUILDCHECKBUILD BIN
LoomExperiment 1.29.0  (landing page)
Bioconductor Package Maintainer
git_last_commit: dce7132
git_last_commit_date: 2025-10-29 10:48:53 -0500
nebbiolo1Linux (Ubuntu 24.04.3 LTS) / x86_64  OK    OK    OK  UNNEEDED, same version is already published
Package 286/638HostnameOS / ArchINSTALLBUILDCHECKBUILD BIN
maaslin3 1.3.0  (landing page)
William Nickols
git_last_commit: b274055
git_last_commit_date: 2025-10-29 11:33:46 -0500
nebbiolo1Linux (Ubuntu 24.04.3 LTS) / x86_64  OK    OK    OK  UNNEEDED, same version is already published
Package 287/638HostnameOS / ArchINSTALLBUILDCHECKBUILD BIN
Macarron 1.15.0  (landing page)
Sagun Maharjan
git_last_commit: 5c433e2
git_last_commit_date: 2025-10-29 11:16:43 -0500
nebbiolo1Linux (Ubuntu 24.04.3 LTS) / x86_64  OK    ERROR  skipped
Package 288/638HostnameOS / ArchINSTALLBUILDCHECKBUILD BIN
made4 1.85.0  (landing page)
Aedin Culhane
git_last_commit: 9e87f7f
git_last_commit_date: 2025-10-29 09:56:05 -0500
nebbiolo1Linux (Ubuntu 24.04.3 LTS) / x86_64  OK    OK    OK  UNNEEDED, same version is already published
Package 289/638HostnameOS / ArchINSTALLBUILDCHECKBUILD BIN
MAI 1.17.0  (landing page)
Jonathan Dekermanjian
git_last_commit: ca7ec3d
git_last_commit_date: 2025-10-29 11:11:14 -0500
nebbiolo1Linux (Ubuntu 24.04.3 LTS) / x86_64  OK    OK    OK  UNNEEDED, same version is already published
Package 290/638HostnameOS / ArchINSTALLBUILDCHECKBUILD BIN
mariner 1.11.0  (landing page)
Eric Davis
git_last_commit: bc186bb
git_last_commit_date: 2025-10-29 11:23:11 -0500
nebbiolo1Linux (Ubuntu 24.04.3 LTS) / x86_64  OK    OK    OK  YES
Package 291/638HostnameOS / ArchINSTALLBUILDCHECKBUILD BIN
marr 1.21.0  (landing page)
Tusharkanti Ghosh
git_last_commit: 9d1d483
git_last_commit_date: 2025-10-29 11:04:28 -0500
nebbiolo1Linux (Ubuntu 24.04.3 LTS) / x86_64  OK    OK    OK  UNNEEDED, same version is already published
Package 292/638HostnameOS / ArchINSTALLBUILDCHECKBUILD BIN
MAST 1.37.0  (landing page)
Andrew McDavid
git_last_commit: 29ffa2b
git_last_commit_date: 2025-10-29 10:34:54 -0500
nebbiolo1Linux (Ubuntu 24.04.3 LTS) / x86_64  OK    OK    OK  UNNEEDED, same version is already published
Package 293/638HostnameOS / ArchINSTALLBUILDCHECKBUILD BIN
mastR 1.11.0  (landing page)
Jinjin Chen
git_last_commit: 84f231b
git_last_commit_date: 2025-10-29 11:22:48 -0500
nebbiolo1Linux (Ubuntu 24.04.3 LTS) / x86_64  OK    OK    OK  NO, package depends on 'msigdb' which is not available
Package 294/638HostnameOS / ArchINSTALLBUILDCHECKBUILD BIN
MatrixQCvis 1.19.0  (landing page)
Thomas Naake
git_last_commit: 0b99d49
git_last_commit_date: 2025-10-29 11:09:24 -0500
nebbiolo1Linux (Ubuntu 24.04.3 LTS) / x86_64  OK    OK    OK  NO, package depends on 'proDA' which is not available
Package 295/638HostnameOS / ArchINSTALLBUILDCHECKBUILD BIN
MBASED 1.45.0  (landing page)
Oleg Mayba
git_last_commit: cd4e120
git_last_commit_date: 2025-10-29 10:21:07 -0500
nebbiolo1Linux (Ubuntu 24.04.3 LTS) / x86_64  OK    OK    OK  UNNEEDED, same version is already published
Package 296/638HostnameOS / ArchINSTALLBUILDCHECKBUILD BIN
mbkmeans 1.27.0  (landing page)
Davide Risso
git_last_commit: 2aa9036
git_last_commit_date: 2025-10-29 10:51:15 -0500
nebbiolo1Linux (Ubuntu 24.04.3 LTS) / x86_64  OK    OK    OK  UNNEEDED, same version is already published
Package 297/638HostnameOS / ArchINSTALLBUILDCHECKBUILD BIN
MBQN 2.23.0  (landing page)
Eva Brombacher
git_last_commit: 6c11f8c
git_last_commit_date: 2025-10-29 10:55:13 -0500
nebbiolo1Linux (Ubuntu 24.04.3 LTS) / x86_64  OK    OK    OK  UNNEEDED, same version is already published
Package 298/638HostnameOS / ArchINSTALLBUILDCHECKBUILD BIN
mCSEA 1.31.0  (landing page)
Jordi Martorell-Marugán
git_last_commit: ee727d5
git_last_commit_date: 2025-10-29 10:42:49 -0500
nebbiolo1Linux (Ubuntu 24.04.3 LTS) / x86_64  OK    ERROR  skipped
Package 299/638HostnameOS / ArchINSTALLBUILDCHECKBUILD BIN
MEAL 1.41.0  (landing page)
Xavier Escribà Montagut
git_last_commit: 7b303c8
git_last_commit_date: 2025-10-29 10:28:05 -0500
nebbiolo1Linux (Ubuntu 24.04.3 LTS) / x86_64  OK    OK    WARNINGS  YES
Package 300/638HostnameOS / ArchINSTALLBUILDCHECKBUILD BIN
MEAT 1.23.0  (landing page)
Sarah Voisin
git_last_commit: 9255364
git_last_commit_date: 2025-10-29 10:56:43 -0500
nebbiolo1Linux (Ubuntu 24.04.3 LTS) / x86_64  OK    OK    WARNINGS  YES
Package 301/638HostnameOS / ArchINSTALLBUILDCHECKBUILD BIN
MEB 1.25.0  (landing page)
Jiadi Zhu
git_last_commit: b767e6c
git_last_commit_date: 2025-10-29 10:54:34 -0500
nebbiolo1Linux (Ubuntu 24.04.3 LTS) / x86_64  OK    OK    OK  UNNEEDED, same version is already published
Package 302/638HostnameOS / ArchINSTALLBUILDCHECKBUILD BIN
MetaboAnnotation 1.15.0  (landing page)
Johannes Rainer
git_last_commit: 0232707
git_last_commit_date: 2025-10-29 11:14:44 -0500
nebbiolo1Linux (Ubuntu 24.04.3 LTS) / x86_64  OK    OK    OK  UNNEEDED, same version is already published
Package 303/638HostnameOS / ArchINSTALLBUILDCHECKBUILD BIN
MetaboDynamics 2.1.0  (landing page)
Katja Danielzik
git_last_commit: 6c0330e
git_last_commit_date: 2025-10-29 11:34:11 -0500
nebbiolo1Linux (Ubuntu 24.04.3 LTS) / x86_64  OK    OK    OK  UNNEEDED, same version is already published
Package 304/638HostnameOS / ArchINSTALLBUILDCHECKBUILD BIN
metabolomicsWorkbenchR 1.21.0  (landing page)
Gavin Rhys Lloyd
git_last_commit: d4ae095
git_last_commit_date: 2025-10-29 11:01:47 -0500
nebbiolo1Linux (Ubuntu 24.04.3 LTS) / x86_64  OK    OK    OK  NO, package depends on 'struct' which is not available
Package 305/638HostnameOS / ArchINSTALLBUILDCHECKBUILD BIN
MetaNeighbor 1.31.0  (landing page)
Stephan Fischer
git_last_commit: 29fdbe5
git_last_commit_date: 2025-10-29 10:42:30 -0500
nebbiolo1Linux (Ubuntu 24.04.3 LTS) / x86_64  OK    OK    ERROR  
Package 306/638HostnameOS / ArchINSTALLBUILDCHECKBUILD BIN
metaseqR2 1.23.0  (landing page)
Panagiotis Moulos
git_last_commit: 25b9df1
git_last_commit_date: 2025-10-29 10:59:18 -0500
nebbiolo1Linux (Ubuntu 24.04.3 LTS) / x86_64  OK    OK    OK  YES
Package 307/638HostnameOS / ArchINSTALLBUILDCHECKBUILD BIN
methodical 1.7.0  (landing page)
Richard Heery
git_last_commit: ca1b149
git_last_commit_date: 2025-10-29 11:27:18 -0500
nebbiolo1Linux (Ubuntu 24.04.3 LTS) / x86_64  OK    OK    WARNINGS  NO, package depends on 'annotatr' which is not available
Package 308/638HostnameOS / ArchINSTALLBUILDCHECKBUILD BIN
MethReg 1.21.0  (landing page)
Tiago Silva
git_last_commit: c52c384
git_last_commit_date: 2025-10-29 11:02:28 -0500
nebbiolo1Linux (Ubuntu 24.04.3 LTS) / x86_64  OK    OK    OK  YES
Package 309/638HostnameOS / ArchINSTALLBUILDCHECKBUILD BIN
methrix 1.25.0  (landing page)
Anand Mayakonda
git_last_commit: 797afd5
git_last_commit_date: 2025-10-29 10:55:34 -0500
nebbiolo1Linux (Ubuntu 24.04.3 LTS) / x86_64  OK    OK    OK  YES
Package 310/638HostnameOS / ArchINSTALLBUILDCHECKBUILD BIN
MethylAid 1.45.0  (landing page)
L.J.Sinke
git_last_commit: 4bb83e1
git_last_commit_date: 2025-10-29 10:19:42 -0500
nebbiolo1Linux (Ubuntu 24.04.3 LTS) / x86_64  OK    OK    OK  YES
Package 311/638HostnameOS / ArchINSTALLBUILDCHECKBUILD BIN
methyLImp2 1.7.0  (landing page)
Anna Plaksienko
git_last_commit: 93392c1
git_last_commit_date: 2025-10-29 11:28:39 -0500
nebbiolo1Linux (Ubuntu 24.04.3 LTS) / x86_64  OK    OK    OK  UNNEEDED, same version is already published
Package 312/638HostnameOS / ArchINSTALLBUILDCHECKBUILD BIN
methylPipe 1.45.0  (landing page)
Mattia Furlan
git_last_commit: 1246c88
git_last_commit_date: 2025-10-29 10:21:09 -0500
nebbiolo1Linux (Ubuntu 24.04.3 LTS) / x86_64  OK    OK    WARNINGS  YES
Package 313/638HostnameOS / ArchINSTALLBUILDCHECKBUILD BIN
methylscaper 1.19.0  (landing page)
Bacher Rhonda
git_last_commit: 2426d32
git_last_commit_date: 2025-10-29 11:07:12 -0500
nebbiolo1Linux (Ubuntu 24.04.3 LTS) / x86_64  OK    OK    OK  UNNEEDED, same version is already published
Package 314/638HostnameOS / ArchINSTALLBUILDCHECKBUILD BIN
methylumi 2.57.0  (landing page)
Sean Davis
git_last_commit: dcf4f3c
git_last_commit_date: 2025-10-29 10:02:53 -0500
nebbiolo1Linux (Ubuntu 24.04.3 LTS) / x86_64  OK    OK    OK  YES
Package 315/638HostnameOS / ArchINSTALLBUILDCHECKBUILD BIN
MetNet 1.29.0  (landing page)
Thomas Naake
git_last_commit: e4fd4ac
git_last_commit_date: 2025-10-29 10:47:00 -0500
nebbiolo1Linux (Ubuntu 24.04.3 LTS) / x86_64  OK    OK    OK  UNNEEDED, same version is already published
Package 316/638HostnameOS / ArchINSTALLBUILDCHECKBUILD BIN
MGnifyR 1.7.0  (landing page)
Tuomas Borman
git_last_commit: d6f3e14
git_last_commit_date: 2025-10-29 11:28:57 -0500
nebbiolo1Linux (Ubuntu 24.04.3 LTS) / x86_64  ERROR    ERROR  skipped
Package 317/638HostnameOS / ArchINSTALLBUILDCHECKBUILD BIN
mia 1.19.0  (landing page)
Tuomas Borman
git_last_commit: ba530f5
git_last_commit_date: 2025-10-29 11:07:20 -0500
nebbiolo1Linux (Ubuntu 24.04.3 LTS) / x86_64  OK    OK    OK  UNNEEDED, same version is already published
Package 318/638HostnameOS / ArchINSTALLBUILDCHECKBUILD BIN
miaDash 1.3.0  (landing page)
Giulio Benedetti
git_last_commit: 320315c
git_last_commit_date: 2025-10-29 11:35:29 -0500
nebbiolo1Linux (Ubuntu 24.04.3 LTS) / x86_64  OK    OK    OK  UNNEEDED, same version is already published
Package 319/638HostnameOS / ArchINSTALLBUILDCHECKBUILD BIN
miaSim 1.17.0  (landing page)
Yagmur Simsek
git_last_commit: 253acb3
git_last_commit_date: 2025-10-29 11:13:14 -0500
nebbiolo1Linux (Ubuntu 24.04.3 LTS) / x86_64  OK    OK    OK  UNNEEDED, same version is already published
Package 320/638HostnameOS / ArchINSTALLBUILDCHECKBUILD BIN
miaTime 1.1.0  (landing page)
Tuomas Borman
git_last_commit: 411484f
git_last_commit_date: 2025-10-29 11:37:15 -0500
nebbiolo1Linux (Ubuntu 24.04.3 LTS) / x86_64  OK    OK    OK  UNNEEDED, same version is already published
Package 321/638HostnameOS / ArchINSTALLBUILDCHECKBUILD BIN
miaViz 1.19.0  (landing page)
Tuomas Borman
git_last_commit: 5a360e5
git_last_commit_date: 2025-10-29 11:07:33 -0500
nebbiolo1Linux (Ubuntu 24.04.3 LTS) / x86_64  OK    OK    OK  UNNEEDED, same version is already published
Package 322/638HostnameOS / ArchINSTALLBUILDCHECKBUILD BIN
MicrobiotaProcess 1.23.0  (landing page)
Shuangbin Xu
git_last_commit: 9b6279e
git_last_commit_date: 2025-10-29 10:58:25 -0500
nebbiolo1Linux (Ubuntu 24.04.3 LTS) / x86_64  OK    OK    OK  UNNEEDED, same version is already published
Package 323/638HostnameOS / ArchINSTALLBUILDCHECKBUILD BIN
MICSQTL 1.9.0  (landing page)
Qian Li
git_last_commit: b9763ce
git_last_commit_date: 2025-10-29 11:24:12 -0500
nebbiolo1Linux (Ubuntu 24.04.3 LTS) / x86_64  OK    OK    OK  UNNEEDED, same version is already published
Package 324/638HostnameOS / ArchINSTALLBUILDCHECKBUILD BIN
midasHLA 1.19.0  (landing page)
Maciej Migdał
git_last_commit: f95a648
git_last_commit_date: 2025-10-29 11:06:38 -0500
nebbiolo1Linux (Ubuntu 24.04.3 LTS) / x86_64  OK    OK    WARNINGS  UNNEEDED, same version is already published
Package 325/638HostnameOS / ArchINSTALLBUILDCHECKBUILD BIN
miloR 2.7.0  (landing page)
Mike Morgan
git_last_commit: 6c5c6a3
git_last_commit_date: 2025-10-29 11:08:58 -0500
nebbiolo1Linux (Ubuntu 24.04.3 LTS) / x86_64  OK    OK    OK  UNNEEDED, same version is already published
Package 326/638HostnameOS / ArchINSTALLBUILDCHECKBUILD BIN
minfi 1.57.0  (landing page)
Kasper Daniel Hansen
git_last_commit: 36249fb
git_last_commit_date: 2025-10-29 10:09:18 -0500
nebbiolo1Linux (Ubuntu 24.04.3 LTS) / x86_64  OK    OK    OK  YES
Package 327/638HostnameOS / ArchINSTALLBUILDCHECKBUILD BIN
MinimumDistance 1.55.0  (landing page)
Robert Scharpf
git_last_commit: 3e07ba2
git_last_commit_date: 2025-10-29 10:10:57 -0500
nebbiolo1Linux (Ubuntu 24.04.3 LTS) / x86_64  OK    OK    WARNINGS  UNNEEDED, same version is already published
Package 328/638HostnameOS / ArchINSTALLBUILDCHECKBUILD BIN
miRLAB 1.41.0  (landing page)
Thuc Duy Le
git_last_commit: 4190086
git_last_commit_date: 2025-10-29 10:26:51 -0500
nebbiolo1Linux (Ubuntu 24.04.3 LTS) / x86_64  OK    OK    WARNINGS  UNNEEDED, same version is already published
Package 329/638HostnameOS / ArchINSTALLBUILDCHECKBUILD BIN
miRSM 2.7.0  (landing page)
Junpeng Zhang
git_last_commit: 64db36b
git_last_commit_date: 2025-10-29 10:47:11 -0500
nebbiolo1Linux (Ubuntu 24.04.3 LTS) / x86_64  OK    OK    OK  UNNEEDED, same version is already published
Package 330/638HostnameOS / ArchINSTALLBUILDCHECKBUILD BIN
missMethyl 1.45.0  (landing page)
Belinda Phipson
git_last_commit: 886b656
git_last_commit_date: 2025-10-29 10:20:32 -0500
nebbiolo1Linux (Ubuntu 24.04.3 LTS) / x86_64  OK    OK    WARNINGS  YES
Package 331/638HostnameOS / ArchINSTALLBUILDCHECKBUILD BIN
mist 1.3.0  (landing page)
Daoyu Duan
git_last_commit: ba089b8
git_last_commit_date: 2025-10-29 11:33:35 -0500
nebbiolo1Linux (Ubuntu 24.04.3 LTS) / x86_64  OK    OK    WARNINGS  YES
Package 332/638HostnameOS / ArchINSTALLBUILDCHECKBUILD BIN
MLInterfaces 1.91.0  (landing page)
Vincent Carey
git_last_commit: e9c6af4
git_last_commit_date: 2025-10-29 09:55:18 -0500
nebbiolo1Linux (Ubuntu 24.04.3 LTS) / x86_64  OK    OK    WARNINGS  UNNEEDED, same version is already published
Package 333/638HostnameOS / ArchINSTALLBUILDCHECKBUILD BIN
MLSeq 2.29.0  (landing page)
Gokmen Zararsiz
git_last_commit: b1aac87
git_last_commit_date: 2025-10-29 10:18:29 -0500
nebbiolo1Linux (Ubuntu 24.04.3 LTS) / x86_64  OK    OK    OK  UNNEEDED, same version is already published
Package 334/638HostnameOS / ArchINSTALLBUILDCHECKBUILD BIN
moanin 1.19.0  (landing page)
Nelle Varoquaux
git_last_commit: 9becdba
git_last_commit_date: 2025-10-29 11:04:42 -0500
nebbiolo1Linux (Ubuntu 24.04.3 LTS) / x86_64  OK    OK    OK  UNNEEDED, same version is already published
Package 335/638HostnameOS / ArchINSTALLBUILDCHECKBUILD BIN
mobileRNA 1.7.1  (landing page)
Katie Jeynes-Cupper
git_last_commit: b58cca2
git_last_commit_date: 2025-11-03 12:51:23 -0500
nebbiolo1Linux (Ubuntu 24.04.3 LTS) / x86_64  OK    OK    OK  YES
Package 336/638HostnameOS / ArchINSTALLBUILDCHECKBUILD BIN
monaLisa 1.17.0  (landing page)
Michael Stadler
git_last_commit: abfee88
git_last_commit_date: 2025-10-29 11:12:31 -0500
nebbiolo1Linux (Ubuntu 24.04.3 LTS) / x86_64  OK    OK    OK  YES
Package 337/638HostnameOS / ArchINSTALLBUILDCHECKBUILD BIN
MoonlightR 1.37.0  (landing page)
Matteo Tiberti
git_last_commit: 9303ed6
git_last_commit_date: 2025-10-29 10:35:02 -0500
nebbiolo1Linux (Ubuntu 24.04.3 LTS) / x86_64  OK    OK    OK  UNNEEDED, same version is already published
Package 338/638HostnameOS / ArchINSTALLBUILDCHECKBUILD BIN
mosdef 1.7.0  (landing page)
Federico Marini
git_last_commit: 9ba0438
git_last_commit_date: 2025-10-29 11:29:58 -0500
nebbiolo1Linux (Ubuntu 24.04.3 LTS) / x86_64  OK    OK    OK  YES
Package 339/638HostnameOS / ArchINSTALLBUILDCHECKBUILD BIN
motifbreakR 2.25.0  (landing page)
Simon Gert Coetzee
git_last_commit: 21e6965
git_last_commit_date: 2025-10-29 10:27:43 -0500
nebbiolo1Linux (Ubuntu 24.04.3 LTS) / x86_64  OK    ERROR  skipped
Package 340/638HostnameOS / ArchINSTALLBUILDCHECKBUILD BIN
motifmatchr 1.33.0  (landing page)
Alicia Schep
git_last_commit: c2e55a2
git_last_commit_date: 2025-10-29 10:38:55 -0500
nebbiolo1Linux (Ubuntu 24.04.3 LTS) / x86_64  OK    OK    OK  YES
Package 341/638HostnameOS / ArchINSTALLBUILDCHECKBUILD BIN
MotifPeeker 1.3.0  (landing page)
Hiranyamaya Dash
git_last_commit: fc93dac
git_last_commit_date: 2025-10-29 11:33:15 -0500
nebbiolo1Linux (Ubuntu 24.04.3 LTS) / x86_64  OK    OK    OK  YES
Package 342/638HostnameOS / ArchINSTALLBUILDCHECKBUILD BIN
MPAC 1.5.0  (landing page)
Peng Liu
git_last_commit: f287ddc
git_last_commit_date: 2025-10-29 11:30:37 -0500
nebbiolo1Linux (Ubuntu 24.04.3 LTS) / x86_64  OK    OK    OK  UNNEEDED, same version is already published
Package 343/638HostnameOS / ArchINSTALLBUILDCHECKBUILD BIN
mpra 1.33.0  (landing page)
Leslie Myint
git_last_commit: df59fd8
git_last_commit_date: 2025-10-29 10:42:02 -0500
nebbiolo1Linux (Ubuntu 24.04.3 LTS) / x86_64  OK    OK    OK  UNNEEDED, same version is already published
Package 344/638HostnameOS / ArchINSTALLBUILDCHECKBUILD BIN
MPRAnalyze 1.29.0  (landing page)
Tal Ashuach
git_last_commit: e893d06
git_last_commit_date: 2025-10-29 10:48:00 -0500
nebbiolo1Linux (Ubuntu 24.04.3 LTS) / x86_64  OK    OK    OK  UNNEEDED, same version is already published
Package 345/638HostnameOS / ArchINSTALLBUILDCHECKBUILD BIN
MsExperiment 1.13.0  (landing page)
Laurent Gatto
git_last_commit: 18b0bf2
git_last_commit_date: 2025-10-29 11:18:49 -0500
nebbiolo1Linux (Ubuntu 24.04.3 LTS) / x86_64  OK    OK    OK  UNNEEDED, same version is already published
Package 346/638HostnameOS / ArchINSTALLBUILDCHECKBUILD BIN
MsFeatures 1.19.0  (landing page)
Johannes Rainer
git_last_commit: e8548f3
git_last_commit_date: 2025-10-29 11:06:00 -0500
nebbiolo1Linux (Ubuntu 24.04.3 LTS) / x86_64  OK    OK    OK  UNNEEDED, same version is already published
Package 347/638HostnameOS / ArchINSTALLBUILDCHECKBUILD BIN
msgbsR 1.35.0  (landing page)
Benjamin Mayne
git_last_commit: 77cc103
git_last_commit_date: 2025-10-29 10:38:42 -0500
nebbiolo1Linux (Ubuntu 24.04.3 LTS) / x86_64  OK    OK    OK  YES
Package 348/638HostnameOS / ArchINSTALLBUILDCHECKBUILD BIN
mspms 1.3.0  (landing page)
Charlie Bayne
git_last_commit: fa7b34d
git_last_commit_date: 2025-10-29 11:33:10 -0500
nebbiolo1Linux (Ubuntu 24.04.3 LTS) / x86_64  OK    OK    OK  UNNEEDED, same version is already published
Package 349/638HostnameOS / ArchINSTALLBUILDCHECKBUILD BIN
MSPrep 1.21.0  (landing page)
Max McGrath
git_last_commit: e2ae0eb
git_last_commit_date: 2025-10-29 11:02:54 -0500
nebbiolo1Linux (Ubuntu 24.04.3 LTS) / x86_64  OK    OK    ERROR  
Package 350/638HostnameOS / ArchINSTALLBUILDCHECKBUILD BIN
msqrob2 1.19.0  (landing page)
Lieven Clement
git_last_commit: 1fe284d
git_last_commit_date: 2025-10-29 11:09:38 -0500
nebbiolo1Linux (Ubuntu 24.04.3 LTS) / x86_64  OK    OK    OK  UNNEEDED, same version is already published
Package 351/638HostnameOS / ArchINSTALLBUILDCHECKBUILD BIN
MuData 1.15.0  (landing page)
Ilia Kats
git_last_commit: 186e639
git_last_commit_date: 2025-10-29 11:15:11 -0500
nebbiolo1Linux (Ubuntu 24.04.3 LTS) / x86_64  OK    OK    OK  UNNEEDED, same version is already published
Package 352/638HostnameOS / ArchINSTALLBUILDCHECKBUILD BIN
MultiAssayExperiment 1.37.0  (landing page)
Marcel Ramos
git_last_commit: bcc9a96
git_last_commit_date: 2025-10-29 10:31:09 -0500
nebbiolo1Linux (Ubuntu 24.04.3 LTS) / x86_64  OK    OK    OK  UNNEEDED, same version is already published
Package 353/638HostnameOS / ArchINSTALLBUILDCHECKBUILD BIN
MultiDataSet 1.39.0  (landing page)
Xavier Escribà Montagut
git_last_commit: 5045884
git_last_commit_date: 2025-10-29 10:31:59 -0500
nebbiolo1Linux (Ubuntu 24.04.3 LTS) / x86_64  OK    OK    WARNINGS  YES
Package 354/638HostnameOS / ArchINSTALLBUILDCHECKBUILD BIN
MultiRNAflow 1.9.0  (landing page)
Rodolphe Loubaton
git_last_commit: 3c2e28d
git_last_commit_date: 2025-10-29 11:24:54 -0500
nebbiolo1Linux (Ubuntu 24.04.3 LTS) / x86_64  OK    OK    OK  UNNEEDED, same version is already published
Package 355/638HostnameOS / ArchINSTALLBUILDCHECKBUILD BIN
multistateQTL 2.3.0  (landing page)
Amelia Dunstone
git_last_commit: b4ce60c
git_last_commit_date: 2025-10-29 11:29:43 -0500
nebbiolo1Linux (Ubuntu 24.04.3 LTS) / x86_64  OK    OK    OK  UNNEEDED, same version is already published
Package 356/638HostnameOS / ArchINSTALLBUILDCHECKBUILD BIN
multiWGCNA 1.9.0  (landing page)
Dario Tommasini
git_last_commit: 40a34c6
git_last_commit_date: 2025-10-29 11:24:20 -0500
nebbiolo1Linux (Ubuntu 24.04.3 LTS) / x86_64  OK    OK    ERROR  
Package 357/638HostnameOS / ArchINSTALLBUILDCHECKBUILD BIN
mumosa 1.19.0  (landing page)
Aaron Lun
git_last_commit: 67c3814
git_last_commit_date: 2025-10-29 11:05:15 -0500
nebbiolo1Linux (Ubuntu 24.04.3 LTS) / x86_64  OK    OK    OK  UNNEEDED, same version is already published
Package 358/638HostnameOS / ArchINSTALLBUILDCHECKBUILD BIN
muscat 1.25.0  (landing page)
Helena L. Crowell
git_last_commit: 7a0ebff
git_last_commit_date: 2025-10-29 10:53:55 -0500
nebbiolo1Linux (Ubuntu 24.04.3 LTS) / x86_64  OK    OK    OK  UNNEEDED, same version is already published
Package 359/638HostnameOS / ArchINSTALLBUILDCHECKBUILD BIN
musicatk 2.5.0  (landing page)
Joshua D. Campbell
git_last_commit: ec6bf01
git_last_commit_date: 2025-10-29 11:03:52 -0500
nebbiolo1Linux (Ubuntu 24.04.3 LTS) / x86_64  OK    OK    OK  YES
Package 360/638HostnameOS / ArchINSTALLBUILDCHECKBUILD BIN
mutscan 1.1.0  (landing page)
Charlotte Soneson
git_last_commit: 30e3669
git_last_commit_date: 2025-10-29 11:37:32 -0500
nebbiolo1Linux (Ubuntu 24.04.3 LTS) / x86_64  OK    OK    OK  UNNEEDED, same version is already published
Package 361/638HostnameOS / ArchINSTALLBUILDCHECKBUILD BIN
MWASTools 1.35.0  (landing page)
Andrea Rodriguez-Martinez , Rafael Ayala
git_last_commit: 8cc5c70
git_last_commit_date: 2025-10-29 10:35:43 -0500
nebbiolo1Linux (Ubuntu 24.04.3 LTS) / x86_64  OK    OK    OK  UNNEEDED, same version is already published
Package 362/638HostnameOS / ArchINSTALLBUILDCHECKBUILD BIN
NADfinder 1.35.0  (landing page)
Jianhong Ou
git_last_commit: 7e7a887
git_last_commit_date: 2025-10-29 10:37:48 -0500
nebbiolo1Linux (Ubuntu 24.04.3 LTS) / x86_64  ERROR    ERROR  skipped
Package 363/638HostnameOS / ArchINSTALLBUILDCHECKBUILD BIN
NanoMethViz 3.7.0  (landing page)
Shian Su
git_last_commit: 4349b36
git_last_commit_date: 2025-10-29 11:04:08 -0500
nebbiolo1Linux (Ubuntu 24.04.3 LTS) / x86_64  OK    OK    OK  YES
Package 364/638HostnameOS / ArchINSTALLBUILDCHECKBUILD BIN
NBAMSeq 1.27.0  (landing page)
Xu Ren
git_last_commit: e827f50
git_last_commit_date: 2025-10-29 10:51:23 -0500
nebbiolo1Linux (Ubuntu 24.04.3 LTS) / x86_64  OK    OK    OK  UNNEEDED, same version is already published
Package 365/638HostnameOS / ArchINSTALLBUILDCHECKBUILD BIN
Nebulosa 1.21.0  (landing page)
Jose Alquicira-Hernandez
git_last_commit: 7bc1fc4
git_last_commit_date: 2025-10-29 11:01:25 -0500
nebbiolo1Linux (Ubuntu 24.04.3 LTS) / x86_64  OK    OK    OK  UNNEEDED, same version is already published
Package 366/638HostnameOS / ArchINSTALLBUILDCHECKBUILD BIN
NetActivity 1.13.0  (landing page)
Carlos Ruiz-Arenas
git_last_commit: 0cad5d9
git_last_commit_date: 2025-10-29 11:19:51 -0500
nebbiolo1Linux (Ubuntu 24.04.3 LTS) / x86_64  OK    OK    OK  UNNEEDED, same version is already published
Package 367/638HostnameOS / ArchINSTALLBUILDCHECKBUILD BIN
netSmooth 1.31.0  (landing page)
Jonathan Ronen
git_last_commit: 33fddd7
git_last_commit_date: 2025-10-29 10:45:19 -0500
nebbiolo1Linux (Ubuntu 24.04.3 LTS) / x86_64  OK    OK    OK  UNNEEDED, same version is already published
Package 368/638HostnameOS / ArchINSTALLBUILDCHECKBUILD BIN
NewWave 1.21.0  (landing page)
Federico Agostinis
git_last_commit: b3c35af
git_last_commit_date: 2025-10-29 11:04:34 -0500
nebbiolo1Linux (Ubuntu 24.04.3 LTS) / x86_64  OK    OK    OK  UNNEEDED, same version is already published
Package 369/638HostnameOS / ArchINSTALLBUILDCHECKBUILD BIN
nipalsMCIA 1.9.0  (landing page)
Maximilian Mattessich
git_last_commit: 9adbe20
git_last_commit_date: 2025-10-29 11:25:22 -0500
nebbiolo1Linux (Ubuntu 24.04.3 LTS) / x86_64  OK    OK    OK  UNNEEDED, same version is already published
Package 370/638HostnameOS / ArchINSTALLBUILDCHECKBUILD BIN
nnSVG 1.15.0  (landing page)
Lukas M. Weber
git_last_commit: 2a226ef
git_last_commit_date: 2025-10-29 11:15:43 -0500
nebbiolo1Linux (Ubuntu 24.04.3 LTS) / x86_64  OK    OK    OK  UNNEEDED, same version is already published
Package 371/638HostnameOS / ArchINSTALLBUILDCHECKBUILD BIN
NoRCE 1.23.0  (landing page)
Gulden Olgun
git_last_commit: 1e7412c
git_last_commit_date: 2025-10-29 10:57:38 -0500
nebbiolo1Linux (Ubuntu 24.04.3 LTS) / x86_64  OK    OK    OK  YES
Package 372/638HostnameOS / ArchINSTALLBUILDCHECKBUILD BIN
NormalyzerDE 1.29.0  (landing page)
Jakob Willforss
git_last_commit: 1b37592
git_last_commit_date: 2025-10-29 10:47:24 -0500
nebbiolo1Linux (Ubuntu 24.04.3 LTS) / x86_64  OK    OK    WARNINGS  UNNEEDED, same version is already published
Package 373/638HostnameOS / ArchINSTALLBUILDCHECKBUILD BIN
notame 1.1.0  (landing page)
Vilhelm Suksi
git_last_commit: 778b063
git_last_commit_date: 2025-10-29 11:38:23 -0500
nebbiolo1Linux (Ubuntu 24.04.3 LTS) / x86_64  OK    OK    OK  UNNEEDED, same version is already published
Package 374/638HostnameOS / ArchINSTALLBUILDCHECKBUILD BIN
notameStats 1.1.0  (landing page)
Vilhelm Suksi
git_last_commit: 87a06cd
git_last_commit_date: 2025-10-29 11:38:32 -0500
nebbiolo1Linux (Ubuntu 24.04.3 LTS) / x86_64  OK    OK    ERROR  
Package 375/638HostnameOS / ArchINSTALLBUILDCHECKBUILD BIN
notameViz 1.1.0  (landing page)
Vilhelm Suksi
git_last_commit: 1590e89
git_last_commit_date: 2025-10-29 11:38:35 -0500
nebbiolo1Linux (Ubuntu 24.04.3 LTS) / x86_64  OK    OK    OK  UNNEEDED, same version is already published
Package 376/638HostnameOS / ArchINSTALLBUILDCHECKBUILD BIN
oligoClasses 1.73.0  (landing page)
Benilton Carvalho and Robert Scharpf
git_last_commit: 924ec0a
git_last_commit_date: 2025-10-29 09:59:50 -0500
nebbiolo1Linux (Ubuntu 24.04.3 LTS) / x86_64  OK    OK    WARNINGS  UNNEEDED, same version is already published
Package 377/638HostnameOS / ArchINSTALLBUILDCHECKBUILD BIN
omicRexposome 1.33.0  (landing page)
Xavier Escribà Montagut
git_last_commit: 72cf7a2
git_last_commit_date: 2025-10-29 10:41:13 -0500
nebbiolo1Linux (Ubuntu 24.04.3 LTS) / x86_64  OK    OK    OK  YES
Package 378/638HostnameOS / ArchINSTALLBUILDCHECKBUILD BIN
omicsGMF 1.1.0  (landing page)
Alexandre Segers
git_last_commit: 66f9d2d
git_last_commit_date: 2025-10-29 11:39:15 -0500
nebbiolo1Linux (Ubuntu 24.04.3 LTS) / x86_64  OK    OK    OK  UNNEEDED, same version is already published
Package 379/638HostnameOS / ArchINSTALLBUILDCHECKBUILD BIN
omicsPrint 1.31.0  (landing page)
Davy Cats
git_last_commit: a7fe1fa
git_last_commit_date: 2025-10-29 10:42:25 -0500
nebbiolo1Linux (Ubuntu 24.04.3 LTS) / x86_64  OK    OK    WARNINGS  UNNEEDED, same version is already published
Package 380/638HostnameOS / ArchINSTALLBUILDCHECKBUILD BIN
omicsViewer 1.15.0  (landing page)
Chen Meng
git_last_commit: e91edf4
git_last_commit_date: 2025-10-29 11:16:46 -0500
nebbiolo1Linux (Ubuntu 24.04.3 LTS) / x86_64  OK    OK    WARNINGS  UNNEEDED, same version is already published
Package 381/638HostnameOS / ArchINSTALLBUILDCHECKBUILD BIN
omXplore 1.5.0  (landing page)
Samuel Wieczorek
git_last_commit: dd3714f
git_last_commit_date: 2025-10-29 11:32:10 -0500
nebbiolo1Linux (Ubuntu 24.04.3 LTS) / x86_64  OK    OK    ERROR  
Package 382/638HostnameOS / ArchINSTALLBUILDCHECKBUILD BIN
oncomix 1.33.0  (landing page)
Daniel Pique
git_last_commit: cca44aa
git_last_commit_date: 2025-10-29 10:41:55 -0500
nebbiolo1Linux (Ubuntu 24.04.3 LTS) / x86_64  OK    OK    OK  UNNEEDED, same version is already published
Package 383/638HostnameOS / ArchINSTALLBUILDCHECKBUILD BIN
ontoProc 2.5.0  (landing page)
Vincent Carey
git_last_commit: a09f239
git_last_commit_date: 2025-10-29 19:20:08 -0500
nebbiolo1Linux (Ubuntu 24.04.3 LTS) / x86_64  OK    OK    OK  YES
Package 384/638HostnameOS / ArchINSTALLBUILDCHECKBUILD BIN
ORFik 1.31.0  (landing page)
Haakon Tjeldnes
git_last_commit: 1c0375d
git_last_commit_date: 2025-10-29 10:45:22 -0500
nebbiolo1Linux (Ubuntu 24.04.3 LTS) / x86_64  OK    OK    OK  YES
Package 385/638HostnameOS / ArchINSTALLBUILDCHECKBUILD BIN
orthos 1.9.0  (landing page)
Panagiotis Papasaikas
git_last_commit: dc6b128
git_last_commit_date: 2025-10-29 11:24:17 -0500
nebbiolo1Linux (Ubuntu 24.04.3 LTS) / x86_64  OK    OK    OK  UNNEEDED, same version is already published
Package 386/638HostnameOS / ArchINSTALLBUILDCHECKBUILD BIN
OUTRIDER 1.29.0  (landing page)
Christian Mertes
git_last_commit: 8caa8cb
git_last_commit_date: 2025-10-29 10:46:21 -0500
nebbiolo1Linux (Ubuntu 24.04.3 LTS) / x86_64  OK    OK    OK  YES
Package 387/638HostnameOS / ArchINSTALLBUILDCHECKBUILD BIN
OVESEG 1.27.0  (landing page)
Lulu Chen
git_last_commit: 08399f1
git_last_commit_date: 2025-10-29 10:49:34 -0500
nebbiolo1Linux (Ubuntu 24.04.3 LTS) / x86_64  OK    OK    OK  UNNEEDED, same version is already published
Package 388/638HostnameOS / ArchINSTALLBUILDCHECKBUILD BIN
padma 1.21.0  (landing page)
Andrea Rau
git_last_commit: 79cd1b2
git_last_commit_date: 2025-10-29 11:00:30 -0500
nebbiolo1Linux (Ubuntu 24.04.3 LTS) / x86_64  OK    OK    OK  UNNEEDED, same version is already published
Package 389/638HostnameOS / ArchINSTALLBUILDCHECKBUILD BIN
PAIRADISE 1.27.0  (landing page)
Qiang Hu , Levon Demirdjian
git_last_commit: 02e7d4f
git_last_commit_date: 2025-10-29 10:49:32 -0500
nebbiolo1Linux (Ubuntu 24.04.3 LTS) / x86_64  OK    OK    OK  UNNEEDED, same version is already published
Package 390/638HostnameOS / ArchINSTALLBUILDCHECKBUILD BIN
pairedGSEA 1.11.0  (landing page)
Søren Helweg Dam
git_last_commit: dcfda05
git_last_commit_date: 2025-10-29 11:22:53 -0500
nebbiolo1Linux (Ubuntu 24.04.3 LTS) / x86_64  OK    OK    OK  UNNEEDED, same version is already published
Package 391/638HostnameOS / ArchINSTALLBUILDCHECKBUILD BIN
pairkat 1.17.0  (landing page)
Max McGrath
git_last_commit: 98fe53c
git_last_commit_date: 2025-10-29 11:12:44 -0500
nebbiolo1Linux (Ubuntu 24.04.3 LTS) / x86_64  OK    OK    OK  UNNEEDED, same version is already published
Package 392/638HostnameOS / ArchINSTALLBUILDCHECKBUILD BIN
pcaExplorer 3.5.0  (landing page)
Federico Marini
git_last_commit: 4e88ee9
git_last_commit_date: 2025-10-29 10:31:39 -0500
nebbiolo1Linux (Ubuntu 24.04.3 LTS) / x86_64  OK    OK    OK  YES
Package 393/638HostnameOS / ArchINSTALLBUILDCHECKBUILD BIN
PDATK 1.19.0  (landing page)
Benjamin Haibe-Kains
git_last_commit: 16dbbfe
git_last_commit_date: 2025-10-29 11:06:36 -0500
nebbiolo1Linux (Ubuntu 24.04.3 LTS) / x86_64  OK    OK    WARNINGS  UNNEEDED, same version is already published
Package 394/638HostnameOS / ArchINSTALLBUILDCHECKBUILD BIN
peco 1.23.0  (landing page)
Chiaowen Joyce Hsiao
git_last_commit: 92a92cd
git_last_commit_date: 2025-10-29 10:58:02 -0500
nebbiolo1Linux (Ubuntu 24.04.3 LTS) / x86_64  OK    OK    OK  UNNEEDED, same version is already published
Package 395/638HostnameOS / ArchINSTALLBUILDCHECKBUILD BIN
PepSetTest 1.5.0  (landing page)
Junmin Wang
git_last_commit: f2ac665
git_last_commit_date: 2025-10-29 11:30:58 -0500
nebbiolo1Linux (Ubuntu 24.04.3 LTS) / x86_64  OK    OK    OK  UNNEEDED, same version is already published
Package 396/638HostnameOS / ArchINSTALLBUILDCHECKBUILD BIN
pgxRpi 1.7.0  (landing page)
Hangjia Zhao
git_last_commit: 8de3d7a
git_last_commit_date: 2025-10-29 11:26:40 -0500
nebbiolo1Linux (Ubuntu 24.04.3 LTS) / x86_64  OK    OK    OK  UNNEEDED, same version is already published
Package 397/638HostnameOS / ArchINSTALLBUILDCHECKBUILD BIN
PharmacoGx 3.15.0  (landing page)
Benjamin Haibe-Kains
git_last_commit: a1fade5
git_last_commit_date: 2025-10-29 10:33:56 -0500
nebbiolo1Linux (Ubuntu 24.04.3 LTS) / x86_64  OK    OK    OK  UNNEEDED, same version is already published
Package 398/638HostnameOS / ArchINSTALLBUILDCHECKBUILD BIN
phenomis 1.13.0  (landing page)
Etienne A. Thevenot
git_last_commit: 2244e33
git_last_commit_date: 2025-10-29 11:18:33 -0500
nebbiolo1Linux (Ubuntu 24.04.3 LTS) / x86_64  OK    OK    OK  NO, package depends on 'biodbChebi' which is not available
Package 399/638HostnameOS / ArchINSTALLBUILDCHECKBUILD BIN
phenopath 1.35.0  (landing page)
Kieran Campbell
git_last_commit: 4aa1478
git_last_commit_date: 2025-10-29 10:39:22 -0500
nebbiolo1Linux (Ubuntu 24.04.3 LTS) / x86_64  OK    OK    OK  UNNEEDED, same version is already published
Package 400/638HostnameOS / ArchINSTALLBUILDCHECKBUILD BIN
PhIPData 1.19.0  (landing page)
Athena Chen
git_last_commit: 82391da
git_last_commit_date: 2025-10-29 11:06:46 -0500
nebbiolo1Linux (Ubuntu 24.04.3 LTS) / x86_64  OK    OK    OK  UNNEEDED, same version is already published
Package 401/638HostnameOS / ArchINSTALLBUILDCHECKBUILD BIN
PhosR 1.21.0  (landing page)
Di Xiao
git_last_commit: 244f040
git_last_commit_date: 2025-10-29 11:02:33 -0500
nebbiolo1Linux (Ubuntu 24.04.3 LTS) / x86_64  OK    OK    OK  UNNEEDED, same version is already published
Package 402/638HostnameOS / ArchINSTALLBUILDCHECKBUILD BIN
pipeComp 1.21.0  (landing page)
Pierre-Luc Germain
git_last_commit: 826f159
git_last_commit_date: 2025-10-29 11:00:20 -0500
nebbiolo1Linux (Ubuntu 24.04.3 LTS) / x86_64  OK    OK    OK  UNNEEDED, same version is already published
Package 403/638HostnameOS / ArchINSTALLBUILDCHECKBUILD BIN
Pirat 1.5.0  (landing page)
Lucas Etourneau
git_last_commit: 91397ba
git_last_commit_date: 2025-11-04 11:42:22 -0500
nebbiolo1Linux (Ubuntu 24.04.3 LTS) / x86_64  OK    ERROR  skipped
Package 404/638HostnameOS / ArchINSTALLBUILDCHECKBUILD BIN
PIUMA 1.7.0  (landing page)
Mattia Chiesa
git_last_commit: 02d3e61
git_last_commit_date: 2025-10-29 11:29:34 -0500
nebbiolo1Linux (Ubuntu 24.04.3 LTS) / x86_64  OK    ERROR  skipped
Package 405/638HostnameOS / ArchINSTALLBUILDCHECKBUILD BIN
planttfhunter 1.11.0  (landing page)
Fabrício Almeida-Silva
git_last_commit: 0cf046b
git_last_commit_date: 2025-10-29 11:20:13 -0500
nebbiolo1Linux (Ubuntu 24.04.3 LTS) / x86_64  OK    OK    OK  UNNEEDED, same version is already published
Package 406/638HostnameOS / ArchINSTALLBUILDCHECKBUILD BIN
plyxp 1.5.0  (landing page)
Justin Landis
git_last_commit: b0d04f2
git_last_commit_date: 2025-10-29 11:32:44 -0500
nebbiolo1Linux (Ubuntu 24.04.3 LTS) / x86_64  OK    OK    OK  UNNEEDED, same version is already published
Package 407/638HostnameOS / ArchINSTALLBUILDCHECKBUILD BIN
pmp 1.23.0  (landing page)
Gavin Rhys Lloyd
git_last_commit: 2ea8aee
git_last_commit_date: 2025-10-29 10:56:24 -0500
nebbiolo1Linux (Ubuntu 24.04.3 LTS) / x86_64  OK    OK    ERROR  
Package 408/638HostnameOS / ArchINSTALLBUILDCHECKBUILD BIN
poem 1.3.0  (landing page)
Siyuan Luo
git_last_commit: e74dd69
git_last_commit_date: 2025-10-29 11:34:48 -0500
nebbiolo1Linux (Ubuntu 24.04.3 LTS) / x86_64  OK    OK    OK  UNNEEDED, same version is already published
Package 409/638HostnameOS / ArchINSTALLBUILDCHECKBUILD BIN
PolySTest 1.5.0  (landing page)
Veit Schwämmle
git_last_commit: 98ded58
git_last_commit_date: 2025-10-29 11:31:01 -0500
nebbiolo1Linux (Ubuntu 24.04.3 LTS) / x86_64  OK    OK    OK  UNNEEDED, same version is already published
Package 410/638HostnameOS / ArchINSTALLBUILDCHECKBUILD BIN
POMA 1.21.0  (landing page)
Pol Castellano-Escuder
git_last_commit: e8ab1e6
git_last_commit_date: 2025-10-29 11:01:06 -0500
nebbiolo1Linux (Ubuntu 24.04.3 LTS) / x86_64  OK    OK    OK  UNNEEDED, same version is already published
Package 411/638HostnameOS / ArchINSTALLBUILDCHECKBUILD BIN
POWSC 1.19.0  (landing page)
Kenong Su
git_last_commit: b092ca1
git_last_commit_date: 2025-10-29 11:09:11 -0500
nebbiolo1Linux (Ubuntu 24.04.3 LTS) / x86_64  OK    OK    OK  UNNEEDED, same version is already published
Package 412/638HostnameOS / ArchINSTALLBUILDCHECKBUILD BIN
proActiv 1.21.0  (landing page)
Joseph Lee
git_last_commit: 8067867
git_last_commit_date: 2025-10-29 11:02:09 -0500
nebbiolo1Linux (Ubuntu 24.04.3 LTS) / x86_64  OK    OK    OK  YES
Package 413/638HostnameOS / ArchINSTALLBUILDCHECKBUILD BIN
proDA 1.25.0  (landing page)
Constantin Ahlmann-Eltze
git_last_commit: df3313e
git_last_commit_date: 2025-10-29 10:53:21 -0500
nebbiolo1Linux (Ubuntu 24.04.3 LTS) / x86_64  OK    ERROR  skipped
Package 414/638HostnameOS / ArchINSTALLBUILDCHECKBUILD BIN
profileplyr 1.27.0  (landing page)
Tom Carroll , Doug Barrows
git_last_commit: c441d3c
git_last_commit_date: 2025-10-29 10:51:25 -0500
nebbiolo1Linux (Ubuntu 24.04.3 LTS) / x86_64  ERROR    ERROR  skipped
Package 415/638HostnameOS / ArchINSTALLBUILDCHECKBUILD BIN
PRONE 1.5.0  (landing page)
Lis Arend
git_last_commit: cfe6a55
git_last_commit_date: 2025-10-29 11:32:38 -0500
nebbiolo1Linux (Ubuntu 24.04.3 LTS) / x86_64  OK    OK    OK  UNNEEDED, same version is already published
Package 416/638HostnameOS / ArchINSTALLBUILDCHECKBUILD BIN
psichomics 1.37.0  (landing page)
Nuno Saraiva-Agostinho
git_last_commit: a7c8792
git_last_commit_date: 2025-10-29 10:35:05 -0500
nebbiolo1Linux (Ubuntu 24.04.3 LTS) / x86_64  OK    OK    OK  YES
Package 417/638HostnameOS / ArchINSTALLBUILDCHECKBUILD BIN
PureCN 2.17.0  (landing page)
Markus Riester
git_last_commit: 3330cff
git_last_commit_date: 2025-10-29 10:31:57 -0500
nebbiolo1Linux (Ubuntu 24.04.3 LTS) / x86_64  OK    OK    OK  YES
Package 418/638HostnameOS / ArchINSTALLBUILDCHECKBUILD BIN
QFeatures 1.21.0  (landing page)
Laurent Gatto
git_last_commit: 9863a56
git_last_commit_date: 2025-10-29 11:01:30 -0500
nebbiolo1Linux (Ubuntu 24.04.3 LTS) / x86_64  OK    OK    OK  UNNEEDED, same version is already published
Package 419/638HostnameOS / ArchINSTALLBUILDCHECKBUILD BIN
qmtools 1.15.0  (landing page)
Jaehyun Joo
git_last_commit: ea14738
git_last_commit_date: 2025-10-29 11:16:09 -0500
nebbiolo1Linux (Ubuntu 24.04.3 LTS) / x86_64  OK    OK    OK  UNNEEDED, same version is already published
Package 420/638HostnameOS / ArchINSTALLBUILDCHECKBUILD BIN
qsmooth 1.27.0  (landing page)
Stephanie C. Hicks
git_last_commit: 427ec51
git_last_commit_date: 2025-10-29 10:50:55 -0500
nebbiolo1Linux (Ubuntu 24.04.3 LTS) / x86_64  OK    OK    WARNINGS  UNNEEDED, same version is already published
Package 421/638HostnameOS / ArchINSTALLBUILDCHECKBUILD BIN
qsvaR 1.15.0  (landing page)
Nicholas J. Eagles
git_last_commit: 834d31e
git_last_commit_date: 2025-10-29 11:15:51 -0500
nebbiolo1Linux (Ubuntu 24.04.3 LTS) / x86_64  OK    OK    OK  UNNEEDED, same version is already published
Package 422/638HostnameOS / ArchINSTALLBUILDCHECKBUILD BIN
QTLExperiment 2.3.0  (landing page)
Amelia Dunstone
git_last_commit: 51ef902
git_last_commit_date: 2025-10-29 11:26:32 -0500
nebbiolo1Linux (Ubuntu 24.04.3 LTS) / x86_64  OK    OK    WARNINGS  UNNEEDED, same version is already published
Package 423/638HostnameOS / ArchINSTALLBUILDCHECKBUILD BIN
quantiseqr 1.19.0  (landing page)
Federico Marini
git_last_commit: 0a7a615
git_last_commit_date: 2025-10-29 11:08:45 -0500
nebbiolo1Linux (Ubuntu 24.04.3 LTS) / x86_64  OK    OK    OK  UNNEEDED, same version is already published
Package 424/638HostnameOS / ArchINSTALLBUILDCHECKBUILD BIN
R453Plus1Toolbox 1.61.0  (landing page)
Hans-Ulrich Klein
git_last_commit: b396ba9
git_last_commit_date: 2025-10-29 10:06:02 -0500
nebbiolo1Linux (Ubuntu 24.04.3 LTS) / x86_64  OK    ERROR  skipped
Package 425/638HostnameOS / ArchINSTALLBUILDCHECKBUILD BIN
RadioGx 2.15.0  (landing page)
Benjamin Haibe-Kains
git_last_commit: 3cfa0fd
git_last_commit_date: 2025-10-29 11:00:09 -0500
nebbiolo1Linux (Ubuntu 24.04.3 LTS) / x86_64  OK    OK    OK  UNNEEDED, same version is already published
Package 426/638HostnameOS / ArchINSTALLBUILDCHECKBUILD BIN
raer 1.9.0  (landing page)
Kent Riemondy
git_last_commit: 94ed43d
git_last_commit_date: 2025-10-29 11:26:05 -0500
nebbiolo1Linux (Ubuntu 24.04.3 LTS) / x86_64  OK    OK    OK  YES
Package 427/638HostnameOS / ArchINSTALLBUILDCHECKBUILD BIN
RaggedExperiment 1.35.0  (landing page)
Marcel Ramos
git_last_commit: efd60e0
git_last_commit_date: 2025-10-29 10:37:59 -0500
nebbiolo1Linux (Ubuntu 24.04.3 LTS) / x86_64  OK    OK    OK  UNNEEDED, same version is already published
Package 428/638HostnameOS / ArchINSTALLBUILDCHECKBUILD BIN
RareVariantVis 2.39.0  (landing page)
Tomasz Stokowy
git_last_commit: 8b234dc
git_last_commit_date: 2025-10-29 10:26:20 -0500
nebbiolo1Linux (Ubuntu 24.04.3 LTS) / x86_64  OK    OK    OK  YES
Package 429/638HostnameOS / ArchINSTALLBUILDCHECKBUILD BIN
RcisTarget 1.31.0  (landing page)
Gert Hulselmans
git_last_commit: 06bec5f
git_last_commit_date: 2025-10-29 10:42:56 -0500
nebbiolo1Linux (Ubuntu 24.04.3 LTS) / x86_64  OK    OK    ERROR  
Package 430/638HostnameOS / ArchINSTALLBUILDCHECKBUILD BIN
ReactomeGSA 1.25.0  (landing page)
Johannes Griss
git_last_commit: 473b5b6
git_last_commit_date: 2025-10-29 10:54:21 -0500
nebbiolo1Linux (Ubuntu 24.04.3 LTS) / x86_64  OK    OK    OK  UNNEEDED, same version is already published
Package 431/638HostnameOS / ArchINSTALLBUILDCHECKBUILD BIN
receptLoss 1.23.0  (landing page)
Daniel Pique
git_last_commit: 2111967
git_last_commit_date: 2025-10-29 10:57:09 -0500
nebbiolo1Linux (Ubuntu 24.04.3 LTS) / x86_64  OK    OK    ERROR  
Package 432/638HostnameOS / ArchINSTALLBUILDCHECKBUILD BIN
recount 1.37.0  (landing page)
Leonardo Collado-Torres
git_last_commit: 0f75cbd
git_last_commit_date: 2025-10-29 10:33:35 -0500
nebbiolo1Linux (Ubuntu 24.04.3 LTS) / x86_64  OK    OK    OK  YES
Package 433/638HostnameOS / ArchINSTALLBUILDCHECKBUILD BIN
recount3 1.21.0  (landing page)
Leonardo Collado-Torres
git_last_commit: 2b63576
git_last_commit_date: 2025-10-29 11:03:22 -0500
nebbiolo1Linux (Ubuntu 24.04.3 LTS) / x86_64  OK    OK    OK  YES
Package 434/638HostnameOS / ArchINSTALLBUILDCHECKBUILD BIN
ReducedExperiment 1.3.0  (landing page)
Jack Gisby
git_last_commit: 8a1ee25
git_last_commit_date: 2025-10-29 11:33:37 -0500
nebbiolo1Linux (Ubuntu 24.04.3 LTS) / x86_64  OK    OK    OK  UNNEEDED, same version is already published
Package 435/638HostnameOS / ArchINSTALLBUILDCHECKBUILD BIN
RegEnrich 1.21.0  (landing page)
Weiyang Tao
git_last_commit: 73e2009
git_last_commit_date: 2025-10-29 11:00:04 -0500
nebbiolo1Linux (Ubuntu 24.04.3 LTS) / x86_64  OK    OK    OK  UNNEEDED, same version is already published
Package 436/638HostnameOS / ArchINSTALLBUILDCHECKBUILD BIN
RegionalST 1.9.0  (landing page)
Ziyi Li
git_last_commit: e3a23f6
git_last_commit_date: 2025-10-29 11:24:31 -0500
nebbiolo1Linux (Ubuntu 24.04.3 LTS) / x86_64  OK    OK    OK  UNNEEDED, same version is already published
Package 437/638HostnameOS / ArchINSTALLBUILDCHECKBUILD BIN
regionReport 1.45.0  (landing page)
Leonardo Collado-Torres
git_last_commit: b61d8a3
git_last_commit_date: 2025-10-29 10:21:56 -0500
nebbiolo1Linux (Ubuntu 24.04.3 LTS) / x86_64  OK    OK    OK  YES
Package 438/638HostnameOS / ArchINSTALLBUILDCHECKBUILD BIN
regsplice 1.37.0  (landing page)
Lukas M. Weber
git_last_commit: e903be0
git_last_commit_date: 2025-10-29 10:35:24 -0500
nebbiolo1Linux (Ubuntu 24.04.3 LTS) / x86_64  OK    OK    OK  UNNEEDED, same version is already published
Package 439/638HostnameOS / ArchINSTALLBUILDCHECKBUILD BIN
REMP 1.35.0  (landing page)
Yinan Zheng
git_last_commit: 6cbaa64
git_last_commit_date: 2025-10-29 10:36:53 -0500
nebbiolo1Linux (Ubuntu 24.04.3 LTS) / x86_64  OK    OK    OK  YES
Package 440/638HostnameOS / ArchINSTALLBUILDCHECKBUILD BIN
RFLOMICS 1.3.0  (landing page)
Nadia Bessoltane
git_last_commit: a7a98e3
git_last_commit_date: 2025-10-29 11:35:35 -0500
nebbiolo1Linux (Ubuntu 24.04.3 LTS) / x86_64  OK    OK    OK  UNNEEDED, same version is already published
Package 441/638HostnameOS / ArchINSTALLBUILDCHECKBUILD BIN
rgsepd 1.43.0  (landing page)
Karl Stamm
git_last_commit: c93ca40
git_last_commit_date: 2025-10-29 10:23:22 -0500
nebbiolo1Linux (Ubuntu 24.04.3 LTS) / x86_64  OK    OK    OK  YES
Package 442/638HostnameOS / ArchINSTALLBUILDCHECKBUILD BIN
rifi 1.15.0  (landing page)
Jens Georg
git_last_commit: 16a7acf
git_last_commit_date: 2025-10-29 11:16:59 -0500
nebbiolo1Linux (Ubuntu 24.04.3 LTS) / x86_64  OK    OK    WARNINGS  YES
Package 443/638HostnameOS / ArchINSTALLBUILDCHECKBUILD BIN
rifiComparative 1.11.0  (landing page)
Loubna Youssar
git_last_commit: fbe68f4
git_last_commit_date: 2025-10-29 11:20:47 -0500
nebbiolo1Linux (Ubuntu 24.04.3 LTS) / x86_64  OK    OK    OK  YES
Package 444/638HostnameOS / ArchINSTALLBUILDCHECKBUILD BIN
Rmmquant 1.29.0  (landing page)
Zytnicki Matthias
git_last_commit: b7f3f59
git_last_commit_date: 2025-10-29 10:45:50 -0500
nebbiolo1Linux (Ubuntu 24.04.3 LTS) / x86_64  OK    OK    OK  UNNEEDED, same version is already published
Package 445/638HostnameOS / ArchINSTALLBUILDCHECKBUILD BIN
RNAAgeCalc 1.23.0  (landing page)
Xu Ren
git_last_commit: bb08720
git_last_commit_date: 2025-10-29 10:57:30 -0500
nebbiolo1Linux (Ubuntu 24.04.3 LTS) / x86_64  OK    OK    OK  YES
Package 446/638HostnameOS / ArchINSTALLBUILDCHECKBUILD BIN
RNAsense 1.25.0  (landing page)
Marcus Rosenblatt
git_last_commit: 3880afe
git_last_commit_date: 2025-10-29 10:55:39 -0500
nebbiolo1Linux (Ubuntu 24.04.3 LTS) / x86_64  OK    OK    WARNINGS  UNNEEDED, same version is already published
Package 447/638HostnameOS / ArchINSTALLBUILDCHECKBUILD BIN
RnaSeqSampleSize 2.21.0  (landing page)
Shilin Zhao Developer
git_last_commit: d615113
git_last_commit_date: 2025-10-29 11:03:19 -0500
nebbiolo1Linux (Ubuntu 24.04.3 LTS) / x86_64  OK    OK    OK  YES
Package 448/638HostnameOS / ArchINSTALLBUILDCHECKBUILD BIN
roar 1.47.0  (landing page)
Elena Grassi
git_last_commit: a867789
git_last_commit_date: 2025-10-29 10:17:36 -0500
nebbiolo1Linux (Ubuntu 24.04.3 LTS) / x86_64  OK    OK    OK  YES
Package 449/638HostnameOS / ArchINSTALLBUILDCHECKBUILD BIN
ROCpAI 1.23.0  (landing page)
Juan-Pedro Garcia
git_last_commit: c0493ad
git_last_commit_date: 2025-10-29 10:57:51 -0500
nebbiolo1Linux (Ubuntu 24.04.3 LTS) / x86_64  OK    OK    OK  UNNEEDED, same version is already published
Package 450/638HostnameOS / ArchINSTALLBUILDCHECKBUILD BIN
RolDE 1.15.0  (landing page)
Medical Bioinformatics Centre
git_last_commit: 30dfeba
git_last_commit_date: 2025-10-29 11:16:17 -0500
nebbiolo1Linux (Ubuntu 24.04.3 LTS) / x86_64  OK    ERROR  skipped
Package 451/638HostnameOS / ArchINSTALLBUILDCHECKBUILD BIN
ropls 1.43.0  (landing page)
Etienne A. Thevenot
git_last_commit: 3b278e8
git_last_commit_date: 2025-10-29 10:26:49 -0500
nebbiolo1Linux (Ubuntu 24.04.3 LTS) / x86_64  OK    OK    OK  YES
Package 452/638HostnameOS / ArchINSTALLBUILDCHECKBUILD BIN
rqt 1.37.0  (landing page)
Ilya Zhbannikov
git_last_commit: e0c0242
git_last_commit_date: 2025-10-29 10:37:13 -0500
nebbiolo1Linux (Ubuntu 24.04.3 LTS) / x86_64  OK    OK    OK  YES
Package 453/638HostnameOS / ArchINSTALLBUILDCHECKBUILD BIN
rScudo 1.27.0  (landing page)
Matteo Ciciani
git_last_commit: 29e385c
git_last_commit_date: 2025-10-29 10:49:11 -0500
nebbiolo1Linux (Ubuntu 24.04.3 LTS) / x86_64  OK    OK    OK  UNNEEDED, same version is already published
Package 454/638HostnameOS / ArchINSTALLBUILDCHECKBUILD BIN
RTCGAToolbox 2.41.0  (landing page)
Marcel Ramos
git_last_commit: d55f300
git_last_commit_date: 2025-10-29 10:26:09 -0500
nebbiolo1Linux (Ubuntu 24.04.3 LTS) / x86_64  OK    ERROR  skipped
Package 455/638HostnameOS / ArchINSTALLBUILDCHECKBUILD BIN
RTN 2.35.0  (landing page)
Mauro Castro
git_last_commit: 4efc78c
git_last_commit_date: 2025-10-29 10:15:52 -0500
nebbiolo1Linux (Ubuntu 24.04.3 LTS) / x86_64  OK    OK    OK  UNNEEDED, same version is already published
Package 456/638HostnameOS / ArchINSTALLBUILDCHECKBUILD BIN
RUCova 1.3.0  (landing page)
Rosario Astaburuaga-García
git_last_commit: cdd0481
git_last_commit_date: 2025-10-29 11:35:49 -0500
nebbiolo1Linux (Ubuntu 24.04.3 LTS) / x86_64  OK    OK    OK  UNNEEDED, same version is already published
Package 457/638HostnameOS / ArchINSTALLBUILDCHECKBUILD BIN
runibic 1.33.0  (landing page)
Patryk Orzechowski
git_last_commit: 3cbdc87
git_last_commit_date: 2025-10-29 10:42:07 -0500
nebbiolo1Linux (Ubuntu 24.04.3 LTS) / x86_64  OK    OK    OK  UNNEEDED, same version is already published
Package 458/638HostnameOS / ArchINSTALLBUILDCHECKBUILD BIN
SanityR 1.1.0  (landing page)
Teo Sakel
git_last_commit: 65e0964
git_last_commit_date: 2025-10-29 11:37:07 -0500
nebbiolo1Linux (Ubuntu 24.04.3 LTS) / x86_64  OK    OK    OK  UNNEEDED, same version is already published
Package 459/638HostnameOS / ArchINSTALLBUILDCHECKBUILD BIN
saseR 1.7.0  (landing page)
Alexandre Segers
git_last_commit: 7f96081
git_last_commit_date: 2025-10-29 11:27:12 -0500
nebbiolo1Linux (Ubuntu 24.04.3 LTS) / x86_64  OK    OK    WARNINGS  YES
Package 460/638HostnameOS / ArchINSTALLBUILDCHECKBUILD BIN
satuRn 1.19.0  (landing page)
Jeroen Gilis
git_last_commit: f956e7e
git_last_commit_date: 2025-10-29 11:06:23 -0500
nebbiolo1Linux (Ubuntu 24.04.3 LTS) / x86_64  OK    OK    OK  UNNEEDED, same version is already published
Package 461/638HostnameOS / ArchINSTALLBUILDCHECKBUILD BIN
SBGNview 1.25.0  (landing page)
Weijun Luo
git_last_commit: 146fd47
git_last_commit_date: 2025-10-29 10:52:54 -0500
nebbiolo1Linux (Ubuntu 24.04.3 LTS) / x86_64  OK    OK    OK  UNNEEDED, same version is already published
Package 462/638HostnameOS / ArchINSTALLBUILDCHECKBUILD BIN
SC3 1.39.0  (landing page)
Vladimir Kiselev
git_last_commit: 177cc94
git_last_commit_date: 2025-10-29 10:29:27 -0500
nebbiolo1Linux (Ubuntu 24.04.3 LTS) / x86_64  OK    OK    OK  UNNEEDED, same version is already published
Package 463/638HostnameOS / ArchINSTALLBUILDCHECKBUILD BIN
scafari 1.1.0  (landing page)
Sophie Wind
git_last_commit: 0bee2a7
git_last_commit_date: 2025-10-29 11:36:58 -0500
nebbiolo1Linux (Ubuntu 24.04.3 LTS) / x86_64  OK    OK    OK  YES
Package 464/638HostnameOS / ArchINSTALLBUILDCHECKBUILD BIN
Scale4C 1.33.0  (landing page)
Carolin Walter
git_last_commit: 7236205
git_last_commit_date: 2025-10-29 10:39:01 -0500
nebbiolo1Linux (Ubuntu 24.04.3 LTS) / x86_64  OK    OK    OK  UNNEEDED, same version is already published
Package 465/638HostnameOS / ArchINSTALLBUILDCHECKBUILD BIN
scAnnotatR 1.17.0  (landing page)
Johannes Griss
git_last_commit: 76379af
git_last_commit_date: 2025-10-29 11:11:54 -0500
nebbiolo1Linux (Ubuntu 24.04.3 LTS) / x86_64  OK    OK    WARNINGS  UNNEEDED, same version is already published
Package 466/638HostnameOS / ArchINSTALLBUILDCHECKBUILD BIN
SCArray 1.19.0  (landing page)
Xiuwen Zheng
git_last_commit: d488bb9
git_last_commit_date: 2025-10-29 11:05:31 -0500
nebbiolo1Linux (Ubuntu 24.04.3 LTS) / x86_64  OK    OK    OK  UNNEEDED, same version is already published
Package 467/638HostnameOS / ArchINSTALLBUILDCHECKBUILD BIN
SCArray.sat 1.11.0  (landing page)
Xiuwen Zheng
git_last_commit: 10b697d
git_last_commit_date: 2025-10-29 11:22:05 -0500
nebbiolo1Linux (Ubuntu 24.04.3 LTS) / x86_64  OK    ERROR  skipped
Package 468/638HostnameOS / ArchINSTALLBUILDCHECKBUILD BIN
scater 1.39.0  (landing page)
Alan O'Callaghan
git_last_commit: 4ba4420
git_last_commit_date: 2025-10-29 10:30:01 -0500
nebbiolo1Linux (Ubuntu 24.04.3 LTS) / x86_64  OK    OK    OK  UNNEEDED, same version is already published
Package 469/638HostnameOS / ArchINSTALLBUILDCHECKBUILD BIN
scBFA 1.25.0  (landing page)
Ruoxin Li
git_last_commit: 128392e
git_last_commit_date: 2025-10-29 10:53:24 -0500
nebbiolo1Linux (Ubuntu 24.04.3 LTS) / x86_64  OK    OK    OK  UNNEEDED, same version is already published
Package 470/638HostnameOS / ArchINSTALLBUILDCHECKBUILD BIN
scCB2 1.21.0  (landing page)
Zijian Ni
git_last_commit: 6b117de
git_last_commit_date: 2025-10-29 11:00:33 -0500
nebbiolo1Linux (Ubuntu 24.04.3 LTS) / x86_64  OK    OK    OK  UNNEEDED, same version is already published
Package 471/638HostnameOS / ArchINSTALLBUILDCHECKBUILD BIN
scDblFinder 1.25.0  (landing page)
Pierre-Luc Germain
git_last_commit: dffe1fe
git_last_commit_date: 2025-10-29 10:55:23 -0500
nebbiolo1Linux (Ubuntu 24.04.3 LTS) / x86_64  OK    OK    OK  YES
Package 472/638HostnameOS / ArchINSTALLBUILDCHECKBUILD BIN
scDD 1.35.0  (landing page)
Keegan Korthauer
git_last_commit: c088d52
git_last_commit_date: 2025-10-29 10:36:02 -0500
nebbiolo1Linux (Ubuntu 24.04.3 LTS) / x86_64  OK    OK    OK  UNNEEDED, same version is already published
Package 473/638HostnameOS / ArchINSTALLBUILDCHECKBUILD BIN
scDDboost 1.13.0  (landing page)
Xiuyu Ma
git_last_commit: 009edb1
git_last_commit_date: 2025-10-29 11:17:12 -0500
nebbiolo1Linux (Ubuntu 24.04.3 LTS) / x86_64  OK    OK    OK  UNNEEDED, same version is already published
Package 474/638HostnameOS / ArchINSTALLBUILDCHECKBUILD BIN
scDesign3 1.9.0  (landing page)
Dongyuan Song
git_last_commit: f87307f
git_last_commit_date: 2025-10-29 11:26:29 -0500
nebbiolo1Linux (Ubuntu 24.04.3 LTS) / x86_64  OK    OK    OK  UNNEEDED, same version is already published
Package 475/638HostnameOS / ArchINSTALLBUILDCHECKBUILD BIN
scDiagnostics 1.5.0  (landing page)
Anthony Christidis
git_last_commit: 2f5ad14
git_last_commit_date: 2025-10-29 11:31:45 -0500
nebbiolo1Linux (Ubuntu 24.04.3 LTS) / x86_64  OK    OK    OK  UNNEEDED, same version is already published
Package 476/638HostnameOS / ArchINSTALLBUILDCHECKBUILD BIN
scds 1.27.0  (landing page)
Dennis Kostka
git_last_commit: e3ed254
git_last_commit_date: 2025-10-29 10:50:18 -0500
nebbiolo1Linux (Ubuntu 24.04.3 LTS) / x86_64  OK    OK    OK  UNNEEDED, same version is already published
Package 477/638HostnameOS / ArchINSTALLBUILDCHECKBUILD BIN
scGPS 1.25.0  (landing page)
Quan Nguyen
git_last_commit: 73072f6
git_last_commit_date: 2025-10-29 10:53:11 -0500
nebbiolo1Linux (Ubuntu 24.04.3 LTS) / x86_64  OK    OK    OK  UNNEEDED, same version is already published
Package 478/638HostnameOS / ArchINSTALLBUILDCHECKBUILD BIN
scGraphVerse 1.1.0  (landing page)
Francesco Cecere
git_last_commit: 1e63abe
git_last_commit_date: 2025-10-29 11:38:49 -0500
nebbiolo1Linux (Ubuntu 24.04.3 LTS) / x86_64  OK    OK    OK  UNNEEDED, same version is already published
Package 479/638HostnameOS / ArchINSTALLBUILDCHECKBUILD BIN
scHOT 1.23.0  (landing page)
Shila Ghazanfar
git_last_commit: 70965ea
git_last_commit_date: 2025-10-29 10:58:22 -0500
nebbiolo1Linux (Ubuntu 24.04.3 LTS) / x86_64  OK    OK    OK  UNNEEDED, same version is already published
Package 480/638HostnameOS / ArchINSTALLBUILDCHECKBUILD BIN
scider 1.9.0  (landing page)
Yunshun Chen
git_last_commit: e0a2a6b
git_last_commit_date: 2025-10-29 11:26:16 -0500
nebbiolo1Linux (Ubuntu 24.04.3 LTS) / x86_64  OK    OK    OK  UNNEEDED, same version is already published
Package 481/638HostnameOS / ArchINSTALLBUILDCHECKBUILD BIN
scmap 1.33.0  (landing page)
Vladimir Kiselev
git_last_commit: 4fdff8f
git_last_commit_date: 2025-10-29 10:39:19 -0500
nebbiolo1Linux (Ubuntu 24.04.3 LTS) / x86_64  OK    OK    OK  UNNEEDED, same version is already published
Package 482/638HostnameOS / ArchINSTALLBUILDCHECKBUILD BIN
scMerge 1.27.0  (landing page)
Yingxin Lin
git_last_commit: 1741f7e
git_last_commit_date: 2025-10-29 10:51:54 -0500
nebbiolo1Linux (Ubuntu 24.04.3 LTS) / x86_64  OK    OK    OK  UNNEEDED, same version is already published
Package 483/638HostnameOS / ArchINSTALLBUILDCHECKBUILD BIN
scMET 1.13.0  (landing page)
Andreas C. Kapourani
git_last_commit: 5af0e5e
git_last_commit_date: 2025-10-29 11:17:57 -0500
nebbiolo1Linux (Ubuntu 24.04.3 LTS) / x86_64  OK    OK    OK  UNNEEDED, same version is already published
Package 484/638HostnameOS / ArchINSTALLBUILDCHECKBUILD BIN
scmeth 1.31.0  (landing page)
Divy Kangeyan
git_last_commit: 96dcd92
git_last_commit_date: 2025-10-29 10:43:21 -0500
nebbiolo1Linux (Ubuntu 24.04.3 LTS) / x86_64  OK    OK    OK  NO, package depends on 'annotatr' which is not available
Package 485/638HostnameOS / ArchINSTALLBUILDCHECKBUILD BIN
scMultiSim 1.7.0  (landing page)
Hechen Li
git_last_commit: 206826c
git_last_commit_date: 2025-10-29 11:29:36 -0500
nebbiolo1Linux (Ubuntu 24.04.3 LTS) / x86_64  OK    OK    OK  UNNEEDED, same version is already published
Package 486/638HostnameOS / ArchINSTALLBUILDCHECKBUILD BIN
SCnorm 1.33.0  (landing page)
Rhonda Bacher
git_last_commit: 8cf7fc8
git_last_commit_date: 2025-10-29 10:39:47 -0500
nebbiolo1Linux (Ubuntu 24.04.3 LTS) / x86_64  OK    OK    OK  UNNEEDED, same version is already published
Package 487/638HostnameOS / ArchINSTALLBUILDCHECKBUILD BIN
scone 1.35.0  (landing page)
Davide Risso
git_last_commit: 60f7f37
git_last_commit_date: 2025-10-29 10:36:05 -0500
nebbiolo1Linux (Ubuntu 24.04.3 LTS) / x86_64  OK    OK    OK  YES
Package 488/638HostnameOS / ArchINSTALLBUILDCHECKBUILD BIN
scoreInvHap 1.33.0  (landing page)
Dolors Pelegri-Siso
git_last_commit: e410f84
git_last_commit_date: 2025-10-29 10:39:17 -0500
nebbiolo1Linux (Ubuntu 24.04.3 LTS) / x86_64  OK    OK    OK  YES
Package 489/638HostnameOS / ArchINSTALLBUILDCHECKBUILD BIN
scp 1.21.0  (landing page)
Christophe Vanderaa
git_last_commit: c32536b
git_last_commit_date: 2025-10-29 11:03:14 -0500
nebbiolo1Linux (Ubuntu 24.04.3 LTS) / x86_64  OK    OK    WARNINGS  UNNEEDED, same version is already published
Package 490/638HostnameOS / ArchINSTALLBUILDCHECKBUILD BIN
scPipe 2.11.0  (landing page)
Shian Su
git_last_commit: fbfb464
git_last_commit_date: 2025-10-29 10:41:32 -0500
nebbiolo1Linux (Ubuntu 24.04.3 LTS) / x86_64  OK    OK    OK  YES
Package 491/638HostnameOS / ArchINSTALLBUILDCHECKBUILD BIN
scQTLtools 1.3.0  (landing page)
Xiaofeng Wu
git_last_commit: 2285e5a
git_last_commit_date: 2025-10-29 11:34:00 -0500
nebbiolo1Linux (Ubuntu 24.04.3 LTS) / x86_64  OK    OK    ERROR  
Package 492/638HostnameOS / ArchINSTALLBUILDCHECKBUILD BIN
scran 1.39.0  (landing page)
Aaron Lun
git_last_commit: 5b4b8a1
git_last_commit_date: 2025-10-29 10:31:34 -0500
nebbiolo1Linux (Ubuntu 24.04.3 LTS) / x86_64  OK    OK    WARNINGS  UNNEEDED, same version is already published
Package 493/638HostnameOS / ArchINSTALLBUILDCHECKBUILD BIN
scReClassify 1.17.0  (landing page)
Taiyun Kim
git_last_commit: e44cea1
git_last_commit_date: 2025-10-29 11:12:04 -0500
nebbiolo1Linux (Ubuntu 24.04.3 LTS) / x86_64  OK    OK    OK  UNNEEDED, same version is already published
Package 494/638HostnameOS / ArchINSTALLBUILDCHECKBUILD BIN
screenCounter 1.11.0  (landing page)
Aaron Lun
git_last_commit: 57d0e9c
git_last_commit_date: 2025-10-29 11:23:00 -0500
nebbiolo1Linux (Ubuntu 24.04.3 LTS) / x86_64  OK    OK    OK  UNNEEDED, same version is already published
Package 495/638HostnameOS / ArchINSTALLBUILDCHECKBUILD BIN
scRepertoire 2.7.0  (landing page)
Nick Borcherding
git_last_commit: f13dda8
git_last_commit_date: 2025-10-29 11:04:20 -0500
nebbiolo1Linux (Ubuntu 24.04.3 LTS) / x86_64  OK    ERROR  skipped
Package 496/638HostnameOS / ArchINSTALLBUILDCHECKBUILD BIN
scruff 1.29.0  (landing page)
Zhe Wang
git_last_commit: e5f29bf
git_last_commit_date: 2025-10-29 10:46:27 -0500
nebbiolo1Linux (Ubuntu 24.04.3 LTS) / x86_64  OK    OK    OK  YES
Package 497/638HostnameOS / ArchINSTALLBUILDCHECKBUILD BIN
scry 1.23.0  (landing page)
Kelly Street
git_last_commit: 0eeb235
git_last_commit_date: 2025-10-29 10:59:07 -0500
nebbiolo1Linux (Ubuntu 24.04.3 LTS) / x86_64  OK    OK    OK  UNNEEDED, same version is already published
Package 498/638HostnameOS / ArchINSTALLBUILDCHECKBUILD BIN
scTensor 2.21.0  (landing page)
Koki Tsuyuzaki
git_last_commit: 63a2564
git_last_commit_date: 2025-10-29 10:49:00 -0500
nebbiolo1Linux (Ubuntu 24.04.3 LTS) / x86_64  OK    OK    WARNINGS  UNNEEDED, same version is already published
Package 499/638HostnameOS / ArchINSTALLBUILDCHECKBUILD BIN
scTGIF 1.25.0  (landing page)
Koki Tsuyuzaki
git_last_commit: f7ab3ab
git_last_commit_date: 2025-10-29 10:55:37 -0500
nebbiolo1Linux (Ubuntu 24.04.3 LTS) / x86_64  OK    OK    OK  UNNEEDED, same version is already published
Package 500/638HostnameOS / ArchINSTALLBUILDCHECKBUILD BIN
scTreeViz 1.17.0  (landing page)
Jayaram Kancherla
git_last_commit: 8bb53d8
git_last_commit_date: 2025-10-29 11:12:36 -0500
nebbiolo1Linux (Ubuntu 24.04.3 LTS) / x86_64  OK    OK    OK  YES
Package 501/638HostnameOS / ArchINSTALLBUILDCHECKBUILD BIN
scuttle 1.21.0  (landing page)
Aaron Lun
git_last_commit: 02c9bb0
git_last_commit_date: 2025-10-29 10:59:47 -0500
nebbiolo1Linux (Ubuntu 24.04.3 LTS) / x86_64  OK    OK    OK  UNNEEDED, same version is already published
Package 502/638HostnameOS / ArchINSTALLBUILDCHECKBUILD BIN
scviR 1.11.0  (landing page)
Vincent Carey
git_last_commit: 4329942
git_last_commit_date: 2025-10-29 11:21:42 -0500
nebbiolo1Linux (Ubuntu 24.04.3 LTS) / x86_64  OK    OK    OK  UNNEEDED, same version is already published
Package 503/638HostnameOS / ArchINSTALLBUILDCHECKBUILD BIN
SDAMS 1.31.0  (landing page)
Yuntong Li
git_last_commit: b82dfb1
git_last_commit_date: 2025-10-29 10:44:53 -0500
nebbiolo1Linux (Ubuntu 24.04.3 LTS) / x86_64  OK    OK    OK  UNNEEDED, same version is already published
Package 504/638HostnameOS / ArchINSTALLBUILDCHECKBUILD BIN
sechm 1.19.0  (landing page)
Pierre-Luc Germain
git_last_commit: 80bb3d7
git_last_commit_date: 2025-10-29 11:08:11 -0500
nebbiolo1Linux (Ubuntu 24.04.3 LTS) / x86_64  OK    OK    OK  UNNEEDED, same version is already published
Package 505/638HostnameOS / ArchINSTALLBUILDCHECKBUILD BIN
segmenter 1.17.0  (landing page)
Mahmoud Ahmed
git_last_commit: 64fe618
git_last_commit_date: 2025-10-29 11:10:27 -0500
nebbiolo1Linux (Ubuntu 24.04.3 LTS) / x86_64  OK    OK    OK  YES
Package 506/638HostnameOS / ArchINSTALLBUILDCHECKBUILD BIN
seqCAT 1.33.0  (landing page)
Erik Fasterius
git_last_commit: 52e812d
git_last_commit_date: 2025-10-29 10:40:54 -0500
nebbiolo1Linux (Ubuntu 24.04.3 LTS) / x86_64  OK    OK    OK  YES
Package 507/638HostnameOS / ArchINSTALLBUILDCHECKBUILD BIN
SeqGate 1.21.0  (landing page)
Stéphanie Rialle
git_last_commit: ac612ff
git_last_commit_date: 2025-10-29 11:02:36 -0500
nebbiolo1Linux (Ubuntu 24.04.3 LTS) / x86_64  OK    OK    OK  UNNEEDED, same version is already published
Package 508/638HostnameOS / ArchINSTALLBUILDCHECKBUILD BIN
SEraster 1.3.0  (landing page)
Gohta Aihara
git_last_commit: 0d1b44c
git_last_commit_date: 2025-10-29 11:35:58 -0500
nebbiolo1Linux (Ubuntu 24.04.3 LTS) / x86_64  OK    OK    OK  UNNEEDED, same version is already published
Package 509/638HostnameOS / ArchINSTALLBUILDCHECKBUILD BIN
sesame 1.29.0  (landing page)
Wanding Zhou
git_last_commit: 92283cb
git_last_commit_date: 2025-10-29 10:46:05 -0500
nebbiolo1Linux (Ubuntu 24.04.3 LTS) / x86_64  OK    ERROR  skipped
Package 510/638HostnameOS / ArchINSTALLBUILDCHECKBUILD BIN
SEtools 1.25.0  (landing page)
Pierre-Luc Germain
git_last_commit: beb739e
git_last_commit_date: 2025-10-29 10:54:13 -0500
nebbiolo1Linux (Ubuntu 24.04.3 LTS) / x86_64  OK    OK    OK  UNNEEDED, same version is already published
Package 511/638HostnameOS / ArchINSTALLBUILDCHECKBUILD BIN
SGCP 1.11.0  (landing page)
Niloofar AghaieAbiane
git_last_commit: d3ffc3a
git_last_commit_date: 2025-10-29 11:20:24 -0500
nebbiolo1Linux (Ubuntu 24.04.3 LTS) / x86_64  OK    ERROR  skipped
Package 512/638HostnameOS / ArchINSTALLBUILDCHECKBUILD BIN
SGSeq 1.45.0  (landing page)
Leonard Goldstein
git_last_commit: fef2917
git_last_commit_date: 2025-10-29 10:22:27 -0500
nebbiolo1Linux (Ubuntu 24.04.3 LTS) / x86_64  OK    OK    OK  YES
Package 513/638HostnameOS / ArchINSTALLBUILDCHECKBUILD BIN
shinyDSP 1.3.0  (landing page)
Seung J. Kim
git_last_commit: cdbba28
git_last_commit_date: 2025-10-29 11:35:46 -0500
nebbiolo1Linux (Ubuntu 24.04.3 LTS) / x86_64  OK    OK    OK  YES
Package 514/638HostnameOS / ArchINSTALLBUILDCHECKBUILD BIN
sigFeature 1.29.0  (landing page)
Pijush Das Developer
git_last_commit: 0877319
git_last_commit_date: 2025-10-29 10:45:32 -0500
nebbiolo1Linux (Ubuntu 24.04.3 LTS) / x86_64  OK    OK    WARNINGS  UNNEEDED, same version is already published
Package 515/638HostnameOS / ArchINSTALLBUILDCHECKBUILD BIN
signatureSearch 1.25.0  (landing page)
Brendan Gongol
git_last_commit: 342f9a7
git_last_commit_date: 2025-10-29 10:55:44 -0500
nebbiolo1Linux (Ubuntu 24.04.3 LTS) / x86_64  OK    OK    OK  UNNEEDED, same version is already published
Package 516/638HostnameOS / ArchINSTALLBUILDCHECKBUILD BIN
signifinder 1.13.0  (landing page)
Stefania Pirrotta
git_last_commit: 2e1efc9
git_last_commit_date: 2025-10-29 11:19:34 -0500
nebbiolo1Linux (Ubuntu 24.04.3 LTS) / x86_64  OK    OK    OK  YES
Package 517/638HostnameOS / ArchINSTALLBUILDCHECKBUILD BIN
SigsPack 1.25.0  (landing page)
Franziska Schumann
git_last_commit: 76511e2
git_last_commit_date: 2025-10-29 10:53:42 -0500
nebbiolo1Linux (Ubuntu 24.04.3 LTS) / x86_64  OK    OK    OK  YES
Package 518/638HostnameOS / ArchINSTALLBUILDCHECKBUILD BIN
SimBu 1.13.0  (landing page)
Alexander Dietrich
git_last_commit: fc87678
git_last_commit_date: 2025-10-29 11:18:10 -0500
nebbiolo1Linux (Ubuntu 24.04.3 LTS) / x86_64  OK    OK    OK  UNNEEDED, same version is already published
Package 519/638HostnameOS / ArchINSTALLBUILDCHECKBUILD BIN
simPIC 1.7.0  (landing page)
Sagrika Chugh
git_last_commit: 8f16458
git_last_commit_date: 2025-10-29 11:28:25 -0500
nebbiolo1Linux (Ubuntu 24.04.3 LTS) / x86_64  OK    OK    OK  UNNEEDED, same version is already published
Package 520/638HostnameOS / ArchINSTALLBUILDCHECKBUILD BIN
simpleSeg 1.13.0  (landing page)
Ellis Patrick
git_last_commit: 3edd044
git_last_commit_date: 2025-10-29 11:19:44 -0500
nebbiolo1Linux (Ubuntu 24.04.3 LTS) / x86_64  OK    OK    OK  UNNEEDED, same version is already published
Package 521/638HostnameOS / ArchINSTALLBUILDCHECKBUILD BIN
SingleCellAlleleExperiment 1.7.0  (landing page)
Jonas Schuck
git_last_commit: 51ef84b
git_last_commit_date: 2025-10-29 11:30:07 -0500
nebbiolo1Linux (Ubuntu 24.04.3 LTS) / x86_64  OK    OK    OK  UNNEEDED, same version is already published
Package 522/638HostnameOS / ArchINSTALLBUILDCHECKBUILD BIN
SingleCellExperiment 1.33.0  (landing page)
Davide Risso
git_last_commit: bdf6af0
git_last_commit_date: 2025-10-29 10:39:29 -0500
nebbiolo1Linux (Ubuntu 24.04.3 LTS) / x86_64  OK    OK    OK  UNNEEDED, same version is already published
Package 523/638HostnameOS / ArchINSTALLBUILDCHECKBUILD BIN
singleCellTK 2.21.0  (landing page)
Joshua David Campbell
git_last_commit: 4895b66
git_last_commit_date: 2025-10-29 11:29:49 -0500
nebbiolo1Linux (Ubuntu 24.04.3 LTS) / x86_64  OK    OK    OK  YES
Package 524/638HostnameOS / ArchINSTALLBUILDCHECKBUILD BIN
SingleR 2.13.0  (landing page)
Aaron Lun
git_last_commit: 2ee58a5
git_last_commit_date: 2025-10-29 10:54:00 -0500
nebbiolo1Linux (Ubuntu 24.04.3 LTS) / x86_64  OK    OK    OK  UNNEEDED, same version is already published
Package 525/638HostnameOS / ArchINSTALLBUILDCHECKBUILD BIN
singscore 1.31.0  (landing page)
Malvika Kharbanda
git_last_commit: c86aa46
git_last_commit_date: 2025-10-29 10:45:11 -0500
nebbiolo1Linux (Ubuntu 24.04.3 LTS) / x86_64  OK    OK    OK  UNNEEDED, same version is already published
Package 526/638HostnameOS / ArchINSTALLBUILDCHECKBUILD BIN
slalom 1.33.0  (landing page)
Davis McCarthy
git_last_commit: 42126fd
git_last_commit_date: 2025-10-29 10:41:26 -0500
nebbiolo1Linux (Ubuntu 24.04.3 LTS) / x86_64  OK    OK    WARNINGS  UNNEEDED, same version is already published
Package 527/638HostnameOS / ArchINSTALLBUILDCHECKBUILD BIN
slingshot 2.19.0  (landing page)
Kelly Street
git_last_commit: 800ceb7
git_last_commit_date: 2025-10-29 10:45:42 -0500
nebbiolo1Linux (Ubuntu 24.04.3 LTS) / x86_64  OK    OK    OK  UNNEEDED, same version is already published
Package 528/638HostnameOS / ArchINSTALLBUILDCHECKBUILD BIN
smartid 1.7.0  (landing page)
Jinjin Chen
git_last_commit: c55bd41
git_last_commit_date: 2025-10-29 11:29:00 -0500
nebbiolo1Linux (Ubuntu 24.04.3 LTS) / x86_64  OK    OK    OK  UNNEEDED, same version is already published
Package 529/638HostnameOS / ArchINSTALLBUILDCHECKBUILD BIN
SmartPhos 1.1.0  (landing page)
Shubham Agrawal
git_last_commit: 9abaf07
git_last_commit_date: 2025-10-29 11:38:54 -0500
nebbiolo1Linux (Ubuntu 24.04.3 LTS) / x86_64  OK    OK    OK  NO, package depends on 'proDA' which is not available
Package 530/638HostnameOS / ArchINSTALLBUILDCHECKBUILD BIN
smoothclust 1.7.0  (landing page)
Lukas M. Weber
git_last_commit: 1246c80
git_last_commit_date: 2025-10-31 22:00:55 -0500
nebbiolo1Linux (Ubuntu 24.04.3 LTS) / x86_64  OK    OK    OK  UNNEEDED, same version is already published
Package 531/638HostnameOS / ArchINSTALLBUILDCHECKBUILD BIN
smoppix 1.3.0  (landing page)
Stijn Hawinkel
git_last_commit: fe4ac0d
git_last_commit_date: 2025-11-03 12:32:49 -0500
nebbiolo1Linux (Ubuntu 24.04.3 LTS) / x86_64  OK    OK    OK  UNNEEDED, same version is already published
Package 532/638HostnameOS / ArchINSTALLBUILDCHECKBUILD BIN
snapcount 1.23.0  (landing page)
Rone Charles
git_last_commit: 1af1119
git_last_commit_date: 2025-10-29 10:59:28 -0500
nebbiolo1Linux (Ubuntu 24.04.3 LTS) / x86_64  OK    OK    OK  UNNEEDED, same version is already published
Package 533/638HostnameOS / ArchINSTALLBUILDCHECKBUILD BIN
SNPhood 1.41.0  (landing page)
Christian Arnold
git_last_commit: 4de7497
git_last_commit_date: 2025-10-29 10:28:24 -0500
nebbiolo1Linux (Ubuntu 24.04.3 LTS) / x86_64  OK    OK    OK  YES
Package 534/638HostnameOS / ArchINSTALLBUILDCHECKBUILD BIN
soGGi 1.43.0  (landing page)
Tom Carroll
git_last_commit: c0596bd
git_last_commit_date: 2025-10-29 10:25:37 -0500
nebbiolo1Linux (Ubuntu 24.04.3 LTS) / x86_64  OK    OK    ERROR  
Package 535/638HostnameOS / ArchINSTALLBUILDCHECKBUILD BIN
sosta 1.3.0  (landing page)
Samuel Gunz
git_last_commit: 02b3ce2
git_last_commit_date: 2025-10-29 11:33:49 -0500
nebbiolo1Linux (Ubuntu 24.04.3 LTS) / x86_64  OK    OK    OK  UNNEEDED, same version is already published
Package 536/638HostnameOS / ArchINSTALLBUILDCHECKBUILD BIN
SpaceTrooper 1.1.0  (landing page)
Dario Righelli
git_last_commit: 99c120b
git_last_commit_date: 2025-10-29 11:37:03 -0500
nebbiolo1Linux (Ubuntu 24.04.3 LTS) / x86_64  OK    OK    OK  UNNEEDED, same version is already published
Package 537/638HostnameOS / ArchINSTALLBUILDCHECKBUILD BIN
spacexr 1.3.0  (landing page)
Gabriel Grajeda
git_last_commit: ea2a493
git_last_commit_date: 2025-10-29 11:35:40 -0500
nebbiolo1Linux (Ubuntu 24.04.3 LTS) / x86_64  OK    OK    OK  UNNEEDED, same version is already published
Package 538/638HostnameOS / ArchINSTALLBUILDCHECKBUILD BIN
Spaniel 1.25.0  (landing page)
Rachel Queen
git_last_commit: b3f45b0
git_last_commit_date: 2025-10-29 10:54:28 -0500
nebbiolo1Linux (Ubuntu 24.04.3 LTS) / x86_64  OK    OK    OK  UNNEEDED, same version is already published
Package 539/638HostnameOS / ArchINSTALLBUILDCHECKBUILD BIN
SpaNorm 1.5.0  (landing page)
Dharmesh D. Bhuva
git_last_commit: 2845190
git_last_commit_date: 2025-10-29 11:32:47 -0500
nebbiolo1Linux (Ubuntu 24.04.3 LTS) / x86_64  OK    OK    OK  UNNEEDED, same version is already published
Package 540/638HostnameOS / ArchINSTALLBUILDCHECKBUILD BIN
spARI 1.1.0  (landing page)
Yinqiao Yan
git_last_commit: 537c914
git_last_commit_date: 2025-10-29 11:37:24 -0500
nebbiolo1Linux (Ubuntu 24.04.3 LTS) / x86_64  OK    OK    OK  UNNEEDED, same version is already published
Package 541/638HostnameOS / ArchINSTALLBUILDCHECKBUILD BIN
spaSim 1.13.0  (landing page)
Yuzhou Feng
git_last_commit: 3d330bf
git_last_commit_date: 2025-10-29 11:17:31 -0500
nebbiolo1Linux (Ubuntu 24.04.3 LTS) / x86_64  OK    OK    OK  UNNEEDED, same version is already published
Package 542/638HostnameOS / ArchINSTALLBUILDCHECKBUILD BIN
SpatialCPie 1.27.0  (landing page)
Joseph Bergenstraahle
git_last_commit: 6712818
git_last_commit_date: 2025-10-29 10:49:19 -0500
nebbiolo1Linux (Ubuntu 24.04.3 LTS) / x86_64  OK    OK    OK  UNNEEDED, same version is already published
Package 543/638HostnameOS / ArchINSTALLBUILDCHECKBUILD BIN
spatialDE 1.17.0  (landing page)
Gabriele Sales
git_last_commit: 8ac058d
git_last_commit_date: 2025-10-29 11:11:31 -0500
nebbiolo1Linux (Ubuntu 24.04.3 LTS) / x86_64  OK    OK    OK  UNNEEDED, same version is already published
Package 544/638HostnameOS / ArchINSTALLBUILDCHECKBUILD BIN
SpatialExperiment 1.21.0  (landing page)
Dario Righelli
git_last_commit: 0414e3b
git_last_commit_date: 2025-10-29 11:00:55 -0500
nebbiolo1Linux (Ubuntu 24.04.3 LTS) / x86_64  OK    OK    OK  UNNEEDED, same version is already published
Package 545/638HostnameOS / ArchINSTALLBUILDCHECKBUILD BIN
spatialFDA 1.3.1  (landing page)
Martin Emons
git_last_commit: bd8c241
git_last_commit_date: 2025-11-03 05:07:08 -0500
nebbiolo1Linux (Ubuntu 24.04.3 LTS) / x86_64  OK    OK    OK  UNNEEDED, same version is already published
Package 546/638HostnameOS / ArchINSTALLBUILDCHECKBUILD BIN
SpatialFeatureExperiment 1.13.0  (landing page)
Lambda Moses
git_last_commit: 06f0dbf
git_last_commit_date: 2025-10-29 11:19:11 -0500
nebbiolo1Linux (Ubuntu 24.04.3 LTS) / x86_64  OK    ERROR  skipped
Package 547/638HostnameOS / ArchINSTALLBUILDCHECKBUILD BIN
spatialHeatmap 2.17.0  (landing page)
Jianhai Zhang
git_last_commit: aa4e2ac
git_last_commit_date: 2025-10-29 11:02:59 -0500
nebbiolo1Linux (Ubuntu 24.04.3 LTS) / x86_64  OK    ERROR  skipped
Package 548/638HostnameOS / ArchINSTALLBUILDCHECKBUILD BIN
spatialSimGP 1.5.0  (landing page)
Kinnary Shah
git_last_commit: de108a0
git_last_commit_date: 2025-10-29 11:32:27 -0500
nebbiolo1Linux (Ubuntu 24.04.3 LTS) / x86_64  OK    OK    OK  UNNEEDED, same version is already published
Package 549/638HostnameOS / ArchINSTALLBUILDCHECKBUILD BIN
spatzie 1.17.0  (landing page)
Jennifer Hammelman
git_last_commit: 3303154
git_last_commit_date: 2025-10-29 11:11:08 -0500
nebbiolo1Linux (Ubuntu 24.04.3 LTS) / x86_64  OK    OK    ERROR  
Package 550/638HostnameOS / ArchINSTALLBUILDCHECKBUILD BIN
SPIAT 1.13.0  (landing page)
Yuzhou Feng
git_last_commit: 8dff5b8
git_last_commit_date: 2025-10-29 11:18:57 -0500
nebbiolo1Linux (Ubuntu 24.04.3 LTS) / x86_64  OK    OK    OK  UNNEEDED, same version is already published
Package 551/638HostnameOS / ArchINSTALLBUILDCHECKBUILD BIN
spicyR 1.23.0  (landing page)
Ellis Patrick
git_last_commit: ed1e5d5
git_last_commit_date: 2025-10-29 10:57:53 -0500
nebbiolo1Linux (Ubuntu 24.04.3 LTS) / x86_64  OK    OK    OK  UNNEEDED, same version is already published
Package 552/638HostnameOS / ArchINSTALLBUILDCHECKBUILD BIN
spillR 1.7.0  (landing page)
Marco Guazzini
git_last_commit: c3abfa4
git_last_commit_date: 2025-10-29 11:27:04 -0500
nebbiolo1Linux (Ubuntu 24.04.3 LTS) / x86_64  OK    OK    OK  UNNEEDED, same version is already published
Package 553/638HostnameOS / ArchINSTALLBUILDCHECKBUILD BIN
splatter 1.35.0  (landing page)
Luke Zappia
git_last_commit: 646e458
git_last_commit_date: 2025-11-01 07:08:53 -0500
nebbiolo1Linux (Ubuntu 24.04.3 LTS) / x86_64  OK    OK    OK  UNNEEDED, same version is already published
Package 554/638HostnameOS / ArchINSTALLBUILDCHECKBUILD BIN
SpliceWiz 1.13.0  (landing page)
Alex Chit Hei Wong
git_last_commit: 73b017a
git_last_commit_date: 2025-10-29 11:17:35 -0500
nebbiolo1Linux (Ubuntu 24.04.3 LTS) / x86_64  OK    OK    WARNINGS  YES
Package 555/638HostnameOS / ArchINSTALLBUILDCHECKBUILD BIN
SplicingFactory 1.19.0  (landing page)
Endre Sebestyen
git_last_commit: e9a3630
git_last_commit_date: 2025-10-29 11:05:02 -0500
nebbiolo1Linux (Ubuntu 24.04.3 LTS) / x86_64  OK    OK    OK  UNNEEDED, same version is already published
Package 556/638HostnameOS / ArchINSTALLBUILDCHECKBUILD BIN
SplineDV 1.3.0  (landing page)
Shreyan Gupta
git_last_commit: 0bab677
git_last_commit_date: 2025-10-29 11:33:07 -0500
nebbiolo1Linux (Ubuntu 24.04.3 LTS) / x86_64  OK    OK    OK  UNNEEDED, same version is already published
Package 557/638HostnameOS / ArchINSTALLBUILDCHECKBUILD BIN
spoon 1.7.0  (landing page)
Kinnary Shah
git_last_commit: eeb5f52
git_last_commit_date: 2025-10-29 11:28:09 -0500
nebbiolo1Linux (Ubuntu 24.04.3 LTS) / x86_64  OK    OK    OK  UNNEEDED, same version is already published
Package 558/638HostnameOS / ArchINSTALLBUILDCHECKBUILD BIN
SpotClean 1.13.0  (landing page)
Zijian Ni
git_last_commit: d03a2a9
git_last_commit_date: 2025-10-29 11:17:07 -0500
nebbiolo1Linux (Ubuntu 24.04.3 LTS) / x86_64  OK    OK    OK  UNNEEDED, same version is already published
Package 559/638HostnameOS / ArchINSTALLBUILDCHECKBUILD BIN
SpotSweeper 1.7.0  (landing page)
Michael Totty
git_last_commit: 61632f2
git_last_commit_date: 2025-10-29 11:29:53 -0500
nebbiolo1Linux (Ubuntu 24.04.3 LTS) / x86_64  OK    OK    OK  UNNEEDED, same version is already published
Package 560/638HostnameOS / ArchINSTALLBUILDCHECKBUILD BIN
spqn 1.23.0  (landing page)
Yi Wang
git_last_commit: 86a8920
git_last_commit_date: 2025-10-29 10:58:39 -0500
nebbiolo1Linux (Ubuntu 24.04.3 LTS) / x86_64  OK    OK    OK  UNNEEDED, same version is already published
Package 561/638HostnameOS / ArchINSTALLBUILDCHECKBUILD BIN
sRACIPE 2.3.0  (landing page)
Mingyang Lu
git_last_commit: 0d22d7b
git_last_commit_date: 2025-10-29 10:51:28 -0500
nebbiolo1Linux (Ubuntu 24.04.3 LTS) / x86_64  OK    OK    OK  UNNEEDED, same version is already published
Package 562/638HostnameOS / ArchINSTALLBUILDCHECKBUILD BIN
srnadiff 1.31.0  (landing page)
Zytnicki Matthias
git_last_commit: 680956d
git_last_commit_date: 2025-10-29 10:43:01 -0500
nebbiolo1Linux (Ubuntu 24.04.3 LTS) / x86_64  OK    OK    WARNINGS  YES
Package 563/638HostnameOS / ArchINSTALLBUILDCHECKBUILD BIN
sSNAPPY 1.15.0  (landing page)
Wenjun Liu
git_last_commit: a86fed1
git_last_commit_date: 2025-10-29 11:16:30 -0500
nebbiolo1Linux (Ubuntu 24.04.3 LTS) / x86_64  OK    OK    OK  UNNEEDED, same version is already published
Package 564/638HostnameOS / ArchINSTALLBUILDCHECKBUILD BIN
ssPATHS 1.25.0  (landing page)
Natalie R. Davidson
git_last_commit: 279a5e8
git_last_commit_date: 2025-10-29 10:54:57 -0500
nebbiolo1Linux (Ubuntu 24.04.3 LTS) / x86_64  OK    OK    OK  UNNEEDED, same version is already published
Package 565/638HostnameOS / ArchINSTALLBUILDCHECKBUILD BIN
StabMap 1.5.0  (landing page)
Shila Ghazanfar
git_last_commit: 05ee46d
git_last_commit_date: 2025-10-29 11:31:21 -0500
nebbiolo1Linux (Ubuntu 24.04.3 LTS) / x86_64  OK    OK    OK  UNNEEDED, same version is already published
Package 566/638HostnameOS / ArchINSTALLBUILDCHECKBUILD BIN
stageR 1.33.0  (landing page)
Koen Van den Berge
git_last_commit: d375191
git_last_commit_date: 2025-10-29 10:41:45 -0500
nebbiolo1Linux (Ubuntu 24.04.3 LTS) / x86_64  OK    OK    WARNINGS  UNNEEDED, same version is already published
Package 567/638HostnameOS / ArchINSTALLBUILDCHECKBUILD BIN
standR 1.15.0  (landing page)
Ning Liu
git_last_commit: 9a79065
git_last_commit_date: 2025-10-29 11:16:04 -0500
nebbiolo1Linux (Ubuntu 24.04.3 LTS) / x86_64  OK    OK    OK  YES
Package 568/638HostnameOS / ArchINSTALLBUILDCHECKBUILD BIN
Statial 1.13.0  (landing page)
Farhan Ameen
git_last_commit: 2a5a1ee
git_last_commit_date: 2025-10-29 11:19:57 -0500
nebbiolo1Linux (Ubuntu 24.04.3 LTS) / x86_64  OK    OK    OK  UNNEEDED, same version is already published
Package 569/638HostnameOS / ArchINSTALLBUILDCHECKBUILD BIN
stJoincount 1.13.0  (landing page)
Jiarong Song
git_last_commit: 0d545fd
git_last_commit_date: 2025-10-29 11:19:39 -0500
nebbiolo1Linux (Ubuntu 24.04.3 LTS) / x86_64  OK    OK    OK  UNNEEDED, same version is already published
Package 570/638HostnameOS / ArchINSTALLBUILDCHECKBUILD BIN
stPipe 1.1.0  (landing page)
Yang Xu
git_last_commit: 3b726e3
git_last_commit_date: 2025-10-29 11:37:41 -0500
nebbiolo1Linux (Ubuntu 24.04.3 LTS) / x86_64  OK    OK    WARNINGS  YES
Package 571/638HostnameOS / ArchINSTALLBUILDCHECKBUILD BIN
struct 1.23.0  (landing page)
Gavin Rhys Lloyd
git_last_commit: 78bafdc
git_last_commit_date: 2025-10-29 10:56:37 -0500
nebbiolo1Linux (Ubuntu 24.04.3 LTS) / x86_64  OK    OK    OK  NO, package depends on 'rols' which is not available
Package 572/638HostnameOS / ArchINSTALLBUILDCHECKBUILD BIN
StructuralVariantAnnotation 1.27.0  (landing page)
Daniel Cameron
git_last_commit: 72cd374
git_last_commit_date: 2025-10-29 10:52:25 -0500
nebbiolo1Linux (Ubuntu 24.04.3 LTS) / x86_64  OK    OK    OK  YES
Package 573/638HostnameOS / ArchINSTALLBUILDCHECKBUILD BIN
supersigs 1.19.0  (landing page)
Albert Kuo
git_last_commit: 281d3c5
git_last_commit_date: 2025-10-29 11:08:53 -0500
nebbiolo1Linux (Ubuntu 24.04.3 LTS) / x86_64  OK    OK    WARNINGS  UNNEEDED, same version is already published
Package 574/638HostnameOS / ArchINSTALLBUILDCHECKBUILD BIN
SurfR 1.7.0  (landing page)
Aurora Maurizio
git_last_commit: 90bbf06
git_last_commit_date: 2025-10-29 11:27:44 -0500
nebbiolo1Linux (Ubuntu 24.04.3 LTS) / x86_64  OK    OK    OK  UNNEEDED, same version is already published
Package 575/638HostnameOS / ArchINSTALLBUILDCHECKBUILD BIN
survtype 1.27.0  (landing page)
Dongmin Jung
git_last_commit: 2853971
git_last_commit_date: 2025-10-29 10:51:07 -0500
nebbiolo1Linux (Ubuntu 24.04.3 LTS) / x86_64  OK    OK    OK  UNNEEDED, same version is already published
Package 576/638HostnameOS / ArchINSTALLBUILDCHECKBUILD BIN
SVMDO 1.11.0  (landing page)
Mustafa Erhan Ozer
git_last_commit: 2bc7e27
git_last_commit_date: 2025-10-29 11:23:08 -0500
nebbiolo1Linux (Ubuntu 24.04.3 LTS) / x86_64  OK    OK    OK  UNNEEDED, same version is already published
Package 577/638HostnameOS / ArchINSTALLBUILDCHECKBUILD BIN
SVP 1.3.1  (landing page)
Shuangbin Xu
git_last_commit: e864351
git_last_commit_date: 2025-11-03 02:03:04 -0500
nebbiolo1Linux (Ubuntu 24.04.3 LTS) / x86_64  OK    OK    OK  UNNEEDED, same version is already published
Package 578/638HostnameOS / ArchINSTALLBUILDCHECKBUILD BIN
switchde 1.37.0  (landing page)
Kieran Campbell
git_last_commit: 5b6f873
git_last_commit_date: 2025-10-29 10:33:47 -0500
nebbiolo1Linux (Ubuntu 24.04.3 LTS) / x86_64  OK    OK    OK  UNNEEDED, same version is already published
Package 579/638HostnameOS / ArchINSTALLBUILDCHECKBUILD BIN
systemPipeR 2.17.0  (landing page)
Thomas Girke
git_last_commit: 378a792
git_last_commit_date: 2025-10-29 10:21:27 -0500
nebbiolo1Linux (Ubuntu 24.04.3 LTS) / x86_64  OK    OK    OK  UNNEEDED, same version is already published
Package 580/638HostnameOS / ArchINSTALLBUILDCHECKBUILD BIN
systemPipeTools 1.19.0  (landing page)
Daniela Cassol
git_last_commit: 5e1379b
git_last_commit_date: 2025-10-29 11:10:03 -0500
nebbiolo1Linux (Ubuntu 24.04.3 LTS) / x86_64  OK    OK    WARNINGS  UNNEEDED, same version is already published
Package 581/638HostnameOS / ArchINSTALLBUILDCHECKBUILD BIN
TBSignatureProfiler 1.23.0  (landing page)
Kiloni Quiles
git_last_commit: fa5ed4c
git_last_commit_date: 2025-10-29 10:58:59 -0500
nebbiolo1Linux (Ubuntu 24.04.3 LTS) / x86_64  OK    OK    OK  YES
Package 582/638HostnameOS / ArchINSTALLBUILDCHECKBUILD BIN
TCGAbiolinks 2.39.0  (landing page)
Tiago Chedraoui Silva
git_last_commit: 2072af1
git_last_commit_date: 2025-10-29 10:27:16 -0500
nebbiolo1Linux (Ubuntu 24.04.3 LTS) / x86_64  OK    OK    WARNINGS  UNNEEDED, same version is already published
Package 583/638HostnameOS / ArchINSTALLBUILDCHECKBUILD BIN
TCGAutils 1.31.0  (landing page)
Marcel Ramos
git_last_commit: 4b0da87
git_last_commit_date: 2025-10-29 10:45:09 -0500
nebbiolo1Linux (Ubuntu 24.04.3 LTS) / x86_64  ERROR    ERROR  skipped
Package 584/638HostnameOS / ArchINSTALLBUILDCHECKBUILD BIN
TCseq 1.35.0  (landing page)
Mengjun Wu
git_last_commit: 049f241
git_last_commit_date: 2025-10-29 10:36:13 -0500
nebbiolo1Linux (Ubuntu 24.04.3 LTS) / x86_64  OK    OK    WARNINGS  UNNEEDED, same version is already published
Package 585/638HostnameOS / ArchINSTALLBUILDCHECKBUILD BIN
TENET 1.3.0  (landing page)
Rhie Lab at the University of Southern California
git_last_commit: 135855c
git_last_commit_date: 2025-10-29 11:34:59 -0500
nebbiolo1Linux (Ubuntu 24.04.3 LTS) / x86_64  OK    OK    OK  YES
Package 586/638HostnameOS / ArchINSTALLBUILDCHECKBUILD BIN
TENxIO 1.13.0  (landing page)
Marcel Ramos
git_last_commit: e1cb3c4
git_last_commit_date: 2025-10-29 11:19:24 -0500
nebbiolo1Linux (Ubuntu 24.04.3 LTS) / x86_64  OK    OK    OK  UNNEEDED, same version is already published
Package 587/638HostnameOS / ArchINSTALLBUILDCHECKBUILD BIN
tenXplore 1.33.0  (landing page)
VJ Carey
git_last_commit: 5fe43eb
git_last_commit_date: 2025-10-29 10:42:05 -0500
nebbiolo1Linux (Ubuntu 24.04.3 LTS) / x86_64  OK    OK    OK  YES
Package 588/638HostnameOS / ArchINSTALLBUILDCHECKBUILD BIN
TFutils 1.31.0  (landing page)
Vincent Carey
git_last_commit: 775ebfc
git_last_commit_date: 2025-10-29 10:44:40 -0500
nebbiolo1Linux (Ubuntu 24.04.3 LTS) / x86_64  OK    OK    OK  YES
Package 589/638HostnameOS / ArchINSTALLBUILDCHECKBUILD BIN
tidybulk 2.1.0  (landing page)
Stefano Mangiola
git_last_commit: 903ed2a
git_last_commit_date: 2025-10-29 10:57:24 -0500
nebbiolo1Linux (Ubuntu 24.04.3 LTS) / x86_64  OK    OK    OK  UNNEEDED, same version is already published
Package 590/638HostnameOS / ArchINSTALLBUILDCHECKBUILD BIN
tidyCoverage 1.7.0  (landing page)
Jacques Serizay
git_last_commit: 283f96f
git_last_commit_date: 2025-10-29 11:27:26 -0500
nebbiolo1Linux (Ubuntu 24.04.3 LTS) / x86_64  OK    OK    OK  YES
Package 591/638HostnameOS / ArchINSTALLBUILDCHECKBUILD BIN
tidySingleCellExperiment 1.21.0  (landing page)
Stefano Mangiola
git_last_commit: 065fd60
git_last_commit_date: 2025-10-29 11:04:16 -0500
nebbiolo1Linux (Ubuntu 24.04.3 LTS) / x86_64  OK    OK    OK  UNNEEDED, same version is already published
Package 592/638HostnameOS / ArchINSTALLBUILDCHECKBUILD BIN
tidySpatialExperiment 1.7.1  (landing page)
William Hutchison
git_last_commit: 9871264
git_last_commit_date: 2025-11-02 19:43:39 -0500
nebbiolo1Linux (Ubuntu 24.04.3 LTS) / x86_64  OK    OK    OK  UNNEEDED, same version is already published
Package 593/638HostnameOS / ArchINSTALLBUILDCHECKBUILD BIN
tidySummarizedExperiment 1.21.0  (landing page)
Stefano Mangiola
git_last_commit: d35c29a
git_last_commit_date: 2025-10-29 11:04:14 -0500
nebbiolo1Linux (Ubuntu 24.04.3 LTS) / x86_64  OK    OK    OK  UNNEEDED, same version is already published
Package 594/638HostnameOS / ArchINSTALLBUILDCHECKBUILD BIN
TissueEnrich 1.31.0  (landing page)
Ashish Jain
git_last_commit: 706448a
git_last_commit_date: 2025-10-29 10:44:14 -0500
nebbiolo1Linux (Ubuntu 24.04.3 LTS) / x86_64  OK    OK    OK  UNNEEDED, same version is already published
Package 595/638HostnameOS / ArchINSTALLBUILDCHECKBUILD BIN
TOAST 1.25.0  (landing page)
Ziyi Li
git_last_commit: dab62cf
git_last_commit_date: 2025-10-29 10:52:46 -0500
nebbiolo1Linux (Ubuntu 24.04.3 LTS) / x86_64  OK    OK    OK  UNNEEDED, same version is already published
Package 596/638HostnameOS / ArchINSTALLBUILDCHECKBUILD BIN
tomoda 1.21.0  (landing page)
Wendao Liu
git_last_commit: 2682c14
git_last_commit_date: 2025-10-29 11:03:02 -0500
nebbiolo1Linux (Ubuntu 24.04.3 LTS) / x86_64  OK    OK    OK  UNNEEDED, same version is already published
Package 597/638HostnameOS / ArchINSTALLBUILDCHECKBUILD BIN
ToxicoGx 2.15.0  (landing page)
Benjamin Haibe-Kains
git_last_commit: 0781b14
git_last_commit_date: 2025-10-29 11:00:15 -0500
nebbiolo1Linux (Ubuntu 24.04.3 LTS) / x86_64  OK    OK    OK  UNNEEDED, same version is already published
Package 598/638HostnameOS / ArchINSTALLBUILDCHECKBUILD BIN
tpSVG 1.7.0  (landing page)
Boyi Guo
git_last_commit: 762d511
git_last_commit_date: 2025-10-29 11:28:17 -0500
nebbiolo1Linux (Ubuntu 24.04.3 LTS) / x86_64  OK    OK    OK  UNNEEDED, same version is already published
Package 599/638HostnameOS / ArchINSTALLBUILDCHECKBUILD BIN
tradeSeq 1.25.0  (landing page)
Hector Roux de Bezieux
git_last_commit: 4e78622
git_last_commit_date: 2025-10-29 10:55:42 -0500
nebbiolo1Linux (Ubuntu 24.04.3 LTS) / x86_64  OK    OK    OK  UNNEEDED, same version is already published
Package 600/638HostnameOS / ArchINSTALLBUILDCHECKBUILD BIN
TrajectoryUtils 1.19.0  (landing page)
Aaron Lun
git_last_commit: 5806e25
git_last_commit_date: 2025-10-29 11:06:03 -0500
nebbiolo1Linux (Ubuntu 24.04.3 LTS) / x86_64  OK    OK    OK  UNNEEDED, same version is already published
Package 601/638HostnameOS / ArchINSTALLBUILDCHECKBUILD BIN
transformGamPoi 1.17.0  (landing page)
Constantin Ahlmann-Eltze
git_last_commit: 7ddcbe2
git_last_commit_date: 2025-10-29 11:12:07 -0500
nebbiolo1Linux (Ubuntu 24.04.3 LTS) / x86_64  OK    OK    OK  UNNEEDED, same version is already published
Package 602/638HostnameOS / ArchINSTALLBUILDCHECKBUILD BIN
transmogR 1.7.0  (landing page)
Stevie Pederson
git_last_commit: ad3458d
git_last_commit_date: 2025-10-29 11:27:49 -0500
nebbiolo1Linux (Ubuntu 24.04.3 LTS) / x86_64  OK    OK    OK  YES
Package 603/638HostnameOS / ArchINSTALLBUILDCHECKBUILD BIN
treeclimbR 1.7.0  (landing page)
Charlotte Soneson
git_last_commit: 3ba408c
git_last_commit_date: 2025-10-29 11:28:31 -0500
nebbiolo1Linux (Ubuntu 24.04.3 LTS) / x86_64  OK    OK    OK  UNNEEDED, same version is already published
Package 604/638HostnameOS / ArchINSTALLBUILDCHECKBUILD BIN
TreeSummarizedExperiment 2.19.0  (landing page)
Ruizhu Huang
git_last_commit: d592bc4
git_last_commit_date: 2025-10-29 10:52:27 -0500
nebbiolo1Linux (Ubuntu 24.04.3 LTS) / x86_64  OK    OK    OK  UNNEEDED, same version is already published
Package 605/638HostnameOS / ArchINSTALLBUILDCHECKBUILD BIN
TREG 1.15.0  (landing page)
Louise Huuki-Myers
git_last_commit: 8886db1
git_last_commit_date: 2025-10-29 11:15:26 -0500
nebbiolo1Linux (Ubuntu 24.04.3 LTS) / x86_64  OK    OK    OK  UNNEEDED, same version is already published
Package 606/638HostnameOS / ArchINSTALLBUILDCHECKBUILD BIN
Trendy 1.33.0  (landing page)
Rhonda Bacher
git_last_commit: 3ac921f
git_last_commit_date: 2025-10-29 10:42:59 -0500
nebbiolo1Linux (Ubuntu 24.04.3 LTS) / x86_64  OK    OK    OK  UNNEEDED, same version is already published
Package 607/638HostnameOS / ArchINSTALLBUILDCHECKBUILD BIN
tricycle 1.19.0  (landing page)
Shijie Zheng
git_last_commit: 54701be
git_last_commit_date: 2025-10-29 11:08:17 -0500
nebbiolo1Linux (Ubuntu 24.04.3 LTS) / x86_64  OK    OK    WARNINGS  UNNEEDED, same version is already published
Package 608/638HostnameOS / ArchINSTALLBUILDCHECKBUILD BIN
TSCAN 1.49.0  (landing page)
Zhicheng Ji
git_last_commit: 19fa1c7
git_last_commit_date: 2025-10-29 10:21:25 -0500
nebbiolo1Linux (Ubuntu 24.04.3 LTS) / x86_64  OK    OK    OK  UNNEEDED, same version is already published
Package 609/638HostnameOS / ArchINSTALLBUILDCHECKBUILD BIN
TTMap 1.33.0  (landing page)
Rachel Jeitziner
git_last_commit: a4bf3ca
git_last_commit_date: 2025-10-29 10:43:09 -0500
nebbiolo1Linux (Ubuntu 24.04.3 LTS) / x86_64  OK    OK    OK  UNNEEDED, same version is already published
Package 610/638HostnameOS / ArchINSTALLBUILDCHECKBUILD BIN
TVTB 1.37.0  (landing page)
Kevin Rue-Albrecht
git_last_commit: 7c8a13b
git_last_commit_date: 2025-10-29 10:35:21 -0500
nebbiolo1Linux (Ubuntu 24.04.3 LTS) / x86_64  OK    OK    OK  YES
Package 611/638HostnameOS / ArchINSTALLBUILDCHECKBUILD BIN
tximeta 1.29.0  (landing page)
Michael Love
git_last_commit: 43586e1
git_last_commit_date: 2025-10-29 10:47:17 -0500
nebbiolo1Linux (Ubuntu 24.04.3 LTS) / x86_64  OK    OK    OK  YES
Package 612/638HostnameOS / ArchINSTALLBUILDCHECKBUILD BIN
UCell 2.15.0  (landing page)
Massimo Andreatta
git_last_commit: 1e041f7
git_last_commit_date: 2025-10-31 04:53:43 -0500
nebbiolo1Linux (Ubuntu 24.04.3 LTS) / x86_64  OK    OK    OK  UNNEEDED, same version is already published
Package 613/638HostnameOS / ArchINSTALLBUILDCHECKBUILD BIN
UMI4Cats 1.21.0  (landing page)
Mireia Ramos-Rodriguez
git_last_commit: f049a0a
git_last_commit_date: 2025-10-29 11:01:19 -0500
nebbiolo1Linux (Ubuntu 24.04.3 LTS) / x86_64  OK    OK    OK  YES
Package 614/638HostnameOS / ArchINSTALLBUILDCHECKBUILD BIN
UPDhmm 1.7.0  (landing page)
Marta Sevilla
git_last_commit: 031c3fa
git_last_commit_date: 2025-10-29 11:29:26 -0500
nebbiolo1Linux (Ubuntu 24.04.3 LTS) / x86_64  OK    OK    OK  YES
Package 615/638HostnameOS / ArchINSTALLBUILDCHECKBUILD BIN
VAExprs 1.17.0  (landing page)
Dongmin Jung
git_last_commit: 360e803
git_last_commit_date: 2025-10-29 11:11:03 -0500
nebbiolo1Linux (Ubuntu 24.04.3 LTS) / x86_64  OK    OK    OK  UNNEEDED, same version is already published
Package 616/638HostnameOS / ArchINSTALLBUILDCHECKBUILD BIN
VanillaICE 1.73.0  (landing page)
Robert Scharpf
git_last_commit: 22bb99f
git_last_commit_date: 2025-10-29 09:59:52 -0500
nebbiolo1Linux (Ubuntu 24.04.3 LTS) / x86_64  OK    OK    OK  UNNEEDED, same version is already published
Package 617/638HostnameOS / ArchINSTALLBUILDCHECKBUILD BIN
VariantAnnotation 1.57.0  (landing page)
Bioconductor Package Maintainer
git_last_commit: 0da7ddb
git_last_commit_date: 2025-10-29 10:08:24 -0500
nebbiolo1Linux (Ubuntu 24.04.3 LTS) / x86_64  OK    OK    WARNINGS  YES
Package 618/638HostnameOS / ArchINSTALLBUILDCHECKBUILD BIN
VariantExperiment 1.25.0  (landing page)
Qian Liu
git_last_commit: 230466e
git_last_commit_date: 2025-10-29 10:53:44 -0500
nebbiolo1Linux (Ubuntu 24.04.3 LTS) / x86_64  OK    OK    OK  NO, package depends on 'GDSArray' which is not available
Package 619/638HostnameOS / ArchINSTALLBUILDCHECKBUILD BIN
VariantFiltering 1.47.0  (landing page)
Robert Castelo
git_last_commit: 270d88d
git_last_commit_date: 2025-10-29 10:19:08 -0500
nebbiolo1Linux (Ubuntu 24.04.3 LTS) / x86_64  OK    OK    OK  YES
Package 620/638HostnameOS / ArchINSTALLBUILDCHECKBUILD BIN
VDJdive 1.13.0  (landing page)
Kelly Street
git_last_commit: 06997fb
git_last_commit_date: 2025-10-29 11:18:28 -0500
nebbiolo1Linux (Ubuntu 24.04.3 LTS) / x86_64  OK    OK    OK  UNNEEDED, same version is already published
Package 621/638HostnameOS / ArchINSTALLBUILDCHECKBUILD BIN
velociraptor 1.21.0  (landing page)
Kevin Rue-Albrecht
git_last_commit: b6ed8f8
git_last_commit_date: 2025-10-29 11:02:39 -0500
nebbiolo1Linux (Ubuntu 24.04.3 LTS) / x86_64  OK    OK    OK  UNNEEDED, same version is already published
Package 622/638HostnameOS / ArchINSTALLBUILDCHECKBUILD BIN
vidger 1.31.0  (landing page)
Brandon Monier
git_last_commit: bdddd06
git_last_commit_date: 2025-10-29 10:43:35 -0500
nebbiolo1Linux (Ubuntu 24.04.3 LTS) / x86_64  OK    OK    OK  UNNEEDED, same version is already published
Package 623/638HostnameOS / ArchINSTALLBUILDCHECKBUILD BIN
VisiumIO 1.7.0  (landing page)
Marcel Ramos
git_last_commit: 459a588
git_last_commit_date: 2025-10-29 11:27:23 -0500
nebbiolo1Linux (Ubuntu 24.04.3 LTS) / x86_64  OK    OK    OK  UNNEEDED, same version is already published
Package 624/638HostnameOS / ArchINSTALLBUILDCHECKBUILD BIN
visiumStitched 1.3.0  (landing page)
Nicholas J. Eagles
git_last_commit: 829e946
git_last_commit_date: 2025-10-29 11:33:12 -0500
nebbiolo1Linux (Ubuntu 24.04.3 LTS) / x86_64  OK    OK    OK  UNNEEDED, same version is already published
Package 625/638HostnameOS / ArchINSTALLBUILDCHECKBUILD BIN
vmrseq 1.3.0  (landing page)
Ning Shen
git_last_commit: ad3b777
git_last_commit_date: 2025-10-29 11:35:54 -0500
nebbiolo1Linux (Ubuntu 24.04.3 LTS) / x86_64  OK    OK    OK  YES
Package 626/638HostnameOS / ArchINSTALLBUILDCHECKBUILD BIN
Voyager 1.13.0  (landing page)
Lambda Moses
git_last_commit: d3cefae
git_last_commit_date: 2025-10-29 11:19:14 -0500
nebbiolo1Linux (Ubuntu 24.04.3 LTS) / x86_64  OK    OK    WARNINGS  NO, package depends on 'SpatialFeatureExperiment' which is not available
Package 627/638HostnameOS / ArchINSTALLBUILDCHECKBUILD BIN
weitrix 1.23.0  (landing page)
Paul Harrison
git_last_commit: 0187a17
git_last_commit_date: 2025-10-29 10:59:24 -0500
nebbiolo1Linux (Ubuntu 24.04.3 LTS) / x86_64  OK    OK    OK  UNNEEDED, same version is already published
Package 628/638HostnameOS / ArchINSTALLBUILDCHECKBUILD BIN
wpm 1.21.0  (landing page)
Helene Borges
git_last_commit: 2fda63e
git_last_commit_date: 2025-10-29 11:00:38 -0500
nebbiolo1Linux (Ubuntu 24.04.3 LTS) / x86_64  OK    OK    OK  UNNEEDED, same version is already published
Package 629/638HostnameOS / ArchINSTALLBUILDCHECKBUILD BIN
XAItest 1.3.0  (landing page)
Ghislain FIEVET
git_last_commit: b1f364c
git_last_commit_date: 2025-10-29 11:35:10 -0500
nebbiolo1Linux (Ubuntu 24.04.3 LTS) / x86_64  OK    OK    WARNINGS  UNNEEDED, same version is already published
Package 630/638HostnameOS / ArchINSTALLBUILDCHECKBUILD BIN
xCell2 1.3.0  (landing page)
Almog Angel
git_last_commit: c6b6c48
git_last_commit_date: 2025-10-29 11:33:51 -0500
nebbiolo1Linux (Ubuntu 24.04.3 LTS) / x86_64  OK    OK    OK  UNNEEDED, same version is already published
Package 631/638HostnameOS / ArchINSTALLBUILDCHECKBUILD BIN
xcms 4.9.0  (landing page)
Steffen Neumann
git_last_commit: 3321e90
git_last_commit_date: 2025-10-29 09:56:19 -0500
nebbiolo1Linux (Ubuntu 24.04.3 LTS) / x86_64  OK    OK    OK  UNNEEDED, same version is already published
Package 632/638HostnameOS / ArchINSTALLBUILDCHECKBUILD BIN
XeniumIO 1.3.0  (landing page)
Marcel Ramos
git_last_commit: dfaaa90
git_last_commit_date: 2025-10-29 11:34:29 -0500
nebbiolo1Linux (Ubuntu 24.04.3 LTS) / x86_64  OK    OK    OK  UNNEEDED, same version is already published
Package 633/638HostnameOS / ArchINSTALLBUILDCHECKBUILD BIN
xenLite 1.5.0  (landing page)
Vincent Carey
git_last_commit: 504f4e0
git_last_commit_date: 2025-10-29 11:31:51 -0500
nebbiolo1Linux (Ubuntu 24.04.3 LTS) / x86_64  OK    OK    OK  UNNEEDED, same version is already published
Package 634/638HostnameOS / ArchINSTALLBUILDCHECKBUILD BIN
yamss 1.37.0  (landing page)
Leslie Myint
git_last_commit: 9695dd5
git_last_commit_date: 2025-10-29 10:35:27 -0500
nebbiolo1Linux (Ubuntu 24.04.3 LTS) / x86_64  OK    OK    OK  UNNEEDED, same version is already published
Package 635/638HostnameOS / ArchINSTALLBUILDCHECKBUILD BIN
zellkonverter 1.21.0  (landing page)
Luke Zappia
git_last_commit: 38b921d
git_last_commit_date: 2025-11-01 07:21:07 -0500
nebbiolo1Linux (Ubuntu 24.04.3 LTS) / x86_64  OK    OK    OK  UNNEEDED, same version is already published
Package 636/638HostnameOS / ArchINSTALLBUILDCHECKBUILD BIN
zFPKM 1.33.0  (landing page)
Ron Ammar
git_last_commit: a6e7c5c
git_last_commit_date: 2025-10-29 10:40:03 -0500
nebbiolo1Linux (Ubuntu 24.04.3 LTS) / x86_64  OK    OK    OK  UNNEEDED, same version is already published
Package 637/638HostnameOS / ArchINSTALLBUILDCHECKBUILD BIN
zinbwave 1.33.0  (landing page)
Davide Risso
git_last_commit: dee1bb8
git_last_commit_date: 2025-10-29 10:39:04 -0500
nebbiolo1Linux (Ubuntu 24.04.3 LTS) / x86_64  OK    OK    OK  UNNEEDED, same version is already published
Package 638/638HostnameOS / ArchINSTALLBUILDCHECKBUILD BIN
zitools 1.5.0  (landing page)
Carlotta Meyring
git_last_commit: 822919b
git_last_commit_date: 2025-10-29 11:30:43 -0500
nebbiolo1Linux (Ubuntu 24.04.3 LTS) / x86_64  OK    OK    WARNINGS  UNNEEDED, same version is already published