Back to Multiple platform build/check report for BioC 3.22:   simplified   long
A[B]CDEFGHIJKLMNOPQRSTUVWXYZ

This page was generated on 2025-10-15 12:03 -0400 (Wed, 15 Oct 2025).

HostnameOSArch (*)R versionInstalled pkgs
nebbiolo2Linux (Ubuntu 24.04.3 LTS)x86_644.5.1 Patched (2025-08-23 r88802) -- "Great Square Root" 4866
lconwaymacOS 12.7.6 Montereyx86_644.5.1 Patched (2025-09-10 r88807) -- "Great Square Root" 4653
kjohnson3macOS 13.7.7 Venturaarm644.5.1 Patched (2025-09-10 r88807) -- "Great Square Root" 4598
taishanLinux (openEuler 24.03 LTS)aarch644.5.0 (2025-04-11) -- "How About a Twenty-Six" 4610
Click on any hostname to see more info about the system (e.g. compilers)      (*) as reported by 'uname -p', except on Windows and Mac OS X

Package 245/2346HostnameOS / ArchINSTALLBUILDCHECKBUILD BIN
BreastSubtypeR 1.1.8  (landing page)
Qiao Yang
Snapshot Date: 2025-10-14 13:45 -0400 (Tue, 14 Oct 2025)
git_url: https://git.bioconductor.org/packages/BreastSubtypeR
git_branch: devel
git_last_commit: 8e84bae
git_last_commit_date: 2025-10-11 13:09:33 -0400 (Sat, 11 Oct 2025)
nebbiolo2Linux (Ubuntu 24.04.3 LTS) / x86_64  OK    OK    OK  UNNEEDED, same version is already published
lconwaymacOS 12.7.6 Monterey / x86_64  OK    OK    OK    OK  UNNEEDED, same version is already published
kjohnson3macOS 13.7.7 Ventura / arm64  OK    OK    OK    OK  UNNEEDED, same version is already published
taishanLinux (openEuler 24.03 LTS) / aarch64  OK    OK    OK  


CHECK results for BreastSubtypeR on nebbiolo2

To the developers/maintainers of the BreastSubtypeR package:
- Allow up to 24 hours (and sometimes 48 hours) for your latest push to git@git.bioconductor.org:packages/BreastSubtypeR.git to reflect on this report. See Troubleshooting Build Report for more information.
- Use the following Renviron settings to reproduce errors and warnings.
- If 'R CMD check' started to fail recently on the Linux builder(s) over a missing dependency, add the missing dependency to 'Suggests:' in your DESCRIPTION file. See Renviron.bioc for more information.

raw results


Summary

Package: BreastSubtypeR
Version: 1.1.8
Command: /home/biocbuild/bbs-3.22-bioc/R/bin/R CMD check --install=check:BreastSubtypeR.install-out.txt --library=/home/biocbuild/bbs-3.22-bioc/R/site-library --timings BreastSubtypeR_1.1.8.tar.gz
StartedAt: 2025-10-14 21:45:58 -0400 (Tue, 14 Oct 2025)
EndedAt: 2025-10-14 21:51:35 -0400 (Tue, 14 Oct 2025)
EllapsedTime: 336.6 seconds
RetCode: 0
Status:   OK  
CheckDir: BreastSubtypeR.Rcheck
Warnings: 0

Command output

##############################################################################
##############################################################################
###
### Running command:
###
###   /home/biocbuild/bbs-3.22-bioc/R/bin/R CMD check --install=check:BreastSubtypeR.install-out.txt --library=/home/biocbuild/bbs-3.22-bioc/R/site-library --timings BreastSubtypeR_1.1.8.tar.gz
###
##############################################################################
##############################################################################


* using log directory ‘/home/biocbuild/bbs-3.22-bioc/meat/BreastSubtypeR.Rcheck’
* using R version 4.5.1 Patched (2025-08-23 r88802)
* using platform: x86_64-pc-linux-gnu
* R was compiled by
    gcc (Ubuntu 13.3.0-6ubuntu2~24.04) 13.3.0
    GNU Fortran (Ubuntu 13.3.0-6ubuntu2~24.04) 13.3.0
* running under: Ubuntu 24.04.3 LTS
* using session charset: UTF-8
* checking for file ‘BreastSubtypeR/DESCRIPTION’ ... OK
* checking extension type ... Package
* this is package ‘BreastSubtypeR’ version ‘1.1.8’
* package encoding: UTF-8
* checking package namespace information ... OK
* checking package dependencies ... OK
* checking if this is a source package ... OK
* checking if there is a namespace ... OK
* checking for hidden files and directories ... OK
* checking for portable file names ... OK
* checking for sufficient/correct file permissions ... OK
* checking whether package ‘BreastSubtypeR’ can be installed ... OK
* checking installed package size ... INFO
  installed size is  9.3Mb
  sub-directories of 1Mb or more:
    RshinyTest   4.8Mb
    data         4.0Mb
* checking package directory ... OK
* checking ‘build’ directory ... OK
* checking DESCRIPTION meta-information ... OK
* checking top-level files ... OK
* checking for left-over files ... OK
* checking index information ... OK
* checking package subdirectories ... OK
* checking code files for non-ASCII characters ... OK
* checking R files for syntax errors ... OK
* checking whether the package can be loaded ... OK
* checking whether the package can be loaded with stated dependencies ... OK
* checking whether the package can be unloaded cleanly ... OK
* checking whether the namespace can be loaded with stated dependencies ... OK
* checking whether the namespace can be unloaded cleanly ... OK
* checking loading without being on the library search path ... OK
* checking dependencies in R code ... OK
* checking S3 generic/method consistency ... OK
* checking replacement functions ... OK
* checking foreign function calls ... OK
* checking R code for possible problems ... OK
* checking Rd files ... OK
* checking Rd metadata ... OK
* checking Rd cross-references ... OK
* checking for missing documentation entries ... OK
* checking for code/documentation mismatches ... OK
* checking Rd \usage sections ... OK
* checking Rd contents ... OK
* checking for unstated dependencies in examples ... OK
* checking contents of ‘data’ directory ... OK
* checking data for non-ASCII characters ... OK
* checking data for ASCII and uncompressed saves ... OK
* checking files in ‘vignettes’ ... OK
* checking examples ... OK
Examples with CPU (user + system) or elapsed time > 5s
            user system elapsed
Vis_heatmap 5.22  0.121   5.346
* checking for unstated dependencies in ‘tests’ ... OK
* checking tests ...
  Running ‘testthat.R’
 OK
* checking for unstated dependencies in vignettes ... OK
* checking package vignettes ... OK
* checking re-building of vignette outputs ... OK
* checking PDF version of manual ... OK
* DONE

Status: OK


Installation output

BreastSubtypeR.Rcheck/00install.out

##############################################################################
##############################################################################
###
### Running command:
###
###   /home/biocbuild/bbs-3.22-bioc/R/bin/R CMD INSTALL BreastSubtypeR
###
##############################################################################
##############################################################################


* installing to library ‘/home/biocbuild/bbs-3.22-bioc/R/site-library’
* installing *source* package ‘BreastSubtypeR’ ...
** this is package ‘BreastSubtypeR’ version ‘1.1.8’
** using staged installation
** R
** data
** inst
** byte-compile and prepare package for lazy loading
** help
*** installing help indices
** building package indices
** installing vignettes
** testing if installed package can be loaded from temporary location
** testing if installed package can be loaded from final location
** testing if installed package keeps a record of temporary installation path
* DONE (BreastSubtypeR)

Tests output

BreastSubtypeR.Rcheck/tests/testthat.Rout


R version 4.5.1 Patched (2025-08-23 r88802) -- "Great Square Root"
Copyright (C) 2025 The R Foundation for Statistical Computing
Platform: x86_64-pc-linux-gnu

R is free software and comes with ABSOLUTELY NO WARRANTY.
You are welcome to redistribute it under certain conditions.
Type 'license()' or 'licence()' for distribution details.

R is a collaborative project with many contributors.
Type 'contributors()' for more information and
'citation()' on how to cite R or R packages in publications.

Type 'demo()' for some demos, 'help()' for on-line help, or
'help.start()' for an HTML browser interface to help.
Type 'q()' to quit R.

> library(testthat)
> library(BreastSubtypeR)
> 
> test_that("BS_Multi performs subtyping correctly", {
+     # Load required dataset
+     data("OSLO2EMIT0obj")
+ 
+     # Define methods to use for subtyping
+     methods <- c("genefu.robust", "PCAPAM50", "ssBC", "AIMS")
+ 
+     # Perform subtyping
+     res.test <- BS_Multi(
+         data_input = OSLO2EMIT0obj$data_input,
+         methods = methods,
+         Subtype = FALSE,
+         hasClinical = FALSE
+     )
+ 
+     # Validate results
+     expect_true(identical(res.test$res_subtypes[, methods], OSLO2EMIT0obj$res$res_subtypes[, methods])) # Validate results
+ })
Test passed 🥇
> 
> proc.time()
   user  system elapsed 
 11.824   1.141  13.685 

Example timings

BreastSubtypeR.Rcheck/BreastSubtypeR-Ex.timings

nameusersystemelapsed
AIMSmodel0.0020.0010.003
BS_AIMS0.2940.0240.326
BS_Multi1.3730.0941.467
BS_PCAPAM500.5790.0830.667
BS_cIHC0.1870.0200.207
BS_cIHC.itr1.5990.0541.655
BS_parker0.1860.0010.186
BS_ssBC0.3820.0020.384
BS_sspbc0.5660.0100.576
BreastSubtypeRobj0.0040.0000.005
Gene.ID.ann0.1740.0010.175
Mapping0.6710.0130.684
OSLO2EMIT0obj0.0240.0000.024
TCGABRCAobj0.0610.0000.061
Vis_Multi1.0100.0401.056
Vis_PCA0.9940.0421.037
Vis_boxplot0.3780.0050.384
Vis_heatmap5.2200.1215.346
Vis_pie0.6450.0120.784
iBreastSubtypeR0.0010.0000.001
sspbc.models0.0190.0010.020
sspbc.models.fullname0.0170.0010.018