| Back to Multiple platform build/check report for BioC 3.22: simplified long |
|
This page was generated on 2025-10-29 12:05 -0400 (Wed, 29 Oct 2025).
| Hostname | OS | Arch (*) | R version | Installed pkgs |
|---|---|---|---|---|
| nebbiolo2 | Linux (Ubuntu 24.04.3 LTS) | x86_64 | 4.5.1 Patched (2025-08-23 r88802) -- "Great Square Root" | 4901 |
| lconway | macOS 12.7.6 Monterey | x86_64 | 4.5.1 Patched (2025-09-10 r88807) -- "Great Square Root" | 4691 |
| kjohnson3 | macOS 13.7.7 Ventura | arm64 | 4.5.1 Patched (2025-09-10 r88807) -- "Great Square Root" | 4637 |
| Click on any hostname to see more info about the system (e.g. compilers) (*) as reported by 'uname -p', except on Windows and Mac OS X | ||||
| Package 2232/2361 | Hostname | OS / Arch | INSTALL | BUILD | CHECK | BUILD BIN | ||||||||
| tomoda 1.19.0 (landing page) Wendao Liu
| nebbiolo2 | Linux (Ubuntu 24.04.3 LTS) / x86_64 | OK | OK | OK | |||||||||
| lconway | macOS 12.7.6 Monterey / x86_64 | OK | OK | OK | OK | |||||||||
| kjohnson3 | macOS 13.7.7 Ventura / arm64 | OK | OK | OK | OK | |||||||||
|
To the developers/maintainers of the tomoda package: - Allow up to 24 hours (and sometimes 48 hours) for your latest push to git@git.bioconductor.org:packages/tomoda.git to reflect on this report. See Troubleshooting Build Report for more information. - Use the following Renviron settings to reproduce errors and warnings. - If 'R CMD check' started to fail recently on the Linux builder(s) over a missing dependency, add the missing dependency to 'Suggests:' in your DESCRIPTION file. See Renviron.bioc for more information. |
| Package: tomoda |
| Version: 1.19.0 |
| Command: /home/biocbuild/bbs-3.22-bioc/R/bin/R CMD check --install=check:tomoda.install-out.txt --library=/home/biocbuild/bbs-3.22-bioc/R/site-library --timings tomoda_1.19.0.tar.gz |
| StartedAt: 2025-10-29 04:49:33 -0400 (Wed, 29 Oct 2025) |
| EndedAt: 2025-10-29 04:56:37 -0400 (Wed, 29 Oct 2025) |
| EllapsedTime: 424.4 seconds |
| RetCode: 0 |
| Status: OK |
| CheckDir: tomoda.Rcheck |
| Warnings: 0 |
##############################################################################
##############################################################################
###
### Running command:
###
### /home/biocbuild/bbs-3.22-bioc/R/bin/R CMD check --install=check:tomoda.install-out.txt --library=/home/biocbuild/bbs-3.22-bioc/R/site-library --timings tomoda_1.19.0.tar.gz
###
##############################################################################
##############################################################################
* using log directory ‘/home/biocbuild/bbs-3.22-bioc/meat/tomoda.Rcheck’
* using R version 4.5.1 Patched (2025-08-23 r88802)
* using platform: x86_64-pc-linux-gnu
* R was compiled by
gcc (Ubuntu 13.3.0-6ubuntu2~24.04) 13.3.0
GNU Fortran (Ubuntu 13.3.0-6ubuntu2~24.04) 13.3.0
* running under: Ubuntu 24.04.3 LTS
* using session charset: UTF-8
* checking for file ‘tomoda/DESCRIPTION’ ... OK
* this is package ‘tomoda’ version ‘1.19.0’
* package encoding: UTF-8
* checking package namespace information ... OK
* checking package dependencies ... OK
* checking if this is a source package ... OK
* checking if there is a namespace ... OK
* checking for hidden files and directories ... OK
* checking for portable file names ... OK
* checking for sufficient/correct file permissions ... OK
* checking whether package ‘tomoda’ can be installed ... OK
* checking installed package size ... OK
* checking package directory ... OK
* checking ‘build’ directory ... OK
* checking DESCRIPTION meta-information ... OK
* checking top-level files ... OK
* checking for left-over files ... OK
* checking index information ... OK
* checking package subdirectories ... OK
* checking code files for non-ASCII characters ... OK
* checking R files for syntax errors ... OK
* checking whether the package can be loaded ... OK
* checking whether the package can be loaded with stated dependencies ... OK
* checking whether the package can be unloaded cleanly ... OK
* checking whether the namespace can be loaded with stated dependencies ... OK
* checking whether the namespace can be unloaded cleanly ... OK
* checking loading without being on the library search path ... OK
* checking dependencies in R code ... OK
* checking S3 generic/method consistency ... OK
* checking replacement functions ... OK
* checking foreign function calls ... OK
* checking R code for possible problems ... OK
* checking Rd files ... OK
* checking Rd metadata ... OK
* checking Rd cross-references ... OK
* checking for missing documentation entries ... OK
* checking for code/documentation mismatches ... OK
* checking Rd \usage sections ... OK
* checking Rd contents ... OK
* checking for unstated dependencies in examples ... OK
* checking contents of ‘data’ directory ... OK
* checking data for non-ASCII characters ... OK
* checking data for ASCII and uncompressed saves ... OK
* checking files in ‘vignettes’ ... OK
* checking examples ... OK
Examples with CPU (user + system) or elapsed time > 5s
user system elapsed
findPeakGene 53.685 0.216 53.903
geneCorHeatmap 28.969 0.271 29.242
geneEmbedPlot 25.251 0.041 25.293
expHeatmap 22.929 0.224 23.153
* checking for unstated dependencies in ‘tests’ ... OK
* checking tests ...
Running ‘testthat.R’
OK
* checking for unstated dependencies in vignettes ... OK
* checking package vignettes ... OK
* checking re-building of vignette outputs ... OK
* checking PDF version of manual ... OK
* DONE
Status: OK
tomoda.Rcheck/00install.out
############################################################################## ############################################################################## ### ### Running command: ### ### /home/biocbuild/bbs-3.22-bioc/R/bin/R CMD INSTALL tomoda ### ############################################################################## ############################################################################## * installing to library ‘/home/biocbuild/bbs-3.22-bioc/R/site-library’ * installing *source* package ‘tomoda’ ... ** this is package ‘tomoda’ version ‘1.19.0’ ** using staged installation ** R ** data ** byte-compile and prepare package for lazy loading ** help *** installing help indices ** building package indices ** installing vignettes ** testing if installed package can be loaded from temporary location ** testing if installed package can be loaded from final location ** testing if installed package keeps a record of temporary installation path * DONE (tomoda)
tomoda.Rcheck/tests/testthat.Rout
R version 4.5.1 Patched (2025-08-23 r88802) -- "Great Square Root"
Copyright (C) 2025 The R Foundation for Statistical Computing
Platform: x86_64-pc-linux-gnu
R is free software and comes with ABSOLUTELY NO WARRANTY.
You are welcome to redistribute it under certain conditions.
Type 'license()' or 'licence()' for distribution details.
R is a collaborative project with many contributors.
Type 'contributors()' for more information and
'citation()' on how to cite R or R packages in publications.
Type 'demo()' for some demos, 'help()' for on-line help, or
'help.start()' for an HTML browser interface to help.
Type 'q()' to quit R.
> library(testthat)
> library(tomoda)
>
> test_check("tomoda")
[ FAIL 0 | WARN 1 | SKIP 0 | PASS 43 ]
[ FAIL 0 | WARN 1 | SKIP 0 | PASS 43 ]
>
> proc.time()
user system elapsed
47.056 1.669 51.274
tomoda.Rcheck/tomoda-Ex.timings
| name | user | system | elapsed | |
| corHeatmap | 2.684 | 0.132 | 2.816 | |
| createTomo | 1.508 | 0.019 | 1.527 | |
| embedPlot | 4.254 | 0.120 | 4.373 | |
| expHeatmap | 22.929 | 0.224 | 23.153 | |
| findPeak | 0 | 0 | 0 | |
| findPeakGene | 53.685 | 0.216 | 53.903 | |
| geneCorHeatmap | 28.969 | 0.271 | 29.242 | |
| geneEmbedPlot | 25.251 | 0.041 | 25.293 | |
| hierarchClust | 0.925 | 0.019 | 0.944 | |
| kmeansClust | 0.836 | 0.009 | 0.845 | |
| linePlot | 1.724 | 0.010 | 1.733 | |
| normalizeTomo | 0.157 | 0.001 | 0.158 | |
| runPCA | 0.923 | 0.020 | 0.944 | |
| runTSNE | 1.100 | 0.015 | 1.115 | |
| runUMAP | 1.178 | 0.006 | 1.183 | |
| scaleTomo | 0.445 | 0.002 | 0.448 | |
| tomoMatrix | 0.475 | 0.005 | 0.481 | |
| tomoSummarizedExperiment | 0.470 | 0.006 | 0.476 | |