Back to Multiple platform build/check report for BioC 3.22:   simplified   long
ABCDEFGHIJKLMNO[P]QRSTUVWXYZ

This page was generated on 2025-10-11 12:03 -0400 (Sat, 11 Oct 2025).

HostnameOSArch (*)R versionInstalled pkgs
nebbiolo2Linux (Ubuntu 24.04.3 LTS)x86_644.5.1 Patched (2025-08-23 r88802) -- "Great Square Root" 4864
lconwaymacOS 12.7.1 Montereyx86_644.5.1 Patched (2025-09-10 r88807) -- "Great Square Root" 4652
kjohnson3macOS 13.7.7 Venturaarm644.5.1 Patched (2025-09-10 r88807) -- "Great Square Root" 4597
taishanLinux (openEuler 24.03 LTS)aarch644.5.0 (2025-04-11) -- "How About a Twenty-Six" 4586
Click on any hostname to see more info about the system (e.g. compilers)      (*) as reported by 'uname -p', except on Windows and Mac OS X

Package 1642/2346HostnameOS / ArchINSTALLBUILDCHECKBUILD BIN
PRONE 1.3.2  (landing page)
Lis Arend
Snapshot Date: 2025-10-10 13:45 -0400 (Fri, 10 Oct 2025)
git_url: https://git.bioconductor.org/packages/PRONE
git_branch: devel
git_last_commit: a875b50
git_last_commit_date: 2025-09-25 06:07:44 -0400 (Thu, 25 Sep 2025)
nebbiolo2Linux (Ubuntu 24.04.3 LTS) / x86_64  OK    OK    OK  UNNEEDED, same version is already published
lconwaymacOS 12.7.1 Monterey / x86_64  OK    OK    OK    OK  UNNEEDED, same version is already published
kjohnson3macOS 13.7.7 Ventura / arm64  OK    OK    OK    OK  UNNEEDED, same version is already published
taishanLinux (openEuler 24.03 LTS) / aarch64  OK    OK    OK  


CHECK results for PRONE on nebbiolo2

To the developers/maintainers of the PRONE package:
- Allow up to 24 hours (and sometimes 48 hours) for your latest push to git@git.bioconductor.org:packages/PRONE.git to reflect on this report. See Troubleshooting Build Report for more information.
- Use the following Renviron settings to reproduce errors and warnings.
- If 'R CMD check' started to fail recently on the Linux builder(s) over a missing dependency, add the missing dependency to 'Suggests:' in your DESCRIPTION file. See Renviron.bioc for more information.

raw results


Summary

Package: PRONE
Version: 1.3.2
Command: /home/biocbuild/bbs-3.22-bioc/R/bin/R CMD check --install=check:PRONE.install-out.txt --library=/home/biocbuild/bbs-3.22-bioc/R/site-library --timings PRONE_1.3.2.tar.gz
StartedAt: 2025-10-11 03:20:00 -0400 (Sat, 11 Oct 2025)
EndedAt: 2025-10-11 03:28:01 -0400 (Sat, 11 Oct 2025)
EllapsedTime: 481.4 seconds
RetCode: 0
Status:   OK  
CheckDir: PRONE.Rcheck
Warnings: 0

Command output

##############################################################################
##############################################################################
###
### Running command:
###
###   /home/biocbuild/bbs-3.22-bioc/R/bin/R CMD check --install=check:PRONE.install-out.txt --library=/home/biocbuild/bbs-3.22-bioc/R/site-library --timings PRONE_1.3.2.tar.gz
###
##############################################################################
##############################################################################


* using log directory ‘/home/biocbuild/bbs-3.22-bioc/meat/PRONE.Rcheck’
* using R version 4.5.1 Patched (2025-08-23 r88802)
* using platform: x86_64-pc-linux-gnu
* R was compiled by
    gcc (Ubuntu 13.3.0-6ubuntu2~24.04) 13.3.0
    GNU Fortran (Ubuntu 13.3.0-6ubuntu2~24.04) 13.3.0
* running under: Ubuntu 24.04.3 LTS
* using session charset: UTF-8
* checking for file ‘PRONE/DESCRIPTION’ ... OK
* checking extension type ... Package
* this is package ‘PRONE’ version ‘1.3.2’
* package encoding: UTF-8
* checking package namespace information ... OK
* checking package dependencies ... INFO
Imports includes 34 non-default packages.
Importing from so many packages makes the package vulnerable to any of
them becoming unavailable.  Move as many as possible to Suggests and
use conditionally.
* checking if this is a source package ... OK
* checking if there is a namespace ... OK
* checking for hidden files and directories ... OK
* checking for portable file names ... OK
* checking for sufficient/correct file permissions ... OK
* checking whether package ‘PRONE’ can be installed ... OK
* checking installed package size ... OK
* checking package directory ... OK
* checking ‘build’ directory ... OK
* checking DESCRIPTION meta-information ... OK
* checking top-level files ... OK
* checking for left-over files ... OK
* checking index information ... OK
* checking package subdirectories ... OK
* checking code files for non-ASCII characters ... OK
* checking R files for syntax errors ... OK
* checking whether the package can be loaded ... OK
* checking whether the package can be loaded with stated dependencies ... OK
* checking whether the package can be unloaded cleanly ... OK
* checking whether the namespace can be loaded with stated dependencies ... OK
* checking whether the namespace can be unloaded cleanly ... OK
* checking loading without being on the library search path ... OK
* checking dependencies in R code ... NOTE
Unexported objects imported by ':::' calls:
  ‘NormalyzerDE:::calculateAvgMadMem’
  ‘NormalyzerDE:::calculateAvgReplicateVariation’
  ‘NormalyzerDE:::calculatePercentageAvgDiffInMat’
  ‘NormalyzerDE:::calculateReplicateCV’
  ‘NormalyzerDE:::calculateSummarizedCorrelationVector’
  See the note in ?`:::` about the use of this operator.
* checking S3 generic/method consistency ... OK
* checking replacement functions ... OK
* checking foreign function calls ... OK
* checking R code for possible problems ... NOTE
plot_upset_DE: no visible global function definition for
  ‘packageVersion’
Undefined global functions or variables:
  packageVersion
Consider adding
  importFrom("utils", "packageVersion")
to your NAMESPACE file.
* checking Rd files ... OK
* checking Rd metadata ... OK
* checking Rd cross-references ... OK
* checking for missing documentation entries ... OK
* checking for code/documentation mismatches ... OK
* checking Rd \usage sections ... OK
* checking Rd contents ... OK
* checking for unstated dependencies in examples ... OK
* checking contents of ‘data’ directory ... OK
* checking data for non-ASCII characters ... OK
* checking data for ASCII and uncompressed saves ... OK
* checking files in ‘vignettes’ ... OK
* checking examples ... OK
* checking for unstated dependencies in vignettes ... OK
* checking package vignettes ... OK
* checking re-building of vignette outputs ... OK
* checking PDF version of manual ... OK
* DONE

Status: 2 NOTEs
See
  ‘/home/biocbuild/bbs-3.22-bioc/meat/PRONE.Rcheck/00check.log’
for details.


Installation output

PRONE.Rcheck/00install.out

##############################################################################
##############################################################################
###
### Running command:
###
###   /home/biocbuild/bbs-3.22-bioc/R/bin/R CMD INSTALL PRONE
###
##############################################################################
##############################################################################


* installing to library ‘/home/biocbuild/bbs-3.22-bioc/R/site-library’
* installing *source* package ‘PRONE’ ...
** this is package ‘PRONE’ version ‘1.3.2’
** using staged installation
** R
** data
** inst
** byte-compile and prepare package for lazy loading
** help
*** installing help indices
*** copying figures
** building package indices
** installing vignettes
** testing if installed package can be loaded from temporary location
** testing if installed package can be loaded from final location
** testing if installed package keeps a record of temporary installation path
* DONE (PRONE)

Tests output


Example timings

PRONE.Rcheck/PRONE-Ex.timings

nameusersystemelapsed
apply_thresholds0.0320.0010.032
detect_outliers_POMA1.7520.0931.846
eigenMSNorm0.5900.0640.656
export_data0.0290.0000.028
extract_consensus_DE_candidates0.0780.0020.080
filter_out_NA_proteins_by_threshold0.2310.0030.199
filter_out_complete_NA_proteins0.0510.0010.053
filter_out_proteins_by_ID0.1560.0000.156
filter_out_proteins_by_value0.1570.0000.157
get_NA_overview0.0350.0010.036
get_normalization_methods0.0010.0000.000
get_overview_DE0.0410.0020.043
get_proteins_by_value0.1620.0010.163
get_spiked_stats_DE0.0850.0020.087
globalIntNorm0.1310.0110.143
globalMeanNorm0.1320.0020.134
globalMedianNorm0.1300.0010.131
impute_se0.9520.0080.708
irsNorm0.0560.0010.056
limmaNorm0.0690.0010.069
load_data0.0480.0010.048
load_spike_data0.040.000.04
loessCycNorm0.1220.0010.123
loessFNorm0.0870.0000.087
meanNorm0.0430.0010.044
medianAbsDevNorm0.0950.0010.096
medianNorm0.0580.0020.060
normalize_se3.4220.0963.518
normalize_se_combination4.1510.2154.366
normalize_se_single3.1920.0723.265
normicsNorm3.0200.0233.043
plot_NA_density0.4390.0050.398
plot_NA_frequency0.2490.0010.210
plot_NA_heatmap1.2960.0201.316
plot_PCA1.3160.0031.319
plot_ROC_AUC_spiked1.2470.0161.192
plot_TP_FP_spiked_bar0.3280.0040.332
plot_TP_FP_spiked_box0.4130.0030.416
plot_TP_FP_spiked_scatter0.4380.0170.455
plot_boxplots4.9100.0314.601
plot_condition_overview0.2530.0010.253
plot_densities2.9610.0072.628
plot_fold_changes_spiked0.6600.0020.605
plot_heatmap3.6890.0043.694
plot_heatmap_DE1.2210.0051.226
plot_histogram_spiked0.4750.0000.404
plot_identified_spiked_proteins0.4750.0020.478
plot_intersection_enrichment0.7940.0122.669
plot_intragroup_PCV0.5850.0000.585
plot_intragroup_PEV0.4170.0020.419
plot_intragroup_PMAD0.4660.0000.466
plot_intragroup_correlation0.4040.0010.404
plot_jaccard_heatmap0.3060.0000.285
plot_logFC_thresholds_spiked0.6910.0050.695
plot_markers_boxplots0.8270.0130.806
plot_nr_prot_samples0.2970.0320.330
plot_overview_DE_bar0.4140.0370.452
plot_overview_DE_tile0.2450.0210.266
plot_profiles_spiked0.9700.0710.930
plot_pvalues_spiked0.5150.0310.546
plot_stats_spiked_heatmap0.4160.0510.467
plot_tot_int_samples0.2670.0260.293
plot_upset0.7950.0650.860
plot_upset_DE0.0310.0020.032
plot_volcano_DE4.1420.2534.397
quantileNorm0.0420.0080.050
readPRONE_example0.0010.0000.001
remove_POMA_outliers0.6540.0560.709
remove_assays_from_SE0.0460.0020.048
remove_reference_samples0.0430.0060.049
remove_samples_manually0.0410.0000.042
rlrMACycNorm0.5760.0170.593
rlrMANorm0.0960.0060.102
rlrNorm1.1090.2011.309
robnormNorm0.0760.0020.077
run_DE2.3290.0862.317
specify_comparisons0.0530.0000.031
subset_SE_by_norm0.0780.0000.078
tmmNorm0.1220.0080.130
vsnNorm0.0690.0020.071