Back to Multiple platform build/check report for BioC 3.22:   simplified   long
ABCDEFGHIJKLMNO[P]QRSTUVWXYZ

This page was generated on 2025-10-13 12:07 -0400 (Mon, 13 Oct 2025).

HostnameOSArch (*)R versionInstalled pkgs
nebbiolo2Linux (Ubuntu 24.04.3 LTS)x86_644.5.1 Patched (2025-08-23 r88802) -- "Great Square Root" 4864
lconwaymacOS 12.7.1 Montereyx86_644.5.1 Patched (2025-09-10 r88807) -- "Great Square Root" 4652
kjohnson3macOS 13.7.7 Venturaarm644.5.1 Patched (2025-09-10 r88807) -- "Great Square Root" 4597
taishanLinux (openEuler 24.03 LTS)aarch644.5.0 (2025-04-11) -- "How About a Twenty-Six" 4586
Click on any hostname to see more info about the system (e.g. compilers)      (*) as reported by 'uname -p', except on Windows and Mac OS X

Package 1642/2346HostnameOS / ArchINSTALLBUILDCHECKBUILD BIN
PRONE 1.3.2  (landing page)
Lis Arend
Snapshot Date: 2025-10-12 13:45 -0400 (Sun, 12 Oct 2025)
git_url: https://git.bioconductor.org/packages/PRONE
git_branch: devel
git_last_commit: a875b50
git_last_commit_date: 2025-09-25 06:07:44 -0400 (Thu, 25 Sep 2025)
nebbiolo2Linux (Ubuntu 24.04.3 LTS) / x86_64  OK    OK    OK  UNNEEDED, same version is already published
lconwaymacOS 12.7.1 Monterey / x86_64  OK    OK    OK    OK  UNNEEDED, same version is already published
kjohnson3macOS 13.7.7 Ventura / arm64  OK    OK    OK    OK  UNNEEDED, same version is already published
taishanLinux (openEuler 24.03 LTS) / aarch64  OK    OK    OK  


CHECK results for PRONE on taishan

To the developers/maintainers of the PRONE package:
- Allow up to 24 hours (and sometimes 48 hours) for your latest push to git@git.bioconductor.org:packages/PRONE.git to reflect on this report. See Troubleshooting Build Report for more information.
- Use the following Renviron settings to reproduce errors and warnings.
- If 'R CMD check' started to fail recently on the Linux builder(s) over a missing dependency, add the missing dependency to 'Suggests:' in your DESCRIPTION file. See Renviron.bioc for more information.
- See Martin Grigorov's blog post for how to debug Linux ARM64 related issues on a x86_64 host.

raw results


Summary

Package: PRONE
Version: 1.3.2
Command: /home/biocbuild/R/R/bin/R CMD check --install=check:PRONE.install-out.txt --library=/home/biocbuild/R/R/site-library --no-vignettes --timings PRONE_1.3.2.tar.gz
StartedAt: 2025-10-10 12:07:46 -0000 (Fri, 10 Oct 2025)
EndedAt: 2025-10-10 12:15:33 -0000 (Fri, 10 Oct 2025)
EllapsedTime: 466.8 seconds
RetCode: 0
Status:   OK  
CheckDir: PRONE.Rcheck
Warnings: 0

Command output

##############################################################################
##############################################################################
###
### Running command:
###
###   /home/biocbuild/R/R/bin/R CMD check --install=check:PRONE.install-out.txt --library=/home/biocbuild/R/R/site-library --no-vignettes --timings PRONE_1.3.2.tar.gz
###
##############################################################################
##############################################################################


* using log directory ‘/home/biocbuild/bbs-3.22-bioc/meat/PRONE.Rcheck’
* using R version 4.5.0 (2025-04-11)
* using platform: aarch64-unknown-linux-gnu
* R was compiled by
    aarch64-unknown-linux-gnu-gcc (GCC) 14.2.0
    GNU Fortran (GCC) 14.2.0
* running under: openEuler 24.03 (LTS)
* using session charset: UTF-8
* using option ‘--no-vignettes’
* checking for file ‘PRONE/DESCRIPTION’ ... OK
* checking extension type ... Package
* this is package ‘PRONE’ version ‘1.3.2’
* package encoding: UTF-8
* checking package namespace information ... OK
* checking package dependencies ... INFO
Imports includes 34 non-default packages.
Importing from so many packages makes the package vulnerable to any of
them becoming unavailable.  Move as many as possible to Suggests and
use conditionally.
* checking if this is a source package ... OK
* checking if there is a namespace ... OK
* checking for hidden files and directories ... OK
* checking for portable file names ... OK
* checking for sufficient/correct file permissions ... OK
* checking whether package ‘PRONE’ can be installed ... OK
* checking installed package size ... OK
* checking package directory ... OK
* checking ‘build’ directory ... OK
* checking DESCRIPTION meta-information ... OK
* checking top-level files ... OK
* checking for left-over files ... OK
* checking index information ... OK
* checking package subdirectories ... OK
* checking code files for non-ASCII characters ... OK
* checking R files for syntax errors ... OK
* checking whether the package can be loaded ... OK
* checking whether the package can be loaded with stated dependencies ... OK
* checking whether the package can be unloaded cleanly ... OK
* checking whether the namespace can be loaded with stated dependencies ... OK
* checking whether the namespace can be unloaded cleanly ... OK
* checking loading without being on the library search path ... OK
* checking dependencies in R code ... NOTE
Unexported objects imported by ':::' calls:
  ‘NormalyzerDE:::calculateAvgMadMem’
  ‘NormalyzerDE:::calculateAvgReplicateVariation’
  ‘NormalyzerDE:::calculatePercentageAvgDiffInMat’
  ‘NormalyzerDE:::calculateReplicateCV’
  ‘NormalyzerDE:::calculateSummarizedCorrelationVector’
  See the note in ?`:::` about the use of this operator.
* checking S3 generic/method consistency ... OK
* checking replacement functions ... OK
* checking foreign function calls ... OK
* checking R code for possible problems ... NOTE
plot_upset_DE: no visible global function definition for
  ‘packageVersion’
Undefined global functions or variables:
  packageVersion
Consider adding
  importFrom("utils", "packageVersion")
to your NAMESPACE file.
* checking Rd files ... OK
* checking Rd metadata ... OK
* checking Rd cross-references ... OK
* checking for missing documentation entries ... OK
* checking for code/documentation mismatches ... OK
* checking Rd \usage sections ... OK
* checking Rd contents ... OK
* checking for unstated dependencies in examples ... OK
* checking contents of ‘data’ directory ... OK
* checking data for non-ASCII characters ... OK
* checking data for ASCII and uncompressed saves ... OK
* checking files in ‘vignettes’ ... OK
* checking examples ... OK
Examples with CPU (user + system) or elapsed time > 5s
                          user system elapsed
plot_boxplots            7.012  0.035   7.987
plot_volcano_DE          6.310  0.255   6.707
normalize_se_combination 6.156  0.146   6.562
normalize_se             5.851  0.211   6.317
plot_heatmap             5.747  0.060   5.942
normalize_se_single      5.588  0.120   6.698
normicsNorm              5.254  0.036   6.009
* checking for unstated dependencies in vignettes ... OK
* checking package vignettes ... OK
* checking running R code from vignettes ... SKIPPED
* checking re-building of vignette outputs ... SKIPPED
* checking PDF version of manual ... OK
* DONE

Status: 2 NOTEs
See
  ‘/home/biocbuild/bbs-3.22-bioc/meat/PRONE.Rcheck/00check.log’
for details.


Installation output

PRONE.Rcheck/00install.out

##############################################################################
##############################################################################
###
### Running command:
###
###   /home/biocbuild/R/R/bin/R CMD INSTALL PRONE
###
##############################################################################
##############################################################################


* installing to library ‘/home/biocbuild/R/R-4.5.0/site-library’
* installing *source* package ‘PRONE’ ...
** this is package ‘PRONE’ version ‘1.3.2’
** using staged installation
** R
** data
** inst
** byte-compile and prepare package for lazy loading
** help
*** installing help indices
*** copying figures
** building package indices
** installing vignettes
** testing if installed package can be loaded from temporary location
** testing if installed package can be loaded from final location
** testing if installed package keeps a record of temporary installation path
* DONE (PRONE)

Tests output


Example timings

PRONE.Rcheck/PRONE-Ex.timings

nameusersystemelapsed
apply_thresholds0.0330.0000.033
detect_outliers_POMA2.2260.0842.783
eigenMSNorm0.8980.0630.976
export_data0.0230.0000.024
extract_consensus_DE_candidates0.0980.0030.101
filter_out_NA_proteins_by_threshold0.2720.0120.285
filter_out_complete_NA_proteins0.0540.0040.058
filter_out_proteins_by_ID0.2070.0040.211
filter_out_proteins_by_value0.2110.0000.211
get_NA_overview0.0350.0000.035
get_normalization_methods0.0010.0000.000
get_overview_DE0.0640.0080.073
get_proteins_by_value0.1830.0080.192
get_spiked_stats_DE0.0830.0000.084
globalIntNorm0.1810.0040.186
globalMeanNorm0.1940.0110.234
globalMedianNorm0.1890.0040.193
impute_se1.0290.0231.055
irsNorm0.0650.0000.064
limmaNorm0.0850.0000.085
load_data0.0710.0010.134
load_spike_data0.0530.0000.108
loessCycNorm0.1890.0040.385
loessFNorm0.1250.0160.284
meanNorm0.0500.0000.058
medianAbsDevNorm0.1110.0230.134
medianNorm0.0590.0120.072
normalize_se5.8510.2116.317
normalize_se_combination6.1560.1466.562
normalize_se_single5.5880.1206.698
normicsNorm5.2540.0366.009
plot_NA_density0.5310.0200.644
plot_NA_frequency0.2970.0080.315
plot_NA_heatmap1.8900.0912.430
plot_PCA2.0390.0722.198
plot_ROC_AUC_spiked1.7570.0201.931
plot_TP_FP_spiked_bar0.4530.0200.475
plot_TP_FP_spiked_box0.6050.0320.725
plot_TP_FP_spiked_scatter0.6140.0360.652
plot_boxplots7.0120.0357.987
plot_condition_overview0.3760.0070.385
plot_densities3.8460.0043.938
plot_fold_changes_spiked0.7930.0080.802
plot_heatmap5.7470.0605.942
plot_heatmap_DE1.8710.0081.900
plot_histogram_spiked0.5900.0120.604
plot_identified_spiked_proteins0.6420.0000.643
plot_intersection_enrichment1.2620.1564.056
plot_intragroup_PCV0.9700.0391.032
plot_intragroup_PEV0.8080.0960.915
plot_intragroup_PMAD0.6430.0270.694
plot_intragroup_correlation0.6940.0400.741
plot_jaccard_heatmap0.4770.0550.540
plot_logFC_thresholds_spiked0.9960.0401.039
plot_markers_boxplots1.2730.0801.365
plot_nr_prot_samples0.3760.0240.401
plot_overview_DE_bar0.6380.0240.665
plot_overview_DE_tile0.4100.0510.463
plot_profiles_spiked1.2060.0721.282
plot_pvalues_spiked0.7570.0470.809
plot_stats_spiked_heatmap0.5320.0130.550
plot_tot_int_samples0.3740.0120.387
plot_upset1.2470.0791.331
plot_upset_DE0.0270.0040.032
plot_volcano_DE6.3100.2556.707
quantileNorm0.0440.0080.072
readPRONE_example0.0020.0000.001
remove_POMA_outliers0.9610.0201.238
remove_assays_from_SE0.0490.0040.053
remove_reference_samples0.0350.0040.041
remove_samples_manually0.0370.0040.042
rlrMACycNorm0.9900.0241.157
rlrMANorm0.1340.0200.154
rlrNorm0.1050.0200.125
robnormNorm0.2130.0190.241
run_DE4.3080.1484.502
specify_comparisons0.0250.0000.026
subset_SE_by_norm0.0990.0000.099
tmmNorm0.1670.0000.168
vsnNorm0.0820.0000.083