Back to Multiple platform build/check report for BioC 3.23:   simplified   long
ABCDEFGHIJKLMNO[P]QRSTUVWXYZ

This page was generated on 2025-11-21 11:40 -0500 (Fri, 21 Nov 2025).

HostnameOSArch (*)R versionInstalled pkgs
nebbiolo1Linux (Ubuntu 24.04.3 LTS)x86_64R Under development (unstable) (2025-10-20 r88955) -- "Unsuffered Consequences" 4829
lconwaymacOS 12.7.6 Montereyx86_64R Under development (unstable) (2025-10-21 r88958) -- "Unsuffered Consequences" 4602
kjohnson3macOS 13.7.7 Venturaarm64R Under development (unstable) (2025-11-04 r88984) -- "Unsuffered Consequences" 4566
Click on any hostname to see more info about the system (e.g. compilers)      (*) as reported by 'uname -p', except on Windows and Mac OS X

Package 1633/2327HostnameOS / ArchINSTALLBUILDCHECKBUILD BIN
PRONE 1.5.0  (landing page)
Lis Arend
Snapshot Date: 2025-11-20 13:40 -0500 (Thu, 20 Nov 2025)
git_url: https://git.bioconductor.org/packages/PRONE
git_branch: devel
git_last_commit: cfe6a55
git_last_commit_date: 2025-10-29 11:32:38 -0500 (Wed, 29 Oct 2025)
nebbiolo1Linux (Ubuntu 24.04.3 LTS) / x86_64  OK    OK    OK  UNNEEDED, same version is already published
lconwaymacOS 12.7.6 Monterey / x86_64  OK    OK    OK    OK  NO, package depends on 'MSnbase' which is only available as a source package that needs compilation
kjohnson3macOS 13.7.7 Ventura / arm64  OK    OK    OK    OK  NO, package depends on 'MSnbase' which is only available as a source package that needs compilation


CHECK results for PRONE on kjohnson3

To the developers/maintainers of the PRONE package:
- Allow up to 24 hours (and sometimes 48 hours) for your latest push to git@git.bioconductor.org:packages/PRONE.git to reflect on this report. See Troubleshooting Build Report for more information.
- Use the following Renviron settings to reproduce errors and warnings.
- If 'R CMD check' started to fail recently on the Linux builder(s) over a missing dependency, add the missing dependency to 'Suggests:' in your DESCRIPTION file. See Renviron.bioc for more information.

raw results


Summary

Package: PRONE
Version: 1.5.0
Command: /Library/Frameworks/R.framework/Resources/bin/R CMD check --install=check:PRONE.install-out.txt --library=/Library/Frameworks/R.framework/Resources/library --no-vignettes --timings PRONE_1.5.0.tar.gz
StartedAt: 2025-11-20 21:48:14 -0500 (Thu, 20 Nov 2025)
EndedAt: 2025-11-20 21:50:41 -0500 (Thu, 20 Nov 2025)
EllapsedTime: 146.7 seconds
RetCode: 0
Status:   OK  
CheckDir: PRONE.Rcheck
Warnings: 0

Command output

##############################################################################
##############################################################################
###
### Running command:
###
###   /Library/Frameworks/R.framework/Resources/bin/R CMD check --install=check:PRONE.install-out.txt --library=/Library/Frameworks/R.framework/Resources/library --no-vignettes --timings PRONE_1.5.0.tar.gz
###
##############################################################################
##############################################################################


* using log directory ‘/Users/biocbuild/bbs-3.23-bioc/meat/PRONE.Rcheck’
* using R Under development (unstable) (2025-11-04 r88984)
* using platform: aarch64-apple-darwin20
* R was compiled by
    Apple clang version 16.0.0 (clang-1600.0.26.6)
    GNU Fortran (GCC) 14.2.0
* running under: macOS Ventura 13.7.8
* using session charset: UTF-8
* using option ‘--no-vignettes’
* checking for file ‘PRONE/DESCRIPTION’ ... OK
* checking extension type ... Package
* this is package ‘PRONE’ version ‘1.5.0’
* package encoding: UTF-8
* checking package namespace information ... OK
* checking package dependencies ... INFO
Imports includes 34 non-default packages.
Importing from so many packages makes the package vulnerable to any of
them becoming unavailable.  Move as many as possible to Suggests and
use conditionally.
* checking if this is a source package ... OK
* checking if there is a namespace ... OK
* checking for hidden files and directories ... OK
* checking for portable file names ... OK
* checking for sufficient/correct file permissions ... OK
* checking whether package ‘PRONE’ can be installed ... OK
* checking installed package size ... OK
* checking package directory ... OK
* checking ‘build’ directory ... OK
* checking DESCRIPTION meta-information ... OK
* checking top-level files ... OK
* checking for left-over files ... OK
* checking index information ... OK
* checking package subdirectories ... OK
* checking code files for non-ASCII characters ... OK
* checking R files for syntax errors ... OK
* checking whether the package can be loaded ... OK
* checking whether the package can be loaded with stated dependencies ... OK
* checking whether the package can be unloaded cleanly ... OK
* checking whether the namespace can be loaded with stated dependencies ... OK
* checking whether the namespace can be unloaded cleanly ... OK
* checking dependencies in R code ... NOTE
Unexported objects imported by ':::' calls:
  ‘NormalyzerDE:::calculateAvgMadMem’
  ‘NormalyzerDE:::calculateAvgReplicateVariation’
  ‘NormalyzerDE:::calculatePercentageAvgDiffInMat’
  ‘NormalyzerDE:::calculateReplicateCV’
  ‘NormalyzerDE:::calculateSummarizedCorrelationVector’
  See the note in ?`:::` about the use of this operator.
* checking S3 generic/method consistency ... OK
* checking replacement functions ... OK
* checking foreign function calls ... OK
* checking R code for possible problems ... NOTE
plot_upset_DE: no visible global function definition for
  ‘packageVersion’
Undefined global functions or variables:
  packageVersion
Consider adding
  importFrom("utils", "packageVersion")
to your NAMESPACE file.
* checking Rd files ... OK
* checking Rd metadata ... OK
* checking Rd cross-references ... OK
* checking for missing documentation entries ... OK
* checking for code/documentation mismatches ... OK
* checking Rd \usage sections ... OK
* checking Rd contents ... OK
* checking for unstated dependencies in examples ... OK
* checking contents of ‘data’ directory ... OK
* checking data for non-ASCII characters ... OK
* checking data for ASCII and uncompressed saves ... OK
* checking files in ‘vignettes’ ... OK
* checking examples ... OK
* checking for unstated dependencies in vignettes ... OK
* checking package vignettes ... OK
* checking running R code from vignettes ... SKIPPED
* checking re-building of vignette outputs ... SKIPPED
* checking PDF version of manual ... OK
* DONE

Status: 2 NOTEs
See
  ‘/Users/biocbuild/bbs-3.23-bioc/meat/PRONE.Rcheck/00check.log’
for details.


Installation output

PRONE.Rcheck/00install.out

##############################################################################
##############################################################################
###
### Running command:
###
###   /Library/Frameworks/R.framework/Resources/bin/R CMD INSTALL PRONE
###
##############################################################################
##############################################################################


* installing to library ‘/Library/Frameworks/R.framework/Versions/4.6-arm64/Resources/library’
* installing *source* package ‘PRONE’ ...
** this is package ‘PRONE’ version ‘1.5.0’
** using staged installation
** R
** data
** inst
** byte-compile and prepare package for lazy loading
** help
*** installing help indices
*** copying figures
** building package indices
** installing vignettes
** testing if installed package can be loaded from temporary location
** testing if installed package can be loaded from final location
** testing if installed package keeps a record of temporary installation path
* DONE (PRONE)

Tests output


Example timings

PRONE.Rcheck/PRONE-Ex.timings

nameusersystemelapsed
apply_thresholds0.0140.0010.020
detect_outliers_POMA0.7790.0210.908
eigenMSNorm0.2070.0150.256
export_data0.0130.0010.014
extract_consensus_DE_candidates0.0310.0020.033
filter_out_NA_proteins_by_threshold0.0740.0020.111
filter_out_complete_NA_proteins0.0250.0020.027
filter_out_proteins_by_ID0.0500.0020.052
filter_out_proteins_by_value0.0560.0010.066
get_NA_overview0.0170.0020.019
get_normalization_methods000
get_overview_DE0.0180.0020.023
get_proteins_by_value0.0580.0020.068
get_spiked_stats_DE0.0380.0030.047
globalIntNorm0.0530.0020.069
globalMeanNorm0.0550.0020.061
globalMedianNorm0.0480.0020.051
impute_se0.2660.0060.390
irsNorm0.0230.0010.024
limmaNorm0.0290.0020.035
load_data0.0220.0010.026
load_spike_data0.0170.0010.019
loessCycNorm0.0520.0050.061
loessFNorm0.0380.0020.046
meanNorm0.0210.0020.024
medianAbsDevNorm0.0430.0020.053
medianNorm0.0260.0020.028
normalize_se1.2340.0381.392
normalize_se_combination1.1690.0311.343
normalize_se_single1.5540.0391.771
normicsNorm1.0510.0261.203
plot_NA_density0.1520.0040.187
plot_NA_frequency0.0750.0020.108
plot_NA_heatmap0.5160.0290.569
plot_PCA0.4570.0060.516
plot_ROC_AUC_spiked0.4050.0070.475
plot_TP_FP_spiked_bar0.1160.0030.127
plot_TP_FP_spiked_box0.1450.0030.161
plot_TP_FP_spiked_scatter0.1540.0030.176
plot_boxplots1.5160.0281.683
plot_condition_overview0.0880.0020.100
plot_densities0.9000.0171.108
plot_fold_changes_spiked0.2290.0090.268
plot_heatmap1.3450.0181.471
plot_heatmap_DE0.4200.0080.450
plot_histogram_spiked0.1420.0030.154
plot_identified_spiked_proteins0.1590.0030.181
plot_intersection_enrichment0.2970.0151.373
plot_intragroup_PCV0.2180.0020.261
plot_intragroup_PEV0.1370.0020.150
plot_intragroup_PMAD0.1540.0030.172
plot_intragroup_correlation0.1410.0020.151
plot_jaccard_heatmap0.0980.0020.127
plot_logFC_thresholds_spiked0.2430.0050.281
plot_markers_boxplots0.2530.0020.279
plot_nr_prot_samples0.0930.0020.095
plot_overview_DE_bar0.1480.0020.166
plot_overview_DE_tile0.0800.0020.090
plot_profiles_spiked0.2920.0050.308
plot_pvalues_spiked0.1840.0030.204
plot_stats_spiked_heatmap0.1420.0030.150
plot_tot_int_samples0.0980.0030.104
plot_upset0.2980.0050.332
plot_upset_DE0.0140.0010.016
plot_volcano_DE1.4220.0101.490
quantileNorm0.0190.0010.020
readPRONE_example0.0010.0000.001
remove_POMA_outliers0.2180.0030.235
remove_assays_from_SE0.0210.0020.025
remove_reference_samples0.0240.0010.025
remove_samples_manually0.0200.0020.025
rlrMACycNorm0.2090.0030.226
rlrMANorm0.0390.0020.042
rlrNorm0.0310.0020.032
robnormNorm0.0860.0110.105
run_DE0.7880.0100.891
specify_comparisons0.0170.0030.019
subset_SE_by_norm0.0380.0010.042
tmmNorm0.0590.0040.065
vsnNorm0.0290.0020.032