| Back to Multiple platform build/check report for BioC 3.23: simplified long |
|
This page was generated on 2025-11-21 11:38 -0500 (Fri, 21 Nov 2025).
| Hostname | OS | Arch (*) | R version | Installed pkgs |
|---|---|---|---|---|
| nebbiolo1 | Linux (Ubuntu 24.04.3 LTS) | x86_64 | R Under development (unstable) (2025-10-20 r88955) -- "Unsuffered Consequences" | 4829 |
| lconway | macOS 12.7.6 Monterey | x86_64 | R Under development (unstable) (2025-10-21 r88958) -- "Unsuffered Consequences" | 4602 |
| kjohnson3 | macOS 13.7.7 Ventura | arm64 | R Under development (unstable) (2025-11-04 r88984) -- "Unsuffered Consequences" | 4566 |
| Click on any hostname to see more info about the system (e.g. compilers) (*) as reported by 'uname -p', except on Windows and Mac OS X | ||||
| Package 1633/2327 | Hostname | OS / Arch | INSTALL | BUILD | CHECK | BUILD BIN | ||||||||
| PRONE 1.5.0 (landing page) Lis Arend
| nebbiolo1 | Linux (Ubuntu 24.04.3 LTS) / x86_64 | OK | OK | OK | |||||||||
| lconway | macOS 12.7.6 Monterey / x86_64 | OK | OK | OK | OK | |||||||||
| kjohnson3 | macOS 13.7.7 Ventura / arm64 | OK | OK | OK | OK | |||||||||
|
To the developers/maintainers of the PRONE package: - Allow up to 24 hours (and sometimes 48 hours) for your latest push to git@git.bioconductor.org:packages/PRONE.git to reflect on this report. See Troubleshooting Build Report for more information. - Use the following Renviron settings to reproduce errors and warnings. - If 'R CMD check' started to fail recently on the Linux builder(s) over a missing dependency, add the missing dependency to 'Suggests:' in your DESCRIPTION file. See Renviron.bioc for more information. |
| Package: PRONE |
| Version: 1.5.0 |
| Command: /home/biocbuild/bbs-3.23-bioc/R/bin/R CMD check --install=check:PRONE.install-out.txt --library=/home/biocbuild/bbs-3.23-bioc/R/site-library --timings PRONE_1.5.0.tar.gz |
| StartedAt: 2025-11-21 02:49:48 -0500 (Fri, 21 Nov 2025) |
| EndedAt: 2025-11-21 02:57:54 -0500 (Fri, 21 Nov 2025) |
| EllapsedTime: 485.6 seconds |
| RetCode: 0 |
| Status: OK |
| CheckDir: PRONE.Rcheck |
| Warnings: 0 |
##############################################################################
##############################################################################
###
### Running command:
###
### /home/biocbuild/bbs-3.23-bioc/R/bin/R CMD check --install=check:PRONE.install-out.txt --library=/home/biocbuild/bbs-3.23-bioc/R/site-library --timings PRONE_1.5.0.tar.gz
###
##############################################################################
##############################################################################
* using log directory ‘/home/biocbuild/bbs-3.23-bioc/meat/PRONE.Rcheck’
* using R Under development (unstable) (2025-10-20 r88955)
* using platform: x86_64-pc-linux-gnu
* R was compiled by
gcc (Ubuntu 13.3.0-6ubuntu2~24.04) 13.3.0
GNU Fortran (Ubuntu 13.3.0-6ubuntu2~24.04) 13.3.0
* running under: Ubuntu 24.04.3 LTS
* using session charset: UTF-8
* checking for file ‘PRONE/DESCRIPTION’ ... OK
* checking extension type ... Package
* this is package ‘PRONE’ version ‘1.5.0’
* package encoding: UTF-8
* checking package namespace information ... OK
* checking package dependencies ... INFO
Imports includes 34 non-default packages.
Importing from so many packages makes the package vulnerable to any of
them becoming unavailable. Move as many as possible to Suggests and
use conditionally.
* checking if this is a source package ... OK
* checking if there is a namespace ... OK
* checking for hidden files and directories ... OK
* checking for portable file names ... OK
* checking for sufficient/correct file permissions ... OK
* checking whether package ‘PRONE’ can be installed ... OK
* checking installed package size ... OK
* checking package directory ... OK
* checking ‘build’ directory ... OK
* checking DESCRIPTION meta-information ... OK
* checking top-level files ... OK
* checking for left-over files ... OK
* checking index information ... OK
* checking package subdirectories ... OK
* checking code files for non-ASCII characters ... OK
* checking R files for syntax errors ... OK
* checking whether the package can be loaded ... OK
* checking whether the package can be loaded with stated dependencies ... OK
* checking whether the package can be unloaded cleanly ... OK
* checking whether the namespace can be loaded with stated dependencies ... OK
* checking whether the namespace can be unloaded cleanly ... OK
* checking loading without being on the library search path ... OK
* checking dependencies in R code ... NOTE
Unexported objects imported by ':::' calls:
‘NormalyzerDE:::calculateAvgMadMem’
‘NormalyzerDE:::calculateAvgReplicateVariation’
‘NormalyzerDE:::calculatePercentageAvgDiffInMat’
‘NormalyzerDE:::calculateReplicateCV’
‘NormalyzerDE:::calculateSummarizedCorrelationVector’
See the note in ?`:::` about the use of this operator.
* checking S3 generic/method consistency ... OK
* checking replacement functions ... OK
* checking foreign function calls ... OK
* checking R code for possible problems ... NOTE
plot_upset_DE: no visible global function definition for
‘packageVersion’
Undefined global functions or variables:
packageVersion
Consider adding
importFrom("utils", "packageVersion")
to your NAMESPACE file.
* checking Rd files ... OK
* checking Rd metadata ... OK
* checking Rd cross-references ... OK
* checking for missing documentation entries ... OK
* checking for code/documentation mismatches ... OK
* checking Rd \usage sections ... OK
* checking Rd contents ... OK
* checking for unstated dependencies in examples ... OK
* checking contents of ‘data’ directory ... OK
* checking data for non-ASCII characters ... OK
* checking data for ASCII and uncompressed saves ... OK
* checking files in ‘vignettes’ ... OK
* checking examples ... OK
Examples with CPU (user + system) or elapsed time > 5s
user system elapsed
plot_boxplots 5.379 0.105 5.386
* checking for unstated dependencies in vignettes ... OK
* checking package vignettes ... OK
* checking re-building of vignette outputs ... OK
* checking PDF version of manual ... OK
* DONE
Status: 2 NOTEs
See
‘/home/biocbuild/bbs-3.23-bioc/meat/PRONE.Rcheck/00check.log’
for details.
PRONE.Rcheck/00install.out
############################################################################## ############################################################################## ### ### Running command: ### ### /home/biocbuild/bbs-3.23-bioc/R/bin/R CMD INSTALL PRONE ### ############################################################################## ############################################################################## * installing to library ‘/home/biocbuild/bbs-3.23-bioc/R/site-library’ * installing *source* package ‘PRONE’ ... ** this is package ‘PRONE’ version ‘1.5.0’ ** using staged installation ** R ** data ** inst ** byte-compile and prepare package for lazy loading ** help *** installing help indices *** copying figures ** building package indices ** installing vignettes ** testing if installed package can be loaded from temporary location ** testing if installed package can be loaded from final location ** testing if installed package keeps a record of temporary installation path * DONE (PRONE)
PRONE.Rcheck/PRONE-Ex.timings
| name | user | system | elapsed | |
| apply_thresholds | 0.030 | 0.002 | 0.033 | |
| detect_outliers_POMA | 1.764 | 0.100 | 1.865 | |
| eigenMSNorm | 0.603 | 0.071 | 0.676 | |
| export_data | 0.029 | 0.000 | 0.028 | |
| extract_consensus_DE_candidates | 0.080 | 0.000 | 0.081 | |
| filter_out_NA_proteins_by_threshold | 0.215 | 0.005 | 0.213 | |
| filter_out_complete_NA_proteins | 0.052 | 0.003 | 0.054 | |
| filter_out_proteins_by_ID | 0.159 | 0.000 | 0.159 | |
| filter_out_proteins_by_value | 0.158 | 0.000 | 0.158 | |
| get_NA_overview | 0.038 | 0.000 | 0.038 | |
| get_normalization_methods | 0.000 | 0.001 | 0.000 | |
| get_overview_DE | 0.039 | 0.003 | 0.042 | |
| get_proteins_by_value | 0.144 | 0.000 | 0.144 | |
| get_spiked_stats_DE | 0.103 | 0.004 | 0.107 | |
| globalIntNorm | 0.127 | 0.001 | 0.129 | |
| globalMeanNorm | 0.13 | 0.00 | 0.13 | |
| globalMedianNorm | 0.133 | 0.000 | 0.133 | |
| impute_se | 0.750 | 0.009 | 0.696 | |
| irsNorm | 0.056 | 0.002 | 0.059 | |
| limmaNorm | 0.081 | 0.004 | 0.084 | |
| load_data | 0.048 | 0.001 | 0.051 | |
| load_spike_data | 0.042 | 0.009 | 0.053 | |
| loessCycNorm | 0.101 | 0.007 | 0.107 | |
| loessFNorm | 0.084 | 0.004 | 0.088 | |
| meanNorm | 0.043 | 0.002 | 0.045 | |
| medianAbsDevNorm | 0.108 | 0.012 | 0.121 | |
| medianNorm | 0.060 | 0.002 | 0.062 | |
| normalize_se | 3.410 | 0.089 | 3.502 | |
| normalize_se_combination | 3.336 | 0.070 | 3.409 | |
| normalize_se_single | 3.213 | 0.040 | 3.253 | |
| normicsNorm | 3.156 | 0.015 | 3.171 | |
| plot_NA_density | 0.397 | 0.002 | 0.392 | |
| plot_NA_frequency | 0.215 | 0.003 | 0.210 | |
| plot_NA_heatmap | 1.464 | 0.028 | 1.492 | |
| plot_PCA | 2.192 | 0.128 | 2.320 | |
| plot_ROC_AUC_spiked | 1.152 | 0.005 | 1.139 | |
| plot_TP_FP_spiked_bar | 0.318 | 0.005 | 0.322 | |
| plot_TP_FP_spiked_box | 0.407 | 0.004 | 0.411 | |
| plot_TP_FP_spiked_scatter | 0.424 | 0.005 | 0.430 | |
| plot_boxplots | 5.379 | 0.105 | 5.386 | |
| plot_condition_overview | 0.235 | 0.002 | 0.237 | |
| plot_densities | 2.590 | 0.041 | 2.560 | |
| plot_fold_changes_spiked | 0.519 | 0.016 | 0.528 | |
| plot_heatmap | 3.631 | 0.055 | 3.687 | |
| plot_heatmap_DE | 1.163 | 0.013 | 1.176 | |
| plot_histogram_spiked | 0.401 | 0.003 | 0.388 | |
| plot_identified_spiked_proteins | 0.427 | 0.003 | 0.430 | |
| plot_intersection_enrichment | 0.831 | 0.031 | 3.125 | |
| plot_intragroup_PCV | 0.540 | 0.038 | 0.580 | |
| plot_intragroup_PEV | 0.433 | 0.032 | 0.464 | |
| plot_intragroup_PMAD | 0.435 | 0.032 | 0.468 | |
| plot_intragroup_correlation | 0.446 | 0.032 | 0.478 | |
| plot_jaccard_heatmap | 0.324 | 0.024 | 0.327 | |
| plot_logFC_thresholds_spiked | 0.674 | 0.021 | 0.695 | |
| plot_markers_boxplots | 0.809 | 0.044 | 0.838 | |
| plot_nr_prot_samples | 0.271 | 0.031 | 0.303 | |
| plot_overview_DE_bar | 0.445 | 0.040 | 0.484 | |
| plot_overview_DE_tile | 0.251 | 0.017 | 0.268 | |
| plot_profiles_spiked | 0.841 | 0.042 | 0.860 | |
| plot_pvalues_spiked | 0.513 | 0.019 | 0.534 | |
| plot_stats_spiked_heatmap | 0.401 | 0.023 | 0.426 | |
| plot_tot_int_samples | 0.267 | 0.003 | 0.271 | |
| plot_upset | 0.853 | 0.075 | 0.930 | |
| plot_upset_DE | 0.030 | 0.003 | 0.033 | |
| plot_volcano_DE | 4.129 | 0.210 | 4.341 | |
| quantileNorm | 0.045 | 0.002 | 0.047 | |
| readPRONE_example | 0.002 | 0.000 | 0.001 | |
| remove_POMA_outliers | 0.604 | 0.006 | 0.610 | |
| remove_assays_from_SE | 0.048 | 0.001 | 0.048 | |
| remove_reference_samples | 0.048 | 0.000 | 0.048 | |
| remove_samples_manually | 0.040 | 0.001 | 0.041 | |
| rlrMACycNorm | 0.607 | 0.003 | 0.610 | |
| rlrMANorm | 0.098 | 0.003 | 0.100 | |
| rlrNorm | 0.088 | 0.003 | 0.092 | |
| robnormNorm | 0.076 | 0.002 | 0.078 | |
| run_DE | 2.313 | 0.034 | 2.318 | |
| specify_comparisons | 0.033 | 0.002 | 0.032 | |
| subset_SE_by_norm | 0.077 | 0.002 | 0.081 | |
| tmmNorm | 0.128 | 0.021 | 0.148 | |
| vsnNorm | 0.074 | 0.002 | 0.075 | |