Back to Multiple platform build/check report for BioC 3.22: simplified long |
|
This page was generated on 2025-10-04 12:03 -0400 (Sat, 04 Oct 2025).
Hostname | OS | Arch (*) | R version | Installed pkgs |
---|---|---|---|---|
nebbiolo2 | Linux (Ubuntu 24.04.3 LTS) | x86_64 | 4.5.1 Patched (2025-08-23 r88802) -- "Great Square Root" | 4853 |
lconway | macOS 12.7.1 Monterey | x86_64 | 4.5.1 Patched (2025-09-10 r88807) -- "Great Square Root" | 4640 |
kjohnson3 | macOS 13.7.7 Ventura | arm64 | 4.5.1 Patched (2025-09-10 r88807) -- "Great Square Root" | 4585 |
taishan | Linux (openEuler 24.03 LTS) | aarch64 | 4.5.0 (2025-04-11) -- "How About a Twenty-Six" | 4576 |
Click on any hostname to see more info about the system (e.g. compilers) (*) as reported by 'uname -p', except on Windows and Mac OS X |
Package 232/2341 | Hostname | OS / Arch | INSTALL | BUILD | CHECK | BUILD BIN | ||||||||
blase 0.99.3 (landing page) Andrew McCluskey
| nebbiolo2 | Linux (Ubuntu 24.04.3 LTS) / x86_64 | OK | OK | OK | ![]() | ||||||||
lconway | macOS 12.7.1 Monterey / x86_64 | OK | OK | OK | OK | ![]() | ||||||||
kjohnson3 | macOS 13.7.7 Ventura / arm64 | OK | OK | OK | OK | ![]() | ||||||||
taishan | Linux (openEuler 24.03 LTS) / aarch64 | NA | NA | NA | ||||||||||
To the developers/maintainers of the blase package: - Allow up to 24 hours (and sometimes 48 hours) for your latest push to git@git.bioconductor.org:packages/blase.git to reflect on this report. See Troubleshooting Build Report for more information. - Use the following Renviron settings to reproduce errors and warnings. - If 'R CMD check' started to fail recently on the Linux builder(s) over a missing dependency, add the missing dependency to 'Suggests:' in your DESCRIPTION file. See Renviron.bioc for more information. |
Package: blase |
Version: 0.99.3 |
Command: /home/biocbuild/bbs-3.22-bioc/R/bin/R CMD check --install=check:blase.install-out.txt --library=/home/biocbuild/bbs-3.22-bioc/R/site-library --timings blase_0.99.3.tar.gz |
StartedAt: 2025-10-03 21:37:04 -0400 (Fri, 03 Oct 2025) |
EndedAt: 2025-10-03 22:07:11 -0400 (Fri, 03 Oct 2025) |
EllapsedTime: 1806.7 seconds |
RetCode: 0 |
Status: OK |
CheckDir: blase.Rcheck |
Warnings: 0 |
############################################################################## ############################################################################## ### ### Running command: ### ### /home/biocbuild/bbs-3.22-bioc/R/bin/R CMD check --install=check:blase.install-out.txt --library=/home/biocbuild/bbs-3.22-bioc/R/site-library --timings blase_0.99.3.tar.gz ### ############################################################################## ############################################################################## * using log directory ‘/home/biocbuild/bbs-3.22-bioc/meat/blase.Rcheck’ * using R version 4.5.1 Patched (2025-08-23 r88802) * using platform: x86_64-pc-linux-gnu * R was compiled by gcc (Ubuntu 13.3.0-6ubuntu2~24.04) 13.3.0 GNU Fortran (Ubuntu 13.3.0-6ubuntu2~24.04) 13.3.0 * running under: Ubuntu 24.04.3 LTS * using session charset: UTF-8 * checking for file ‘blase/DESCRIPTION’ ... OK * this is package ‘blase’ version ‘0.99.3’ * package encoding: UTF-8 * checking package namespace information ... OK * checking package dependencies ... OK * checking if this is a source package ... OK * checking if there is a namespace ... OK * checking for hidden files and directories ... OK * checking for portable file names ... OK * checking for sufficient/correct file permissions ... OK * checking whether package ‘blase’ can be installed ... OK * checking installed package size ... INFO installed size is 5.2Mb sub-directories of 1Mb or more: data 4.6Mb * checking package directory ... OK * checking ‘build’ directory ... OK * checking DESCRIPTION meta-information ... OK * checking top-level files ... OK * checking for left-over files ... OK * checking index information ... OK * checking package subdirectories ... OK * checking code files for non-ASCII characters ... OK * checking R files for syntax errors ... OK * checking whether the package can be loaded ... OK * checking whether the package can be loaded with stated dependencies ... OK * checking whether the package can be unloaded cleanly ... OK * checking whether the namespace can be loaded with stated dependencies ... OK * checking whether the namespace can be unloaded cleanly ... OK * checking loading without being on the library search path ... OK * checking dependencies in R code ... OK * checking S3 generic/method consistency ... OK * checking replacement functions ... OK * checking foreign function calls ... OK * checking R code for possible problems ... OK * checking Rd files ... OK * checking Rd metadata ... OK * checking Rd cross-references ... NOTE Non-topic package-anchored link(s) in Rd file 'plot_mapping_result.Rd': ‘[scater:plot_reddim]{scater::plotUMAP()}’ See section 'Cross-references' in the 'Writing R Extensions' manual. * checking for missing documentation entries ... OK * checking for code/documentation mismatches ... OK * checking Rd \usage sections ... OK * checking Rd contents ... OK * checking for unstated dependencies in examples ... OK * checking contents of ‘data’ directory ... OK * checking data for non-ASCII characters ... OK * checking data for ASCII and uncompressed saves ... OK * checking files in ‘vignettes’ ... OK * checking examples ... OK Examples with CPU (user + system) or elapsed time > 5s user system elapsed smooth_gene 23.008 0.648 24.469 calculate_gene_peakedness 22.666 0.603 23.933 plot_gene_peakedness 21.180 0.725 23.461 gene_peakedness_spread_selection 20.781 0.354 21.322 evaluate_parameters 13.249 0.300 14.024 plot_mapping_result 6.578 0.624 7.422 find_best_params 6.661 0.198 6.917 * checking for unstated dependencies in ‘tests’ ... OK * checking tests ... Running ‘testthat.R’ OK * checking for unstated dependencies in vignettes ... OK * checking package vignettes ... OK * checking re-building of vignette outputs ... OK * checking PDF version of manual ... OK * DONE Status: 1 NOTE See ‘/home/biocbuild/bbs-3.22-bioc/meat/blase.Rcheck/00check.log’ for details.
blase.Rcheck/00install.out
############################################################################## ############################################################################## ### ### Running command: ### ### /home/biocbuild/bbs-3.22-bioc/R/bin/R CMD INSTALL blase ### ############################################################################## ############################################################################## * installing to library ‘/home/biocbuild/bbs-3.22-bioc/R/site-library’ * installing *source* package ‘blase’ ... ** this is package ‘blase’ version ‘0.99.3’ ** using staged installation ** R ** data ** inst ** byte-compile and prepare package for lazy loading ** help *** installing help indices *** copying figures ** building package indices ** installing vignettes ** testing if installed package can be loaded from temporary location ** testing if installed package can be loaded from final location ** testing if installed package keeps a record of temporary installation path * DONE (blase)
blase.Rcheck/tests/testthat.Rout
R version 4.5.1 Patched (2025-08-23 r88802) -- "Great Square Root" Copyright (C) 2025 The R Foundation for Statistical Computing Platform: x86_64-pc-linux-gnu R is free software and comes with ABSOLUTELY NO WARRANTY. You are welcome to redistribute it under certain conditions. Type 'license()' or 'licence()' for distribution details. R is a collaborative project with many contributors. Type 'contributors()' for more information and 'citation()' on how to cite R or R packages in publications. Type 'demo()' for some demos, 'help()' for on-line help, or 'help.start()' for an HTML browser interface to help. Type 'q()' to quit R. > # This file is part of the standard setup for testthat. > # It is recommended that you do not modify it. > # > # Where should you do additional test configuration? > # Learn more about the roles of various files in: > # * https://r-pkgs.org/testing-design.html#sec-tests-files-overview > # * https://testthat.r-lib.org/articles/special-files.html > > library(testthat) > library(blase) > > test_check("blase") [ FAIL 0 | WARN 4 | SKIP 0 | PASS 124 ] [ FAIL 0 | WARN 4 | SKIP 0 | PASS 124 ] > > proc.time() user system elapsed 80.010 1.624 83.940
blase.Rcheck/blase-Ex.timings
name | user | system | elapsed | |
BlaseData-class | 1.305 | 0.021 | 1.348 | |
MappingResult | 2.978 | 0.149 | 3.245 | |
annotate_sce | 1.571 | 0.022 | 1.593 | |
as.BlaseData | 0.213 | 0.022 | 0.234 | |
assign_pseudotime_bins | 2.740 | 0.048 | 2.827 | |
bins-getter | 0.219 | 0.000 | 0.218 | |
calculate_gene_peakedness | 22.666 | 0.603 | 23.933 | |
evaluate_parameters | 13.249 | 0.300 | 14.024 | |
evaluate_top_n_genes | 3.522 | 0.080 | 3.628 | |
find_best_params | 6.661 | 0.198 | 6.917 | |
gene_peakedness_spread_selection | 20.781 | 0.354 | 21.322 | |
genes-getter | 0.237 | 0.006 | 0.244 | |
genes-setter | 0.240 | 0.000 | 0.244 | |
get_bins_as_bulk | 1.588 | 0.010 | 1.626 | |
get_top_n_genes | 0.002 | 0.000 | 0.001 | |
map_all_best_bins | 2.431 | 0.030 | 2.478 | |
map_best_bin | 2.449 | 0.005 | 2.459 | |
mapping-result-best-bin-getter | 2.523 | 0.019 | 2.629 | |
mapping-result-best-correlation-getter | 3.137 | 0.066 | 3.210 | |
mapping-result-bootstrap-iterations-getter | 3.302 | 0.059 | 3.389 | |
mapping-result-bulk-name-getter | 2.503 | 0.003 | 2.510 | |
mapping-result-confident-mapping-getter | 3.440 | 0.029 | 4.020 | |
mapping-result-history-getter | 2.497 | 0.002 | 2.688 | |
mapping-result-top-2-distance-getter | 3.479 | 0.038 | 3.547 | |
plot_bin_population | 2.480 | 0.002 | 2.496 | |
plot_find_best_params_results | 4.450 | 0.053 | 4.657 | |
plot_gene_peakedness | 21.180 | 0.725 | 23.461 | |
plot_mapping_result | 6.578 | 0.624 | 7.422 | |
plot_mapping_result_corr | 2.498 | 0.102 | 2.627 | |
plot_mapping_result_heatmap | 2.622 | 0.083 | 2.770 | |
pseudobulk-bins-getter | 0.208 | 0.021 | 0.236 | |
show-MappingResult-method | 2.493 | 0.066 | 2.599 | |
show_blase_object | 0.204 | 0.013 | 0.217 | |
smooth_gene | 23.008 | 0.648 | 24.469 | |