| Back to Multiple platform build/check report for BioC 3.22: simplified long |
|
This page was generated on 2025-10-23 12:04 -0400 (Thu, 23 Oct 2025).
| Hostname | OS | Arch (*) | R version | Installed pkgs |
|---|---|---|---|---|
| nebbiolo2 | Linux (Ubuntu 24.04.3 LTS) | x86_64 | 4.5.1 Patched (2025-08-23 r88802) -- "Great Square Root" | 4894 |
| lconway | macOS 12.7.6 Monterey | x86_64 | 4.5.1 Patched (2025-09-10 r88807) -- "Great Square Root" | 4684 |
| kjohnson3 | macOS 13.7.7 Ventura | arm64 | 4.5.1 Patched (2025-09-10 r88807) -- "Great Square Root" | 4629 |
| taishan | Linux (openEuler 24.03 LTS) | aarch64 | 4.5.0 (2025-04-11) -- "How About a Twenty-Six" | 4642 |
| Click on any hostname to see more info about the system (e.g. compilers) (*) as reported by 'uname -p', except on Windows and Mac OS X | ||||
| Package 2060/2355 | Hostname | OS / Arch | INSTALL | BUILD | CHECK | BUILD BIN | ||||||||
| SpaceTrooper 0.99.47 (landing page) Dario Righelli
| nebbiolo2 | Linux (Ubuntu 24.04.3 LTS) / x86_64 | OK | OK | OK | |||||||||
| lconway | macOS 12.7.6 Monterey / x86_64 | OK | OK | OK | OK | |||||||||
| kjohnson3 | macOS 13.7.7 Ventura / arm64 | OK | OK | OK | OK | |||||||||
| taishan | Linux (openEuler 24.03 LTS) / aarch64 | OK | OK | NA | ||||||||||
|
To the developers/maintainers of the SpaceTrooper package: - Allow up to 24 hours (and sometimes 48 hours) for your latest push to git@git.bioconductor.org:packages/SpaceTrooper.git to reflect on this report. See Troubleshooting Build Report for more information. - Use the following Renviron settings to reproduce errors and warnings. - If 'R CMD check' started to fail recently on the Linux builder(s) over a missing dependency, add the missing dependency to 'Suggests:' in your DESCRIPTION file. See Renviron.bioc for more information. |
| Package: SpaceTrooper |
| Version: 0.99.47 |
| Command: /home/biocbuild/bbs-3.22-bioc/R/bin/R CMD check --install=check:SpaceTrooper.install-out.txt --library=/home/biocbuild/bbs-3.22-bioc/R/site-library --timings SpaceTrooper_0.99.47.tar.gz |
| StartedAt: 2025-10-23 05:02:10 -0400 (Thu, 23 Oct 2025) |
| EndedAt: 2025-10-23 05:08:22 -0400 (Thu, 23 Oct 2025) |
| EllapsedTime: 372.3 seconds |
| RetCode: 0 |
| Status: OK |
| CheckDir: SpaceTrooper.Rcheck |
| Warnings: 0 |
##############################################################################
##############################################################################
###
### Running command:
###
### /home/biocbuild/bbs-3.22-bioc/R/bin/R CMD check --install=check:SpaceTrooper.install-out.txt --library=/home/biocbuild/bbs-3.22-bioc/R/site-library --timings SpaceTrooper_0.99.47.tar.gz
###
##############################################################################
##############################################################################
* using log directory ‘/home/biocbuild/bbs-3.22-bioc/meat/SpaceTrooper.Rcheck’
* using R version 4.5.1 Patched (2025-08-23 r88802)
* using platform: x86_64-pc-linux-gnu
* R was compiled by
gcc (Ubuntu 13.3.0-6ubuntu2~24.04) 13.3.0
GNU Fortran (Ubuntu 13.3.0-6ubuntu2~24.04) 13.3.0
* running under: Ubuntu 24.04.3 LTS
* using session charset: UTF-8
* checking for file ‘SpaceTrooper/DESCRIPTION’ ... OK
* checking extension type ... Package
* this is package ‘SpaceTrooper’ version ‘0.99.47’
* package encoding: UTF-8
* checking package namespace information ... OK
* checking package dependencies ... OK
* checking if this is a source package ... OK
* checking if there is a namespace ... OK
* checking for hidden files and directories ... OK
* checking for portable file names ... OK
* checking for sufficient/correct file permissions ... OK
* checking whether package ‘SpaceTrooper’ can be installed ... OK
* checking installed package size ... INFO
installed size is 7.6Mb
sub-directories of 1Mb or more:
extdata 7.2Mb
* checking package directory ... OK
* checking ‘build’ directory ... OK
* checking DESCRIPTION meta-information ... OK
* checking top-level files ... OK
* checking for left-over files ... OK
* checking index information ... OK
* checking package subdirectories ... OK
* checking code files for non-ASCII characters ... OK
* checking R files for syntax errors ... OK
* checking whether the package can be loaded ... OK
* checking whether the package can be loaded with stated dependencies ... OK
* checking whether the package can be unloaded cleanly ... OK
* checking whether the namespace can be loaded with stated dependencies ... OK
* checking whether the namespace can be unloaded cleanly ... OK
* checking loading without being on the library search path ... OK
* checking dependencies in R code ... OK
* checking S3 generic/method consistency ... OK
* checking replacement functions ... OK
* checking foreign function calls ... OK
* checking R code for possible problems ... OK
* checking Rd files ... OK
* checking Rd metadata ... OK
* checking Rd cross-references ... OK
* checking for missing documentation entries ... OK
* checking for code/documentation mismatches ... OK
* checking Rd \usage sections ... OK
* checking Rd contents ... OK
* checking for unstated dependencies in examples ... OK
* checking files in ‘vignettes’ ... OK
* checking examples ... OK
* checking for unstated dependencies in ‘tests’ ... OK
* checking tests ...
Running ‘testthat.R’
OK
* checking for unstated dependencies in vignettes ... OK
* checking package vignettes ... OK
* checking re-building of vignette outputs ... OK
* checking PDF version of manual ... OK
* DONE
Status: OK
SpaceTrooper.Rcheck/00install.out
############################################################################## ############################################################################## ### ### Running command: ### ### /home/biocbuild/bbs-3.22-bioc/R/bin/R CMD INSTALL SpaceTrooper ### ############################################################################## ############################################################################## * installing to library ‘/home/biocbuild/bbs-3.22-bioc/R/site-library’ * installing *source* package ‘SpaceTrooper’ ... ** this is package ‘SpaceTrooper’ version ‘0.99.47’ ** using staged installation ** R ** inst ** byte-compile and prepare package for lazy loading ** help *** installing help indices ** building package indices ** installing vignettes ** testing if installed package can be loaded from temporary location ** testing if installed package can be loaded from final location ** testing if installed package keeps a record of temporary installation path * DONE (SpaceTrooper)
SpaceTrooper.Rcheck/tests/testthat.Rout
R version 4.5.1 Patched (2025-08-23 r88802) -- "Great Square Root"
Copyright (C) 2025 The R Foundation for Statistical Computing
Platform: x86_64-pc-linux-gnu
R is free software and comes with ABSOLUTELY NO WARRANTY.
You are welcome to redistribute it under certain conditions.
Type 'license()' or 'licence()' for distribution details.
R is a collaborative project with many contributors.
Type 'contributors()' for more information and
'citation()' on how to cite R or R packages in publications.
Type 'demo()' for some demos, 'help()' for on-line help, or
'help.start()' for an HTML browser interface to help.
Type 'q()' to quit R.
> # This file is part of the standard setup for testthat.
> # It is recommended that you do not modify it.
> #
> # Where should you do additional test configuration?
> # Learn more about the roles of various files in:
> # * https://r-pkgs.org/testing-design.html#sec-tests-files-overview
> # * https://testthat.r-lib.org/articles/special-files.html
>
> library(testthat)
> library(SpaceTrooper)
Loading required package: SpatialExperiment
Loading required package: SingleCellExperiment
Loading required package: SummarizedExperiment
Loading required package: MatrixGenerics
Loading required package: matrixStats
Attaching package: 'MatrixGenerics'
The following objects are masked from 'package:matrixStats':
colAlls, colAnyNAs, colAnys, colAvgsPerRowSet, colCollapse,
colCounts, colCummaxs, colCummins, colCumprods, colCumsums,
colDiffs, colIQRDiffs, colIQRs, colLogSumExps, colMadDiffs,
colMads, colMaxs, colMeans2, colMedians, colMins, colOrderStats,
colProds, colQuantiles, colRanges, colRanks, colSdDiffs, colSds,
colSums2, colTabulates, colVarDiffs, colVars, colWeightedMads,
colWeightedMeans, colWeightedMedians, colWeightedSds,
colWeightedVars, rowAlls, rowAnyNAs, rowAnys, rowAvgsPerColSet,
rowCollapse, rowCounts, rowCummaxs, rowCummins, rowCumprods,
rowCumsums, rowDiffs, rowIQRDiffs, rowIQRs, rowLogSumExps,
rowMadDiffs, rowMads, rowMaxs, rowMeans2, rowMedians, rowMins,
rowOrderStats, rowProds, rowQuantiles, rowRanges, rowRanks,
rowSdDiffs, rowSds, rowSums2, rowTabulates, rowVarDiffs, rowVars,
rowWeightedMads, rowWeightedMeans, rowWeightedMedians,
rowWeightedSds, rowWeightedVars
Loading required package: GenomicRanges
Loading required package: stats4
Loading required package: BiocGenerics
Loading required package: generics
Attaching package: 'generics'
The following objects are masked from 'package:base':
as.difftime, as.factor, as.ordered, intersect, is.element, setdiff,
setequal, union
Attaching package: 'BiocGenerics'
The following objects are masked from 'package:stats':
IQR, mad, sd, var, xtabs
The following objects are masked from 'package:base':
Filter, Find, Map, Position, Reduce, anyDuplicated, aperm, append,
as.data.frame, basename, cbind, colnames, dirname, do.call,
duplicated, eval, evalq, get, grep, grepl, is.unsorted, lapply,
mapply, match, mget, order, paste, pmax, pmax.int, pmin, pmin.int,
rank, rbind, rownames, sapply, saveRDS, table, tapply, unique,
unsplit, which.max, which.min
Loading required package: S4Vectors
Attaching package: 'S4Vectors'
The following object is masked from 'package:utils':
findMatches
The following objects are masked from 'package:base':
I, expand.grid, unname
Loading required package: IRanges
Loading required package: Seqinfo
Loading required package: Biobase
Welcome to Bioconductor
Vignettes contain introductory material; view with
'browseVignettes()'. To cite Bioconductor, see
'citation("Biobase")', and for packages 'citation("pkgname")'.
Attaching package: 'Biobase'
The following object is masked from 'package:MatrixGenerics':
rowMedians
The following objects are masked from 'package:matrixStats':
anyMissing, rowMedians
>
> test_check("SpaceTrooper")
rdCSPE> cospath <- system.file(file.path("extdata", "CosMx_DBKero_Tiny"),
rdCSPE+ package="SpaceTrooper")
rdCSPE> spe <- readCosmxSPE(cospath, sampleName="DBKero_Tiny")
Removing 1 cells with 0 counts!
Removing 1 cells with 0 counts!
Removing 1 cells with 0 counts!
Removing 1 cells with 0 counts!
[ FAIL 0 | WARN 0 | SKIP 0 | PASS 16 ]
>
> proc.time()
user system elapsed
15.712 0.895 16.601
SpaceTrooper.Rcheck/SpaceTrooper-Ex.timings
| name | user | system | elapsed | |
| addPolygonsToSPE | 0.661 | 0.034 | 0.700 | |
| checkOutliers | 1.347 | 0.091 | 1.438 | |
| computeAreaFromPolygons | 0.250 | 0.049 | 0.298 | |
| computeAspectRatioFromPolygons | 0.222 | 0.029 | 0.251 | |
| computeCenterFromPolygons | 0.225 | 0.002 | 0.226 | |
| computeLambda | 1.475 | 0.018 | 1.493 | |
| computeMissingMetricsMerfish | 0.260 | 0.001 | 0.261 | |
| computeMissingMetricsXenium | 0.494 | 0.004 | 0.498 | |
| computeOutliersQCScore | 1.294 | 0.025 | 1.320 | |
| computeQCScore | 1.484 | 0.009 | 1.493 | |
| computeQCScoreFlags | 1.641 | 0.006 | 1.647 | |
| computeSpatialOutlier | 0.993 | 0.008 | 1.001 | |
| computeThresholdFlags | 0.990 | 0.001 | 0.990 | |
| computeTrainDF | 2.214 | 0.086 | 2.300 | |
| dot-getActiveGeometryName | 0.341 | 0.002 | 0.343 | |
| dot-renameGeometry | 0.381 | 0.009 | 0.389 | |
| dot-setActiveGeometry | 0.371 | 0.002 | 0.372 | |
| getFencesOutlier | 0.931 | 0.004 | 0.934 | |
| getModelFormula | 1.220 | 0.009 | 1.228 | |
| plotCellsFovs | 0.506 | 0.005 | 0.510 | |
| plotCentroids | 0.602 | 0.003 | 0.606 | |
| plotMetricHist | 0.519 | 0.002 | 0.521 | |
| plotPolygons | 0.992 | 0.009 | 1.001 | |
| plotQScoreTerms | 2.231 | 0.027 | 2.259 | |
| plotZoomFovsMap | 1.252 | 0.002 | 1.254 | |
| qcFlagPlots | 2.768 | 0.030 | 2.799 | |
| readAndAddPolygonsToSPE | 0.435 | 0.004 | 0.437 | |
| readCosmxSPE | 0.242 | 0.002 | 0.244 | |
| readMerfishSPE | 0.167 | 0.000 | 0.167 | |
| readPolygons | 0.355 | 0.002 | 0.357 | |
| readPolygonsCosmx | 0.352 | 0.001 | 0.353 | |
| readPolygonsMerfish | 0.195 | 0.000 | 0.195 | |
| readPolygonsXenium | 0.394 | 0.007 | 0.401 | |
| readXeniumSPE | 0.404 | 0.003 | 0.406 | |
| spatialPerCellQC | 0.834 | 0.004 | 0.839 | |
| trainModel | 1.312 | 0.003 | 1.316 | |
| updateCosmxProteinSPE | 0.259 | 0.028 | 0.290 | |
| updateCosmxSPE | 0.414 | 0.018 | 0.433 | |
| updateXeniumSPE | 0.397 | 0.012 | 0.410 | |