| Back to Build/check report for BioC 3.23: simplified long |
|
This page was generated on 2025-10-31 08:34 -0400 (Fri, 31 Oct 2025).
| Hostname | OS | Arch (*) | R version | Installed pkgs |
|---|---|---|---|---|
| nebbiolo1 | Linux (Ubuntu 24.04.3 LTS) | x86_64 | R Under development (unstable) (2025-10-20 r88955) -- "Unsuffered Consequences" | 4428 |
| Click on any hostname to see more info about the system (e.g. compilers) (*) as reported by 'uname -p', except on Windows and Mac OS X | ||||
|
To the developers/maintainers of the biomaRt package: - Allow up to 24 hours (and sometimes 48 hours) for your latest push to git@git.bioconductor.org:packages/biomaRt.git to reflect on this report. See Troubleshooting Build Report for more information. - Use the following Renviron settings to reproduce errors and warnings. - If 'R CMD check' started to fail recently on the Linux builder(s) over a missing dependency, add the missing dependency to 'Suggests:' in your DESCRIPTION file. See Renviron.bioc for more information. |
| Package 211/2321 | Hostname | OS / Arch | INSTALL | BUILD | CHECK | BUILD BIN | ||||||||
| biomaRt 2.67.0 (landing page) Hugo Gruson
| nebbiolo1 | Linux (Ubuntu 24.04.3 LTS) / x86_64 | OK | OK | OK | |||||||||
| QUICK STATS | OS / Arch | INSTALL | BUILD | CHECK | BUILD BIN | ||||||||||||||
| nebbiolo1 | Linux (Ubuntu 24.04.3 LTS) / x86_64 |
|
|
| |||||||||||||||
| Package 1/80 | Hostname | OS / Arch | INSTALL | BUILD | CHECK | BUILD BIN | |||||||||||||
| BadRegionFinder 1.39.0 (landing page) Sarah Sandmann
| nebbiolo1 | Linux (Ubuntu 24.04.3 LTS) / x86_64 | OK | OK | ERROR | ||||||||||||||
| Package 2/80 | Hostname | OS / Arch | INSTALL | BUILD | CHECK | BUILD BIN | |||||||||||||
| branchpointer 1.37.0 (landing page) Beth Signal
| nebbiolo1 | Linux (Ubuntu 24.04.3 LTS) / x86_64 | ERROR | ERROR | skipped | ||||||||||||||
| Package 3/80 | Hostname | OS / Arch | INSTALL | BUILD | CHECK | BUILD BIN | |||||||||||||
| BUSpaRse 1.25.0 (landing page) Lambda Moses
| nebbiolo1 | Linux (Ubuntu 24.04.3 LTS) / x86_64 | OK | ERROR | skipped | ||||||||||||||
| Package 4/80 | Hostname | OS / Arch | INSTALL | BUILD | CHECK | BUILD BIN | |||||||||||||
| ChIPpeakAnno 3.45.0 (landing page) Jianhong Ou
| nebbiolo1 | Linux (Ubuntu 24.04.3 LTS) / x86_64 | ERROR | ERROR | skipped | ||||||||||||||
| Package 5/80 | Hostname | OS / Arch | INSTALL | BUILD | CHECK | BUILD BIN | |||||||||||||
| chromPlot 1.39.0 (landing page) Karen Y. Orostica
| nebbiolo1 | Linux (Ubuntu 24.04.3 LTS) / x86_64 | OK | OK | OK | ||||||||||||||
| Package 6/80 | Hostname | OS / Arch | INSTALL | BUILD | CHECK | BUILD BIN | |||||||||||||
| CHRONOS 1.39.0 (landing page) Panos Balomenos
| nebbiolo1 | Linux (Ubuntu 24.04.3 LTS) / x86_64 | OK | OK | OK | ||||||||||||||
| Package 7/80 | Hostname | OS / Arch | INSTALL | BUILD | CHECK | BUILD BIN | |||||||||||||
| CoSIA 1.11.0 (landing page) Amanda D. Clark
| nebbiolo1 | Linux (Ubuntu 24.04.3 LTS) / x86_64 | ERROR | ERROR | skipped | ||||||||||||||
| Package 8/80 | Hostname | OS / Arch | INSTALL | BUILD | CHECK | BUILD BIN | |||||||||||||
| customProDB 1.51.0 (landing page) Xiaojing Wang
| nebbiolo1 | Linux (Ubuntu 24.04.3 LTS) / x86_64 | OK | ERROR | skipped | ||||||||||||||
| Package 9/80 | Hostname | OS / Arch | INSTALL | BUILD | CHECK | BUILD BIN | |||||||||||||
| dagLogo 1.49.0 (landing page) Jianhong Ou
| nebbiolo1 | Linux (Ubuntu 24.04.3 LTS) / x86_64 | OK | OK | OK | ||||||||||||||
| Package 10/80 | Hostname | OS / Arch | INSTALL | BUILD | CHECK | BUILD BIN | |||||||||||||
| DEXSeq 1.57.0 (landing page) Alejandro Reyes
| nebbiolo1 | Linux (Ubuntu 24.04.3 LTS) / x86_64 | OK | OK | OK | ||||||||||||||
| Package 11/80 | Hostname | OS / Arch | INSTALL | BUILD | CHECK | BUILD BIN | |||||||||||||
| DMRcate 3.7.0 (landing page) Tim Peters
| nebbiolo1 | Linux (Ubuntu 24.04.3 LTS) / x86_64 | ERROR | ERROR | skipped | ||||||||||||||
| Package 12/80 | Hostname | OS / Arch | INSTALL | BUILD | CHECK | BUILD BIN | |||||||||||||
| DominoEffect 1.31.0 (landing page) Marija Buljan
| nebbiolo1 | Linux (Ubuntu 24.04.3 LTS) / x86_64 | OK | OK | OK | ||||||||||||||
| Package 13/80 | Hostname | OS / Arch | INSTALL | BUILD | CHECK | BUILD BIN | |||||||||||||
| dominoSignal 1.5.0 (landing page) Jacob T Mitchell
| nebbiolo1 | Linux (Ubuntu 24.04.3 LTS) / x86_64 | OK | OK | OK | ||||||||||||||
| Package 14/80 | Hostname | OS / Arch | INSTALL | BUILD | CHECK | BUILD BIN | |||||||||||||
| drugTargetInteractions 1.19.0 (landing page) Thomas Girke
| nebbiolo1 | Linux (Ubuntu 24.04.3 LTS) / x86_64 | OK | ERROR | skipped | ||||||||||||||
| Package 15/80 | Hostname | OS / Arch | INSTALL | BUILD | CHECK | BUILD BIN | |||||||||||||
| DrugVsDisease 2.53.0 (landing page) j. Saez-Rodriguez
| nebbiolo1 | Linux (Ubuntu 24.04.3 LTS) / x86_64 | ERROR | ERROR | skipped | ||||||||||||||
| Package 16/80 | Hostname | OS / Arch | INSTALL | BUILD | CHECK | BUILD BIN | |||||||||||||
| easyRNASeq 2.47.0 (landing page) Nicolas Delhomme
| nebbiolo1 | Linux (Ubuntu 24.04.3 LTS) / x86_64 | OK | OK | ERROR | ||||||||||||||
| Package 17/80 | Hostname | OS / Arch | INSTALL | BUILD | CHECK | BUILD BIN | |||||||||||||
| EDASeq 2.45.0 (landing page) Davide Risso
| nebbiolo1 | Linux (Ubuntu 24.04.3 LTS) / x86_64 | OK | OK | OK | ||||||||||||||
| Package 18/80 | Hostname | OS / Arch | INSTALL | BUILD | CHECK | BUILD BIN | |||||||||||||
| ELMER 2.35.0 (landing page) Tiago Chedraoui Silva
| nebbiolo1 | Linux (Ubuntu 24.04.3 LTS) / x86_64 | OK | ERROR | skipped | ||||||||||||||
| Package 19/80 | Hostname | OS / Arch | INSTALL | BUILD | CHECK | BUILD BIN | |||||||||||||
| EpiMix 1.13.0 (landing page) Yuanning Zheng
| nebbiolo1 | Linux (Ubuntu 24.04.3 LTS) / x86_64 | OK | OK | OK | ||||||||||||||
| Package 20/80 | Hostname | OS / Arch | INSTALL | BUILD | CHECK | BUILD BIN | |||||||||||||
| epimutacions 1.15.0 (landing page) Dolors Pelegri-Siso
| nebbiolo1 | Linux (Ubuntu 24.04.3 LTS) / x86_64 | ERROR | ERROR | skipped | ||||||||||||||
| Package 21/80 | Hostname | OS / Arch | INSTALL | BUILD | CHECK | BUILD BIN | |||||||||||||
| FRASER 2.7.0 (landing page) Christian Mertes
| nebbiolo1 | Linux (Ubuntu 24.04.3 LTS) / x86_64 | ERROR | ERROR | skipped | ||||||||||||||
| Package 22/80 | Hostname | OS / Arch | INSTALL | BUILD | CHECK | BUILD BIN | |||||||||||||
| GDCRNATools 1.31.0 (landing page) Ruidong Li
| nebbiolo1 | Linux (Ubuntu 24.04.3 LTS) / x86_64 | OK | OK | OK | ||||||||||||||
| Package 23/80 | Hostname | OS / Arch | INSTALL | BUILD | CHECK | BUILD BIN | |||||||||||||
| genefu 2.43.0 (landing page) Benjamin Haibe-Kains
| nebbiolo1 | Linux (Ubuntu 24.04.3 LTS) / x86_64 | OK | OK | WARNINGS | ||||||||||||||
| Package 24/80 | Hostname | OS / Arch | INSTALL | BUILD | CHECK | BUILD BIN | |||||||||||||
| GenomicOZone 1.25.0 (landing page) Hua Zhong
| nebbiolo1 | Linux (Ubuntu 24.04.3 LTS) / x86_64 | ERROR | ERROR | skipped | ||||||||||||||
| Package 25/80 | Hostname | OS / Arch | INSTALL | BUILD | CHECK | BUILD BIN | |||||||||||||
| GenVisR 1.43.0 (landing page) Zachary Skidmore
| nebbiolo1 | Linux (Ubuntu 24.04.3 LTS) / x86_64 | OK | OK | ERROR | ||||||||||||||
| Package 26/80 | Hostname | OS / Arch | INSTALL | BUILD | CHECK | BUILD BIN | |||||||||||||
| gINTomics 1.7.0 (landing page) Angelo Velle
| nebbiolo1 | Linux (Ubuntu 24.04.3 LTS) / x86_64 | ERROR | ERROR | skipped | ||||||||||||||
| Package 27/80 | Hostname | OS / Arch | INSTALL | BUILD | CHECK | BUILD BIN | |||||||||||||
| glmSparseNet 1.29.0 (landing page) André Veríssimo
| nebbiolo1 | Linux (Ubuntu 24.04.3 LTS) / x86_64 | OK | ERROR | skipped | ||||||||||||||
| Package 28/80 | Hostname | OS / Arch | INSTALL | BUILD | CHECK | BUILD BIN | |||||||||||||
| GOexpress 1.45.0 (landing page) Kevin Rue-Albrecht
| nebbiolo1 | Linux (Ubuntu 24.04.3 LTS) / x86_64 | OK | OK | OK | ||||||||||||||
| Package 29/80 | Hostname | OS / Arch | INSTALL | BUILD | CHECK | BUILD BIN | |||||||||||||
| goSTAG 1.35.0 (landing page) Brian D. Bennett
| nebbiolo1 | Linux (Ubuntu 24.04.3 LTS) / x86_64 | OK | OK | OK | ||||||||||||||
| Package 30/80 | Hostname | OS / Arch | INSTALL | BUILD | CHECK | BUILD BIN | |||||||||||||
| GRaNIE 1.15.0 (landing page) Christian Arnold
| nebbiolo1 | Linux (Ubuntu 24.04.3 LTS) / x86_64 | OK | OK | ERROR | ||||||||||||||
| Package 31/80 | Hostname | OS / Arch | INSTALL | BUILD | CHECK | BUILD BIN | |||||||||||||
| Gviz 1.55.0 (landing page) Robert Ivanek
| nebbiolo1 | Linux (Ubuntu 24.04.3 LTS) / x86_64 | OK | ERROR | skipped | ||||||||||||||
| Package 32/80 | Hostname | OS / Arch | INSTALL | BUILD | CHECK | BUILD BIN | |||||||||||||
| hermes 1.15.0 (landing page) Daniel Sabanés Bové
| nebbiolo1 | Linux (Ubuntu 24.04.3 LTS) / x86_64 | OK | OK | OK | ||||||||||||||
| Package 33/80 | Hostname | OS / Arch | INSTALL | BUILD | CHECK | BUILD BIN | |||||||||||||
| InterCellar 2.17.0 (landing page) Marta Interlandi
| nebbiolo1 | Linux (Ubuntu 24.04.3 LTS) / x86_64 | OK | OK | OK | ||||||||||||||
| Package 34/80 | Hostname | OS / Arch | INSTALL | BUILD | CHECK | BUILD BIN | |||||||||||||
| isobar 1.57.0 (landing page) Florian P Breitwieser
| nebbiolo1 | Linux (Ubuntu 24.04.3 LTS) / x86_64 | OK | OK | WARNINGS | ||||||||||||||
| Package 35/80 | Hostname | OS / Arch | INSTALL | BUILD | CHECK | BUILD BIN | |||||||||||||
| LACE 2.15.0 (landing page) Davide Maspero
| nebbiolo1 | Linux (Ubuntu 24.04.3 LTS) / x86_64 | OK | OK | OK | ||||||||||||||
| Package 36/80 | Hostname | OS / Arch | INSTALL | BUILD | CHECK | BUILD BIN | |||||||||||||
| mCSEA 1.31.0 (landing page) Jordi Martorell-Marugán
| nebbiolo1 | Linux (Ubuntu 24.04.3 LTS) / x86_64 | ERROR | ERROR | skipped | ||||||||||||||
| Package 37/80 | Hostname | OS / Arch | INSTALL | BUILD | CHECK | BUILD BIN | |||||||||||||
| MEDIPS 1.63.0 (landing page) Lukas Chavez
| nebbiolo1 | Linux (Ubuntu 24.04.3 LTS) / x86_64 | OK | ERROR | skipped | ||||||||||||||
| Package 38/80 | Hostname | OS / Arch | INSTALL | BUILD | CHECK | BUILD BIN | |||||||||||||
| MetaboSignal 1.41.0 (landing page) Andrea Rodriguez-Martinez
| nebbiolo1 | Linux (Ubuntu 24.04.3 LTS) / x86_64 | ERROR | ERROR | skipped | ||||||||||||||
| Package 39/80 | Hostname | OS / Arch | INSTALL | BUILD | CHECK | BUILD BIN | |||||||||||||
| metaseqR2 1.23.0 (landing page) Panagiotis Moulos
| nebbiolo1 | Linux (Ubuntu 24.04.3 LTS) / x86_64 | OK | OK | OK | ||||||||||||||
| Package 40/80 | Hostname | OS / Arch | INSTALL | BUILD | CHECK | BUILD BIN | |||||||||||||
| MGFR 1.37.0 (landing page) Khadija El Amrani
| nebbiolo1 | Linux (Ubuntu 24.04.3 LTS) / x86_64 | OK | ERROR | skipped | ||||||||||||||
| Package 41/80 | Hostname | OS / Arch | INSTALL | BUILD | CHECK | BUILD BIN | |||||||||||||
| MineICA 1.51.0 (landing page) Anne Biton
| nebbiolo1 | Linux (Ubuntu 24.04.3 LTS) / x86_64 | ERROR | ERROR | skipped | ||||||||||||||
| Package 42/80 | Hostname | OS / Arch | INSTALL | BUILD | CHECK | BUILD BIN | |||||||||||||
| motifbreakR 2.25.0 (landing page) Simon Gert Coetzee
| nebbiolo1 | Linux (Ubuntu 24.04.3 LTS) / x86_64 | OK | ERROR | skipped | ||||||||||||||
| Package 43/80 | Hostname | OS / Arch | INSTALL | BUILD | CHECK | BUILD BIN | |||||||||||||
| MouseFM 1.21.0 (landing page) Matthias Munz
| nebbiolo1 | Linux (Ubuntu 24.04.3 LTS) / x86_64 | OK | OK | OK | ||||||||||||||
| Package 44/80 | Hostname | OS / Arch | INSTALL | BUILD | CHECK | BUILD BIN | |||||||||||||
| NetSAM 1.51.0 (landing page) Zhiao Shi
| nebbiolo1 | Linux (Ubuntu 24.04.3 LTS) / x86_64 | OK | OK | ERROR | ||||||||||||||
| Package 45/80 | Hostname | OS / Arch | INSTALL | BUILD | CHECK | BUILD BIN | |||||||||||||
| NoRCE 1.23.0 (landing page) Gulden Olgun
| nebbiolo1 | Linux (Ubuntu 24.04.3 LTS) / x86_64 | ERROR | ERROR | skipped | ||||||||||||||
| Package 46/80 | Hostname | OS / Arch | INSTALL | BUILD | CHECK | BUILD BIN | |||||||||||||
| OncoScore 1.39.0 (landing page) Luca De Sano
| nebbiolo1 | Linux (Ubuntu 24.04.3 LTS) / x86_64 | OK | OK | OK | ||||||||||||||
| Package 47/80 | Hostname | OS / Arch | INSTALL | BUILD | CHECK | BUILD BIN | |||||||||||||
| oposSOM 2.29.0 (landing page) Henry Loeffler-Wirth
| nebbiolo1 | Linux (Ubuntu 24.04.3 LTS) / x86_64 | OK | OK | WARNINGS | ||||||||||||||
| Package 48/80 | Hostname | OS / Arch | INSTALL | BUILD | CHECK | BUILD BIN | |||||||||||||
| ORFik 1.31.0 (landing page) Haakon Tjeldnes
| nebbiolo1 | Linux (Ubuntu 24.04.3 LTS) / x86_64 | OK | ERROR | skipped | ||||||||||||||
| Package 49/80 | Hostname | OS / Arch | INSTALL | BUILD | CHECK | BUILD BIN | |||||||||||||
| pcaExplorer 3.5.0 (landing page) Federico Marini
| nebbiolo1 | Linux (Ubuntu 24.04.3 LTS) / x86_64 | OK | OK | OK | ||||||||||||||
| Package 50/80 | Hostname | OS / Arch | INSTALL | BUILD | CHECK | BUILD BIN | |||||||||||||
| phenoTest 1.59.0 (landing page) Evarist Planet
| nebbiolo1 | Linux (Ubuntu 24.04.3 LTS) / x86_64 | ERROR | ERROR | skipped | ||||||||||||||
| Package 51/80 | Hostname | OS / Arch | INSTALL | BUILD | CHECK | BUILD BIN | |||||||||||||
| PPInfer 1.37.0 (landing page) Dongmin Jung
| nebbiolo1 | Linux (Ubuntu 24.04.3 LTS) / x86_64 | OK | OK | OK | ||||||||||||||
| Package 52/80 | Hostname | OS / Arch | INSTALL | BUILD | CHECK | BUILD BIN | |||||||||||||
| pRoloc 1.51.0 (landing page) Lisa Breckels
| nebbiolo1 | Linux (Ubuntu 24.04.3 LTS) / x86_64 | OK | OK | WARNINGS | ||||||||||||||
| Package 53/80 | Hostname | OS / Arch | INSTALL | BUILD | CHECK | BUILD BIN | |||||||||||||
| ProteoMM 1.29.0 (landing page) Yuliya V Karpievitch
| nebbiolo1 | Linux (Ubuntu 24.04.3 LTS) / x86_64 | OK | OK | OK | ||||||||||||||
| Package 54/80 | Hostname | OS / Arch | INSTALL | BUILD | CHECK | BUILD BIN | |||||||||||||
| R453Plus1Toolbox 1.61.0 (landing page) Hans-Ulrich Klein
| nebbiolo1 | Linux (Ubuntu 24.04.3 LTS) / x86_64 | OK | ERROR | skipped | ||||||||||||||
| Package 55/80 | Hostname | OS / Arch | INSTALL | BUILD | CHECK | BUILD BIN | |||||||||||||
| ramwas 1.35.0 (landing page) Andrey A Shabalin
| nebbiolo1 | Linux (Ubuntu 24.04.3 LTS) / x86_64 | OK | ERROR | skipped | ||||||||||||||
| Package 56/80 | Hostname | OS / Arch | INSTALL | BUILD | CHECK | BUILD BIN | |||||||||||||
| recoup 1.39.0 (landing page) Panagiotis Moulos
| nebbiolo1 | Linux (Ubuntu 24.04.3 LTS) / x86_64 | OK | OK | OK | ||||||||||||||
| Package 57/80 | Hostname | OS / Arch | INSTALL | BUILD | CHECK | BUILD BIN | |||||||||||||
| ReducedExperiment 1.3.0 (landing page) Jack Gisby
| nebbiolo1 | Linux (Ubuntu 24.04.3 LTS) / x86_64 | OK | OK | OK | ||||||||||||||
| Package 58/80 | Hostname | OS / Arch | INSTALL | BUILD | CHECK | BUILD BIN | |||||||||||||
| RepViz 1.27.0 (landing page) Thomas Faux, Asta Laiho
| nebbiolo1 | Linux (Ubuntu 24.04.3 LTS) / x86_64 | OK | ERROR | skipped | ||||||||||||||
| Package 59/80 | Hostname | OS / Arch | INSTALL | BUILD | CHECK | BUILD BIN | |||||||||||||
| rgsepd 1.43.0 (landing page) Karl Stamm
| nebbiolo1 | Linux (Ubuntu 24.04.3 LTS) / x86_64 | OK | OK | OK | ||||||||||||||
| Package 60/80 | Hostname | OS / Arch | INSTALL | BUILD | CHECK | BUILD BIN | |||||||||||||
| RnaSeqSampleSize 2.21.0 (landing page) Shilin Zhao Developer
| nebbiolo1 | Linux (Ubuntu 24.04.3 LTS) / x86_64 | OK | OK | OK | ||||||||||||||
| Package 61/80 | Hostname | OS / Arch | INSTALL | BUILD | CHECK | BUILD BIN | |||||||||||||
| scafari 1.1.0 (landing page) Sophie Wind
| nebbiolo1 | Linux (Ubuntu 24.04.3 LTS) / x86_64 | ERROR | ERROR | skipped | ||||||||||||||
| Package 62/80 | Hostname | OS / Arch | INSTALL | BUILD | CHECK | BUILD BIN | |||||||||||||
| scPipe 2.11.0 (landing page) Shian Su
| nebbiolo1 | Linux (Ubuntu 24.04.3 LTS) / x86_64 | ERROR | ERROR | skipped | ||||||||||||||
| Package 63/80 | Hostname | OS / Arch | INSTALL | BUILD | CHECK | BUILD BIN | |||||||||||||
| scQTLtools 1.3.0 (landing page) Xiaofeng Wu
| nebbiolo1 | Linux (Ubuntu 24.04.3 LTS) / x86_64 | OK | OK | ERROR | ||||||||||||||
| Package 64/80 | Hostname | OS / Arch | INSTALL | BUILD | CHECK | BUILD BIN | |||||||||||||
| seq2pathway 1.43.0 (landing page) Arjun Kinstlick
| nebbiolo1 | Linux (Ubuntu 24.04.3 LTS) / x86_64 | OK | OK | ERROR | ||||||||||||||
| Package 65/80 | Hostname | OS / Arch | INSTALL | BUILD | CHECK | BUILD BIN | |||||||||||||
| SeqGSEA 1.51.0 (landing page) Xi Wang
| nebbiolo1 | Linux (Ubuntu 24.04.3 LTS) / x86_64 | OK | OK | OK | ||||||||||||||
| Package 66/80 | Hostname | OS / Arch | INSTALL | BUILD | CHECK | BUILD BIN | |||||||||||||
| sitadela 1.19.0 (landing page) Panagiotis Moulos
| nebbiolo1 | Linux (Ubuntu 24.04.3 LTS) / x86_64 | OK | OK | OK | ||||||||||||||
| Package 67/80 | Hostname | OS / Arch | INSTALL | BUILD | CHECK | BUILD BIN | |||||||||||||
| SPLINTER 1.37.0 (landing page) Diana Low
| nebbiolo1 | Linux (Ubuntu 24.04.3 LTS) / x86_64 | ERROR | ERROR | skipped | ||||||||||||||
| Package 68/80 | Hostname | OS / Arch | INSTALL | BUILD | CHECK | BUILD BIN | |||||||||||||
| SPONGE 1.33.0 (landing page) Markus List
| nebbiolo1 | Linux (Ubuntu 24.04.3 LTS) / x86_64 | OK | OK | WARNINGS | ||||||||||||||
| Package 69/80 | Hostname | OS / Arch | INSTALL | BUILD | CHECK | BUILD BIN | |||||||||||||
| surfaltr 1.17.0 (landing page) Pooja Gangras
| nebbiolo1 | Linux (Ubuntu 24.04.3 LTS) / x86_64 | OK | OK | OK | ||||||||||||||
| Package 70/80 | Hostname | OS / Arch | INSTALL | BUILD | CHECK | BUILD BIN | |||||||||||||
| SurfR 1.7.0 (landing page) Aurora Maurizio
| nebbiolo1 | Linux (Ubuntu 24.04.3 LTS) / x86_64 | OK | OK | OK | ||||||||||||||
| Package 71/80 | Hostname | OS / Arch | INSTALL | BUILD | CHECK | BUILD BIN | |||||||||||||
| SWATH2stats 1.41.0 (landing page) Peter Blattmann
| nebbiolo1 | Linux (Ubuntu 24.04.3 LTS) / x86_64 | OK | OK | OK | ||||||||||||||
| Package 72/80 | Hostname | OS / Arch | INSTALL | BUILD | CHECK | BUILD BIN | |||||||||||||
| TCGAbiolinks 2.39.0 (landing page) Tiago Chedraoui Silva
| nebbiolo1 | Linux (Ubuntu 24.04.3 LTS) / x86_64 | OK | OK | WARNINGS | ||||||||||||||
| Package 73/80 | Hostname | OS / Arch | INSTALL | BUILD | CHECK | BUILD BIN | |||||||||||||
| TEKRABber 1.15.0 (landing page) Yao-Chung Chen
| nebbiolo1 | Linux (Ubuntu 24.04.3 LTS) / x86_64 | OK | OK | OK | ||||||||||||||
| Package 74/80 | Hostname | OS / Arch | INSTALL | BUILD | CHECK | BUILD BIN | |||||||||||||
| terapadog 1.3.0 (landing page) Gionmattia Carancini
| nebbiolo1 | Linux (Ubuntu 24.04.3 LTS) / x86_64 | OK | OK | OK | ||||||||||||||
| Package 75/80 | Hostname | OS / Arch | INSTALL | BUILD | CHECK | BUILD BIN | |||||||||||||
| TFEA.ChIP 1.31.0 (landing page) Yosra Berrouayel
| nebbiolo1 | Linux (Ubuntu 24.04.3 LTS) / x86_64 | ERROR | ERROR | skipped | ||||||||||||||
| Package 76/80 | Hostname | OS / Arch | INSTALL | BUILD | CHECK | BUILD BIN | |||||||||||||
| transcriptogramer 1.33.0 (landing page) Diego Morais
| nebbiolo1 | Linux (Ubuntu 24.04.3 LTS) / x86_64 | OK | OK | OK | ||||||||||||||
| Package 77/80 | Hostname | OS / Arch | INSTALL | BUILD | CHECK | BUILD BIN | |||||||||||||
| txdbmaker 1.7.0 (landing page) H. Pagès
| nebbiolo1 | Linux (Ubuntu 24.04.3 LTS) / x86_64 | OK | ERROR | skipped | ||||||||||||||
| Package 78/80 | Hostname | OS / Arch | INSTALL | BUILD | CHECK | BUILD BIN | |||||||||||||
| VegaMC 3.49.0 (landing page) Sandro Morganella
| nebbiolo1 | Linux (Ubuntu 24.04.3 LTS) / x86_64 | OK | OK | WARNINGS | ||||||||||||||
| Package 79/80 | Hostname | OS / Arch | INSTALL | BUILD | CHECK | BUILD BIN | |||||||||||||
| ViSEAGO 1.25.0 (landing page) Aurelien Brionne
| nebbiolo1 | Linux (Ubuntu 24.04.3 LTS) / x86_64 | OK | OK | ERROR | ||||||||||||||
| Package 80/80 | Hostname | OS / Arch | INSTALL | BUILD | CHECK | BUILD BIN | |||||||||||||
| yarn 1.37.0 (landing page) Joseph N Paulson
| nebbiolo1 | Linux (Ubuntu 24.04.3 LTS) / x86_64 | OK | OK | OK | ||||||||||||||