| Back to Build/check report for BioC 3.23: simplified long |
|
This page was generated on 2025-11-01 11:32 -0400 (Sat, 01 Nov 2025).
| Hostname | OS | Arch (*) | R version | Installed pkgs |
|---|---|---|---|---|
| nebbiolo1 | Linux (Ubuntu 24.04.3 LTS) | x86_64 | R Under development (unstable) (2025-10-20 r88955) -- "Unsuffered Consequences" | 4774 |
| Click on any hostname to see more info about the system (e.g. compilers) (*) as reported by 'uname -p', except on Windows and Mac OS X | ||||
| Package 126/2321 | Hostname | OS / Arch | INSTALL | BUILD | CHECK | BUILD BIN | ||||||||
| BadRegionFinder 1.39.0 (landing page) Sarah Sandmann
| nebbiolo1 | Linux (Ubuntu 24.04.3 LTS) / x86_64 | OK | OK | OK | |||||||||
|
To the developers/maintainers of the BadRegionFinder package: - Allow up to 24 hours (and sometimes 48 hours) for your latest push to git@git.bioconductor.org:packages/BadRegionFinder.git to reflect on this report. See Troubleshooting Build Report for more information. - Use the following Renviron settings to reproduce errors and warnings. - If 'R CMD check' started to fail recently on the Linux builder(s) over a missing dependency, add the missing dependency to 'Suggests:' in your DESCRIPTION file. See Renviron.bioc for more information. |
| Package: BadRegionFinder |
| Version: 1.39.0 |
| Command: /home/biocbuild/bbs-3.23-bioc/R/bin/R CMD check --install=check:BadRegionFinder.install-out.txt --library=/home/biocbuild/bbs-3.23-bioc/R/site-library --timings BadRegionFinder_1.39.0.tar.gz |
| StartedAt: 2025-10-31 21:12:23 -0400 (Fri, 31 Oct 2025) |
| EndedAt: 2025-10-31 21:17:37 -0400 (Fri, 31 Oct 2025) |
| EllapsedTime: 314.3 seconds |
| RetCode: 0 |
| Status: OK |
| CheckDir: BadRegionFinder.Rcheck |
| Warnings: 0 |
##############################################################################
##############################################################################
###
### Running command:
###
### /home/biocbuild/bbs-3.23-bioc/R/bin/R CMD check --install=check:BadRegionFinder.install-out.txt --library=/home/biocbuild/bbs-3.23-bioc/R/site-library --timings BadRegionFinder_1.39.0.tar.gz
###
##############################################################################
##############################################################################
* using log directory ‘/home/biocbuild/bbs-3.23-bioc/meat/BadRegionFinder.Rcheck’
* using R Under development (unstable) (2025-10-20 r88955)
* using platform: x86_64-pc-linux-gnu
* R was compiled by
gcc (Ubuntu 13.3.0-6ubuntu2~24.04) 13.3.0
GNU Fortran (Ubuntu 13.3.0-6ubuntu2~24.04) 13.3.0
* running under: Ubuntu 24.04.3 LTS
* using session charset: UTF-8
* checking for file ‘BadRegionFinder/DESCRIPTION’ ... OK
* checking extension type ... Package
* this is package ‘BadRegionFinder’ version ‘1.39.0’
* checking package namespace information ... OK
* checking package dependencies ... OK
* checking if this is a source package ... OK
* checking if there is a namespace ... OK
* checking for hidden files and directories ... OK
* checking for portable file names ... OK
* checking for sufficient/correct file permissions ... OK
* checking whether package ‘BadRegionFinder’ can be installed ... OK
* checking installed package size ... OK
* checking package directory ... OK
* checking ‘build’ directory ... OK
* checking DESCRIPTION meta-information ... OK
* checking top-level files ... OK
* checking for left-over files ... OK
* checking index information ... OK
* checking package subdirectories ... OK
* checking code files for non-ASCII characters ... OK
* checking R files for syntax errors ... OK
* checking whether the package can be loaded ... OK
* checking whether the package can be loaded with stated dependencies ... OK
* checking whether the package can be unloaded cleanly ... OK
* checking whether the namespace can be loaded with stated dependencies ... OK
* checking whether the namespace can be unloaded cleanly ... OK
* checking loading without being on the library search path ... OK
* checking dependencies in R code ... OK
* checking S3 generic/method consistency ... OK
* checking replacement functions ... OK
* checking foreign function calls ... OK
* checking R code for possible problems ... NOTE
determineCoverage: no visible global function definition for ‘path’
Undefined global functions or variables:
path
* checking Rd files ... OK
* checking Rd metadata ... OK
* checking Rd cross-references ... OK
* checking for missing documentation entries ... OK
* checking for code/documentation mismatches ... OK
* checking Rd \usage sections ... OK
* checking Rd contents ... OK
* checking for unstated dependencies in examples ... OK
* checking sizes of PDF files under ‘inst/doc’ ...* checking files in ‘vignettes’ ... OK
* checking examples ... OK
Examples with CPU (user + system) or elapsed time > 5s
user system elapsed
plotDetailed 6.948 0.39 12.05
* checking for unstated dependencies in vignettes ... OK
* checking package vignettes ... OK
* checking re-building of vignette outputs ... OK
* checking PDF version of manual ... OK
* DONE
Status: 1 NOTE
See
‘/home/biocbuild/bbs-3.23-bioc/meat/BadRegionFinder.Rcheck/00check.log’
for details.
BadRegionFinder.Rcheck/00install.out
############################################################################## ############################################################################## ### ### Running command: ### ### /home/biocbuild/bbs-3.23-bioc/R/bin/R CMD INSTALL BadRegionFinder ### ############################################################################## ############################################################################## * installing to library ‘/home/biocbuild/bbs-3.23-bioc/R/site-library’ * installing *source* package ‘BadRegionFinder’ ... ** this is package ‘BadRegionFinder’ version ‘1.39.0’ ** using staged installation ** R ** inst ** byte-compile and prepare package for lazy loading ** help *** installing help indices ** building package indices ** installing vignettes ** testing if installed package can be loaded from temporary location ** testing if installed package can be loaded from final location ** testing if installed package keeps a record of temporary installation path * DONE (BadRegionFinder)
BadRegionFinder.Rcheck/BadRegionFinder-Ex.timings
| name | user | system | elapsed | |
| BadRegionFinder-package | 0.147 | 0.014 | 0.161 | |
| determineCoverage | 0.002 | 0.001 | 0.003 | |
| determineCoverageQuality | 0.002 | 0.000 | 0.004 | |
| determineQuantiles | 0.127 | 0.005 | 0.133 | |
| determineRegionsOfInterest | 0.003 | 0.000 | 0.003 | |
| plotDetailed | 6.948 | 0.390 | 12.050 | |
| plotSummary | 0.147 | 0.009 | 0.155 | |
| plotSummaryGenes | 2.580 | 0.101 | 3.408 | |
| reportBadRegionsDetailed | 0.147 | 0.006 | 0.153 | |
| reportBadRegionsGenes | 0.135 | 0.007 | 0.142 | |
| reportBadRegionsSummary | 0.137 | 0.014 | 0.151 | |