| Back to Build/check report for BioC 3.23: simplified long | 
  | 
This page was generated on 2025-11-03 11:33 -0500 (Mon, 03 Nov 2025).
| Hostname | OS | Arch (*) | R version | Installed pkgs | 
|---|---|---|---|---|
| nebbiolo1 | Linux (Ubuntu 24.04.3 LTS) | x86_64 | R Under development (unstable) (2025-10-20 r88955) -- "Unsuffered Consequences" | 4775 | 
| Click on any hostname to see more info about the system (e.g. compilers) (*) as reported by 'uname -p', except on Windows and Mac OS X | ||||
| Package 1607/2321 | Hostname | OS / Arch | INSTALL | BUILD | CHECK | BUILD BIN | ||||||||
| PPInfer 1.37.0  (landing page) Dongmin Jung 
  | nebbiolo1 | Linux (Ubuntu 24.04.3 LTS) / x86_64 | OK | OK | OK | |||||||||
| 
To the developers/maintainers of the PPInfer package: - Allow up to 24 hours (and sometimes 48 hours) for your latest push to git@git.bioconductor.org:packages/PPInfer.git to reflect on this report. See Troubleshooting Build Report for more information. - Use the following Renviron settings to reproduce errors and warnings. - If 'R CMD check' started to fail recently on the Linux builder(s) over a missing dependency, add the missing dependency to 'Suggests:' in your DESCRIPTION file. See Renviron.bioc for more information.  | 
| Package: PPInfer | 
| Version: 1.37.0 | 
| Command: /home/biocbuild/bbs-3.23-bioc/R/bin/R CMD check --install=check:PPInfer.install-out.txt --library=/home/biocbuild/bbs-3.23-bioc/R/site-library --timings PPInfer_1.37.0.tar.gz | 
| StartedAt: 2025-11-03 02:16:17 -0500 (Mon, 03 Nov 2025) | 
| EndedAt: 2025-11-03 02:23:06 -0500 (Mon, 03 Nov 2025) | 
| EllapsedTime: 408.5 seconds | 
| RetCode: 0 | 
| Status: OK | 
| CheckDir: PPInfer.Rcheck | 
| Warnings: 0 | 
##############################################################################
##############################################################################
###
### Running command:
###
###   /home/biocbuild/bbs-3.23-bioc/R/bin/R CMD check --install=check:PPInfer.install-out.txt --library=/home/biocbuild/bbs-3.23-bioc/R/site-library --timings PPInfer_1.37.0.tar.gz
###
##############################################################################
##############################################################################
* using log directory ‘/home/biocbuild/bbs-3.23-bioc/meat/PPInfer.Rcheck’
* using R Under development (unstable) (2025-10-20 r88955)
* using platform: x86_64-pc-linux-gnu
* R was compiled by
    gcc (Ubuntu 13.3.0-6ubuntu2~24.04) 13.3.0
    GNU Fortran (Ubuntu 13.3.0-6ubuntu2~24.04) 13.3.0
* running under: Ubuntu 24.04.3 LTS
* using session charset: UTF-8
* checking for file ‘PPInfer/DESCRIPTION’ ... OK
* checking extension type ... Package
* this is package ‘PPInfer’ version ‘1.37.0’
* checking package namespace information ... OK
* checking package dependencies ... INFO
Depends: includes the non-default packages:
  'biomaRt', 'fgsea', 'kernlab', 'ggplot2', 'igraph', 'STRINGdb',
  'yeastExpData'
Adding so many packages to the search path is excessive and importing
selectively is preferable.
* checking if this is a source package ... OK
* checking if there is a namespace ... OK
* checking for hidden files and directories ... OK
* checking for portable file names ... OK
* checking for sufficient/correct file permissions ... OK
* checking whether package ‘PPInfer’ can be installed ... OK
* checking installed package size ... OK
* checking package directory ... OK
* checking ‘build’ directory ... OK
* checking DESCRIPTION meta-information ... OK
* checking top-level files ... OK
* checking for left-over files ... OK
* checking index information ... OK
* checking package subdirectories ... OK
* checking code files for non-ASCII characters ... OK
* checking R files for syntax errors ... OK
* checking whether the package can be loaded ... OK
* checking whether the package can be loaded with stated dependencies ... OK
* checking whether the package can be unloaded cleanly ... OK
* checking whether the namespace can be loaded with stated dependencies ... OK
* checking whether the namespace can be unloaded cleanly ... OK
* checking loading without being on the library search path ... OK
* checking dependencies in R code ... OK
* checking S3 generic/method consistency ... OK
* checking replacement functions ... OK
* checking foreign function calls ... OK
* checking R code for possible problems ... OK
* checking Rd files ... OK
* checking Rd metadata ... OK
* checking Rd cross-references ... OK
* checking for missing documentation entries ... OK
* checking for code/documentation mismatches ... OK
* checking Rd \usage sections ... OK
* checking Rd contents ... OK
* checking for unstated dependencies in examples ... OK
* checking sizes of PDF files under ‘inst/doc’ ...* checking installed files from ‘inst/doc’ ... OK
* checking files in ‘vignettes’ ... OK
* checking examples ... OK
Examples with CPU (user + system) or elapsed time > 5s
                  user system elapsed
ppi.infer.human 34.085  2.119  96.475
ppi.infer.mouse 27.228  1.861  88.413
ORA.barplot      1.774  0.097  16.246
ORA              1.608  0.139  16.121
* checking for unstated dependencies in vignettes ... OK
* checking package vignettes ... OK
* checking re-building of vignette outputs ... OK
* checking PDF version of manual ... OK
* DONE
Status: OK
PPInfer.Rcheck/00install.out
############################################################################## ############################################################################## ### ### Running command: ### ### /home/biocbuild/bbs-3.23-bioc/R/bin/R CMD INSTALL PPInfer ### ############################################################################## ############################################################################## * installing to library ‘/home/biocbuild/bbs-3.23-bioc/R/site-library’ * installing *source* package ‘PPInfer’ ... ** this is package ‘PPInfer’ version ‘1.37.0’ ** using staged installation ** R ** inst ** byte-compile and prepare package for lazy loading ** help *** installing help indices ** building package indices ** installing vignettes ** testing if installed package can be loaded from temporary location ** testing if installed package can be loaded from final location ** testing if installed package keeps a record of temporary installation path * DONE (PPInfer)
PPInfer.Rcheck/PPInfer-Ex.timings
| name | user | system | elapsed | |
| GSEA.barplot | 4.258 | 0.242 | 4.460 | |
| ORA | 1.608 | 0.139 | 16.121 | |
| ORA.barplot | 1.774 | 0.097 | 16.246 | |
| enrich.net | 2.001 | 0.199 | 2.156 | |
| net.infer | 1.748 | 0.085 | 1.833 | |
| net.infer.ST | 0.080 | 0.006 | 0.086 | |
| net.kernel | 0.031 | 0.004 | 0.035 | |
| ppi.infer.human | 34.085 | 2.119 | 96.475 | |
| ppi.infer.mouse | 27.228 | 1.861 | 88.413 | |
| self.train.kernel | 0.060 | 0.012 | 0.073 | |