| Back to Multiple platform build/check report for BioC 3.22: simplified long |
|
This page was generated on 2025-10-24 12:06 -0400 (Fri, 24 Oct 2025).
| Hostname | OS | Arch (*) | R version | Installed pkgs |
|---|---|---|---|---|
| nebbiolo2 | Linux (Ubuntu 24.04.3 LTS) | x86_64 | 4.5.1 Patched (2025-08-23 r88802) -- "Great Square Root" | 4898 |
| lconway | macOS 12.7.6 Monterey | x86_64 | 4.5.1 Patched (2025-09-10 r88807) -- "Great Square Root" | 4688 |
| kjohnson3 | macOS 13.7.7 Ventura | arm64 | 4.5.1 Patched (2025-09-10 r88807) -- "Great Square Root" | 4634 |
| taishan | Linux (openEuler 24.03 LTS) | aarch64 | 4.5.0 (2025-04-11) -- "How About a Twenty-Six" | 4658 |
| Click on any hostname to see more info about the system (e.g. compilers) (*) as reported by 'uname -p', except on Windows and Mac OS X | ||||
| Package 919/2359 | Hostname | OS / Arch | INSTALL | BUILD | CHECK | BUILD BIN | ||||||||
| GRaNIE 1.13.0 (landing page) Christian Arnold
| nebbiolo2 | Linux (Ubuntu 24.04.3 LTS) / x86_64 | OK | OK | OK | |||||||||
| lconway | macOS 12.7.6 Monterey / x86_64 | OK | OK | OK | OK | |||||||||
| kjohnson3 | macOS 13.7.7 Ventura / arm64 | OK | OK | OK | OK | |||||||||
| taishan | Linux (openEuler 24.03 LTS) / aarch64 | OK | OK | NA | ||||||||||
|
To the developers/maintainers of the GRaNIE package: - Allow up to 24 hours (and sometimes 48 hours) for your latest push to git@git.bioconductor.org:packages/GRaNIE.git to reflect on this report. See Troubleshooting Build Report for more information. - Use the following Renviron settings to reproduce errors and warnings. - If 'R CMD check' started to fail recently on the Linux builder(s) over a missing dependency, add the missing dependency to 'Suggests:' in your DESCRIPTION file. See Renviron.bioc for more information. |
| Package: GRaNIE |
| Version: 1.13.0 |
| Command: /Library/Frameworks/R.framework/Resources/bin/R CMD check --install=check:GRaNIE.install-out.txt --library=/Library/Frameworks/R.framework/Resources/library --no-vignettes --timings GRaNIE_1.13.0.tar.gz |
| StartedAt: 2025-10-23 20:11:42 -0400 (Thu, 23 Oct 2025) |
| EndedAt: 2025-10-23 20:14:54 -0400 (Thu, 23 Oct 2025) |
| EllapsedTime: 192.4 seconds |
| RetCode: 0 |
| Status: OK |
| CheckDir: GRaNIE.Rcheck |
| Warnings: 0 |
##############################################################################
##############################################################################
###
### Running command:
###
### /Library/Frameworks/R.framework/Resources/bin/R CMD check --install=check:GRaNIE.install-out.txt --library=/Library/Frameworks/R.framework/Resources/library --no-vignettes --timings GRaNIE_1.13.0.tar.gz
###
##############################################################################
##############################################################################
* using log directory ‘/Users/biocbuild/bbs-3.22-bioc/meat/GRaNIE.Rcheck’
* using R version 4.5.1 Patched (2025-09-10 r88807)
* using platform: aarch64-apple-darwin20
* R was compiled by
Apple clang version 16.0.0 (clang-1600.0.26.6)
GNU Fortran (GCC) 14.2.0
* running under: macOS Ventura 13.7.7
* using session charset: UTF-8
* using option ‘--no-vignettes’
* checking for file ‘GRaNIE/DESCRIPTION’ ... OK
* this is package ‘GRaNIE’ version ‘1.13.0’
* package encoding: UTF-8
* checking package namespace information ... OK
* checking package dependencies ... INFO
Imports includes 37 non-default packages.
Importing from so many packages makes the package vulnerable to any of
them becoming unavailable. Move as many as possible to Suggests and
use conditionally.
* checking if this is a source package ... OK
* checking if there is a namespace ... OK
* checking for hidden files and directories ... OK
* checking for portable file names ... OK
* checking for sufficient/correct file permissions ... OK
* checking whether package ‘GRaNIE’ can be installed ... OK
* checking installed package size ... OK
* checking package directory ... OK
* checking ‘build’ directory ... OK
* checking DESCRIPTION meta-information ... OK
* checking top-level files ... OK
* checking for left-over files ... OK
* checking index information ... OK
* checking package subdirectories ... OK
* checking code files for non-ASCII characters ... OK
* checking R files for syntax errors ... OK
* checking whether the package can be loaded ... OK
* checking whether the package can be loaded with stated dependencies ... OK
* checking whether the package can be unloaded cleanly ... OK
* checking whether the namespace can be loaded with stated dependencies ... OK
* checking whether the namespace can be unloaded cleanly ... OK
* checking whether startup messages can be suppressed ... OK
* checking dependencies in R code ... OK
* checking S3 generic/method consistency ... OK
* checking replacement functions ... OK
* checking foreign function calls ... OK
* checking R code for possible problems ... NOTE
.performIHW: no visible binding for global variable 'adj_pvalue'
Undefined global functions or variables:
adj_pvalue
* checking Rd files ... OK
* checking Rd metadata ... OK
* checking Rd cross-references ... OK
* checking for missing documentation entries ... OK
* checking for code/documentation mismatches ... OK
* checking Rd \usage sections ... OK
* checking Rd contents ... OK
* checking for unstated dependencies in examples ... OK
* checking files in ‘vignettes’ ... OK
* checking examples ... OK
Examples with CPU (user + system) or elapsed time > 5s
user system elapsed
addConnections_TF_peak 2.237 0.23 5.25
* checking for unstated dependencies in vignettes ... OK
* checking package vignettes ... OK
* checking running R code from vignettes ... SKIPPED
* checking re-building of vignette outputs ... SKIPPED
* checking PDF version of manual ... OK
* DONE
Status: 1 NOTE
See
‘/Users/biocbuild/bbs-3.22-bioc/meat/GRaNIE.Rcheck/00check.log’
for details.
GRaNIE.Rcheck/00install.out
############################################################################## ############################################################################## ### ### Running command: ### ### /Library/Frameworks/R.framework/Resources/bin/R CMD INSTALL GRaNIE ### ############################################################################## ############################################################################## * installing to library ‘/Library/Frameworks/R.framework/Versions/4.5-arm64/Resources/library’ * installing *source* package ‘GRaNIE’ ... ** this is package ‘GRaNIE’ version ‘1.13.0’ ** using staged installation ** R ** byte-compile and prepare package for lazy loading ** help *** installing help indices *** copying figures ** building package indices ** installing vignettes ** testing if installed package can be loaded from temporary location ** testing if installed package can be loaded from final location ** testing if installed package keeps a record of temporary installation path * DONE (GRaNIE)
GRaNIE.Rcheck/GRaNIE-Ex.timings
| name | user | system | elapsed | |
| AR_classification_wrapper | 0.000 | 0.000 | 0.001 | |
| addConnections_TF_peak | 2.237 | 0.230 | 5.250 | |
| addConnections_peak_gene | 1.261 | 0.022 | 2.028 | |
| addData | 0 | 0 | 0 | |
| addSNPData | 2.122 | 0.105 | 4.495 | |
| addTFBS | 0 | 0 | 0 | |
| add_TF_gene_correlation | 0.863 | 0.019 | 1.675 | |
| add_featureVariation | 0 | 0 | 0 | |
| build_eGRN_graph | 0.865 | 0.027 | 1.488 | |
| calculateCommunitiesEnrichment | 1.086 | 0.042 | 1.588 | |
| calculateCommunitiesStats | 0.857 | 0.027 | 1.294 | |
| calculateGeneralEnrichment | 0.890 | 0.018 | 1.307 | |
| calculateTFEnrichment | 0.947 | 0.018 | 1.383 | |
| changeOutputDirectory | 1.233 | 0.022 | 1.658 | |
| deleteIntermediateData | 0.762 | 0.017 | 1.178 | |
| filterConnectionsForPlotting | 0.848 | 0.023 | 1.334 | |
| filterData | 1.085 | 0.036 | 1.570 | |
| filterGRNAndConnectGenes | 0.854 | 0.020 | 1.313 | |
| generateStatsSummary | 2.413 | 0.074 | 2.946 | |
| getCounts | 1.360 | 0.032 | 1.865 | |
| getGRNConnections | 0.764 | 0.020 | 1.194 | |
| getGRNSummary | 1.018 | 0.027 | 1.823 | |
| getParameters | 0.938 | 0.022 | 1.811 | |
| getTopNodes | 0.975 | 0.025 | 1.971 | |
| initializeGRN | 0.005 | 0.001 | 0.006 | |
| loadExampleObject | 0.947 | 0.030 | 1.881 | |
| nGenes | 1.385 | 0.027 | 2.319 | |
| nPeaks | 0.910 | 0.024 | 1.726 | |
| nTFs | 0.864 | 0.023 | 1.729 | |
| overlapPeaksAndTFBS | 1.353 | 0.025 | 2.200 | |
| performAllNetworkAnalyses | 0 | 0 | 0 | |
| plotCommunitiesEnrichment | 1.371 | 0.055 | 2.391 | |
| plotCommunitiesStats | 1.479 | 0.028 | 2.313 | |
| plotCorrelations | 1.059 | 0.043 | 1.972 | |
| plotDiagnosticPlots_TFPeaks | 1.481 | 0.043 | 2.494 | |
| plotDiagnosticPlots_peakGene | 2.089 | 0.067 | 2.589 | |
| plotGeneralEnrichment | 0.876 | 0.020 | 1.304 | |
| plotGeneralGraphStats | 1.173 | 0.025 | 1.595 | |
| plotPCA_all | 1.101 | 0.051 | 1.566 | |
| plotTFEnrichment | 1.124 | 0.024 | 1.552 | |
| plot_stats_connectionSummary | 1.100 | 0.032 | 1.585 | |
| visualizeGRN | 1.853 | 0.053 | 2.405 | |