| Back to Multiple platform build/check report for BioC 3.23: simplified long |
|
This page was generated on 2025-11-21 11:37 -0500 (Fri, 21 Nov 2025).
| Hostname | OS | Arch (*) | R version | Installed pkgs |
|---|---|---|---|---|
| nebbiolo1 | Linux (Ubuntu 24.04.3 LTS) | x86_64 | R Under development (unstable) (2025-10-20 r88955) -- "Unsuffered Consequences" | 4829 |
| lconway | macOS 12.7.6 Monterey | x86_64 | R Under development (unstable) (2025-10-21 r88958) -- "Unsuffered Consequences" | 4602 |
| kjohnson3 | macOS 13.7.7 Ventura | arm64 | R Under development (unstable) (2025-11-04 r88984) -- "Unsuffered Consequences" | 4566 |
| Click on any hostname to see more info about the system (e.g. compilers) (*) as reported by 'uname -p', except on Windows and Mac OS X | ||||
| Package 911/2327 | Hostname | OS / Arch | INSTALL | BUILD | CHECK | BUILD BIN | ||||||||
| GRaNIE 1.15.0 (landing page) Christian Arnold
| nebbiolo1 | Linux (Ubuntu 24.04.3 LTS) / x86_64 | OK | OK | OK | |||||||||
| lconway | macOS 12.7.6 Monterey / x86_64 | OK | OK | OK | OK | |||||||||
| kjohnson3 | macOS 13.7.7 Ventura / arm64 | OK | OK | OK | OK | |||||||||
|
To the developers/maintainers of the GRaNIE package: - Allow up to 24 hours (and sometimes 48 hours) for your latest push to git@git.bioconductor.org:packages/GRaNIE.git to reflect on this report. See Troubleshooting Build Report for more information. - Use the following Renviron settings to reproduce errors and warnings. - If 'R CMD check' started to fail recently on the Linux builder(s) over a missing dependency, add the missing dependency to 'Suggests:' in your DESCRIPTION file. See Renviron.bioc for more information. |
| Package: GRaNIE |
| Version: 1.15.0 |
| Command: /home/biocbuild/bbs-3.23-bioc/R/bin/R CMD check --install=check:GRaNIE.install-out.txt --library=/home/biocbuild/bbs-3.23-bioc/R/site-library --timings GRaNIE_1.15.0.tar.gz |
| StartedAt: 2025-11-21 00:11:40 -0500 (Fri, 21 Nov 2025) |
| EndedAt: 2025-11-21 00:22:10 -0500 (Fri, 21 Nov 2025) |
| EllapsedTime: 630.1 seconds |
| RetCode: 0 |
| Status: OK |
| CheckDir: GRaNIE.Rcheck |
| Warnings: 0 |
##############################################################################
##############################################################################
###
### Running command:
###
### /home/biocbuild/bbs-3.23-bioc/R/bin/R CMD check --install=check:GRaNIE.install-out.txt --library=/home/biocbuild/bbs-3.23-bioc/R/site-library --timings GRaNIE_1.15.0.tar.gz
###
##############################################################################
##############################################################################
* using log directory ‘/home/biocbuild/bbs-3.23-bioc/meat/GRaNIE.Rcheck’
* using R Under development (unstable) (2025-10-20 r88955)
* using platform: x86_64-pc-linux-gnu
* R was compiled by
gcc (Ubuntu 13.3.0-6ubuntu2~24.04) 13.3.0
GNU Fortran (Ubuntu 13.3.0-6ubuntu2~24.04) 13.3.0
* running under: Ubuntu 24.04.3 LTS
* using session charset: UTF-8
* checking for file ‘GRaNIE/DESCRIPTION’ ... OK
* this is package ‘GRaNIE’ version ‘1.15.0’
* package encoding: UTF-8
* checking package namespace information ... OK
* checking package dependencies ... INFO
Imports includes 37 non-default packages.
Importing from so many packages makes the package vulnerable to any of
them becoming unavailable. Move as many as possible to Suggests and
use conditionally.
* checking if this is a source package ... OK
* checking if there is a namespace ... OK
* checking for hidden files and directories ... OK
* checking for portable file names ... OK
* checking for sufficient/correct file permissions ... OK
* checking whether package ‘GRaNIE’ can be installed ... OK
* checking installed package size ... OK
* checking package directory ... OK
* checking ‘build’ directory ... OK
* checking DESCRIPTION meta-information ... OK
* checking top-level files ... OK
* checking for left-over files ... OK
* checking index information ... OK
* checking package subdirectories ... OK
* checking code files for non-ASCII characters ... OK
* checking R files for syntax errors ... OK
* checking whether the package can be loaded ... OK
* checking whether the package can be loaded with stated dependencies ... OK
* checking whether the package can be unloaded cleanly ... OK
* checking whether the namespace can be loaded with stated dependencies ... OK
* checking whether the namespace can be unloaded cleanly ... OK
* checking loading without being on the library search path ... OK
* checking whether startup messages can be suppressed ... OK
* checking dependencies in R code ... OK
* checking S3 generic/method consistency ... OK
* checking replacement functions ... OK
* checking foreign function calls ... OK
* checking R code for possible problems ... NOTE
.performIHW: no visible binding for global variable 'adj_pvalue'
Undefined global functions or variables:
adj_pvalue
* checking Rd files ... OK
* checking Rd metadata ... OK
* checking Rd cross-references ... OK
* checking for missing documentation entries ... OK
* checking for code/documentation mismatches ... OK
* checking Rd \usage sections ... OK
* checking Rd contents ... OK
* checking for unstated dependencies in examples ... OK
* checking files in ‘vignettes’ ... OK
* checking examples ... OK
Examples with CPU (user + system) or elapsed time > 5s
user system elapsed
plotDiagnosticPlots_peakGene 8.623 0.772 10.292
addSNPData 6.635 0.775 9.276
plotPCA_all 5.614 0.704 7.810
plotCommunitiesStats 5.422 0.245 7.245
generateStatsSummary 5.321 0.281 6.018
plotGeneralGraphStats 4.922 0.375 6.628
plotDiagnosticPlots_TFPeaks 4.774 0.348 7.423
addConnections_TF_peak 4.451 0.532 7.730
nGenes 4.046 0.516 5.260
addConnections_peak_gene 3.964 0.398 5.091
plotCorrelations 3.749 0.221 5.807
* checking for unstated dependencies in vignettes ... OK
* checking package vignettes ... OK
* checking re-building of vignette outputs ... OK
* checking PDF version of manual ... OK
* DONE
Status: 1 NOTE
See
‘/home/biocbuild/bbs-3.23-bioc/meat/GRaNIE.Rcheck/00check.log’
for details.
GRaNIE.Rcheck/00install.out
############################################################################## ############################################################################## ### ### Running command: ### ### /home/biocbuild/bbs-3.23-bioc/R/bin/R CMD INSTALL GRaNIE ### ############################################################################## ############################################################################## * installing to library ‘/home/biocbuild/bbs-3.23-bioc/R/site-library’ * installing *source* package ‘GRaNIE’ ... ** this is package ‘GRaNIE’ version ‘1.15.0’ ** using staged installation ** R ** byte-compile and prepare package for lazy loading ** help *** installing help indices *** copying figures ** building package indices ** installing vignettes ** testing if installed package can be loaded from temporary location ** testing if installed package can be loaded from final location ** testing if installed package keeps a record of temporary installation path * DONE (GRaNIE)
GRaNIE.Rcheck/GRaNIE-Ex.timings
| name | user | system | elapsed | |
| AR_classification_wrapper | 0.000 | 0.000 | 0.001 | |
| addConnections_TF_peak | 4.451 | 0.532 | 7.730 | |
| addConnections_peak_gene | 3.964 | 0.398 | 5.091 | |
| addData | 0 | 0 | 0 | |
| addSNPData | 6.635 | 0.775 | 9.276 | |
| addTFBS | 0 | 0 | 0 | |
| add_TF_gene_correlation | 1.751 | 0.123 | 2.299 | |
| add_featureVariation | 0 | 0 | 0 | |
| build_eGRN_graph | 2.651 | 0.336 | 3.421 | |
| calculateCommunitiesEnrichment | 2.427 | 0.184 | 3.013 | |
| calculateCommunitiesStats | 1.764 | 0.118 | 2.302 | |
| calculateGeneralEnrichment | 1.913 | 0.125 | 2.456 | |
| calculateTFEnrichment | 2.140 | 0.182 | 2.723 | |
| changeOutputDirectory | 1.709 | 0.104 | 2.222 | |
| deleteIntermediateData | 1.711 | 0.073 | 2.203 | |
| filterConnectionsForPlotting | 1.967 | 0.153 | 2.543 | |
| filterData | 2.213 | 0.169 | 2.777 | |
| filterGRNAndConnectGenes | 1.762 | 0.109 | 2.297 | |
| generateStatsSummary | 5.321 | 0.281 | 6.018 | |
| getCounts | 2.757 | 0.343 | 3.536 | |
| getGRNConnections | 1.645 | 0.070 | 2.119 | |
| getGRNSummary | 2.285 | 0.198 | 2.890 | |
| getParameters | 2.018 | 0.116 | 2.673 | |
| getTopNodes | 3.165 | 0.164 | 4.447 | |
| initializeGRN | 0.020 | 0.002 | 0.022 | |
| loadExampleObject | 2.277 | 0.169 | 2.861 | |
| nGenes | 4.046 | 0.516 | 5.260 | |
| nPeaks | 2.810 | 0.130 | 3.917 | |
| nTFs | 2.258 | 0.172 | 2.835 | |
| overlapPeaksAndTFBS | 2.664 | 0.126 | 3.206 | |
| performAllNetworkAnalyses | 0.001 | 0.001 | 0.001 | |
| plotCommunitiesEnrichment | 3.954 | 0.302 | 4.737 | |
| plotCommunitiesStats | 5.422 | 0.245 | 7.245 | |
| plotCorrelations | 3.749 | 0.221 | 5.807 | |
| plotDiagnosticPlots_TFPeaks | 4.774 | 0.348 | 7.423 | |
| plotDiagnosticPlots_peakGene | 8.623 | 0.772 | 10.292 | |
| plotGeneralEnrichment | 2.456 | 0.143 | 3.076 | |
| plotGeneralGraphStats | 4.922 | 0.375 | 6.628 | |
| plotPCA_all | 5.614 | 0.704 | 7.810 | |
| plotTFEnrichment | 3.703 | 0.104 | 4.887 | |
| plot_stats_connectionSummary | 3.102 | 0.190 | 3.818 | |
| visualizeGRN | 2.921 | 0.205 | 3.542 | |