| Back to Build/check report for BioC 3.23: simplified long |
|
This page was generated on 2025-10-31 08:34 -0400 (Fri, 31 Oct 2025).
| Hostname | OS | Arch (*) | R version | Installed pkgs |
|---|---|---|---|---|
| nebbiolo1 | Linux (Ubuntu 24.04.3 LTS) | x86_64 | R Under development (unstable) (2025-10-20 r88955) -- "Unsuffered Consequences" | 4428 |
| Click on any hostname to see more info about the system (e.g. compilers) (*) as reported by 'uname -p', except on Windows and Mac OS X | ||||
| Package 260/2321 | Hostname | OS / Arch | INSTALL | BUILD | CHECK | BUILD BIN | ||||||||
| BUSpaRse 1.25.0 (landing page) Lambda Moses
| nebbiolo1 | Linux (Ubuntu 24.04.3 LTS) / x86_64 | OK | ERROR | skipped | |||||||||
|
To the developers/maintainers of the BUSpaRse package: - Allow up to 24 hours (and sometimes 48 hours) for your latest push to git@git.bioconductor.org:packages/BUSpaRse.git to reflect on this report. See Troubleshooting Build Report for more information. - Use the following Renviron settings to reproduce errors and warnings. - If 'R CMD check' started to fail recently on the Linux builder(s) over a missing dependency, add the missing dependency to 'Suggests:' in your DESCRIPTION file. See Renviron.bioc for more information. |
| Package: BUSpaRse |
| Version: 1.25.0 |
| Command: /home/biocbuild/bbs-3.23-bioc/R/bin/R CMD INSTALL BUSpaRse |
| StartedAt: 2025-10-30 15:38:00 -0400 (Thu, 30 Oct 2025) |
| EndedAt: 2025-10-30 15:39:00 -0400 (Thu, 30 Oct 2025) |
| EllapsedTime: 60.4 seconds |
| RetCode: 0 |
| Status: OK |
##############################################################################
##############################################################################
###
### Running command:
###
### /home/biocbuild/bbs-3.23-bioc/R/bin/R CMD INSTALL BUSpaRse
###
##############################################################################
##############################################################################
* installing to library ‘/home/biocbuild/bbs-3.23-bioc/R/site-library’
* installing *source* package ‘BUSpaRse’ ...
** this is package ‘BUSpaRse’ version ‘1.25.0’
** using staged installation
** libs
using C++ compiler: ‘g++ (Ubuntu 13.3.0-6ubuntu2~24.04) 13.3.0’
using C++11
g++ -std=gnu++11 -I"/home/biocbuild/bbs-3.23-bioc/R/include" -DNDEBUG -I'/home/biocbuild/bbs-3.23-bioc/R/site-library/Rcpp/include' -I'/home/biocbuild/bbs-3.23-bioc/R/site-library/RcppArmadillo/include' -I'/home/biocbuild/bbs-3.23-bioc/R/site-library/RcppProgress/include' -I'/home/biocbuild/bbs-3.23-bioc/R/site-library/BH/include' -I/usr/local/include -fpic -g -O2 -Wall -Werror=format-security -c RcppExports.cpp -o RcppExports.o
In file included from /home/biocbuild/bbs-3.23-bioc/R/site-library/RcppArmadillo/include/RcppArmadillo.h:29,
from RcppExports.cpp:4:
/home/biocbuild/bbs-3.23-bioc/R/site-library/RcppArmadillo/include/RcppArmadillo/version/arma.h:66:199: note: ‘#pragma message: Using fallback compilation with Armadillo 14.6.3. Please consider defining -DARMA_USE_CURRENT and also removing C++11 compilation directive. See GitHub issue #475 for more.’
66 | #pragma message("Using fallback compilation with Armadillo 14.6.3. Please consider defining -DARMA_USE_CURRENT and also removing C++11 compilation directive. See GitHub issue #475 for more.")
| ^
g++ -std=gnu++11 -I"/home/biocbuild/bbs-3.23-bioc/R/include" -DNDEBUG -I'/home/biocbuild/bbs-3.23-bioc/R/site-library/Rcpp/include' -I'/home/biocbuild/bbs-3.23-bioc/R/site-library/RcppArmadillo/include' -I'/home/biocbuild/bbs-3.23-bioc/R/site-library/RcppProgress/include' -I'/home/biocbuild/bbs-3.23-bioc/R/site-library/BH/include' -I/usr/local/include -fpic -g -O2 -Wall -Werror=format-security -c fill_cell_gene.cpp -o fill_cell_gene.o
In file included from /home/biocbuild/bbs-3.23-bioc/R/site-library/RcppArmadillo/include/RcppArmadillo.h:29,
from fill_cell_gene.cpp:7:
/home/biocbuild/bbs-3.23-bioc/R/site-library/RcppArmadillo/include/RcppArmadillo/version/arma.h:66:199: note: ‘#pragma message: Using fallback compilation with Armadillo 14.6.3. Please consider defining -DARMA_USE_CURRENT and also removing C++11 compilation directive. See GitHub issue #475 for more.’
66 | #pragma message("Using fallback compilation with Armadillo 14.6.3. Please consider defining -DARMA_USE_CURRENT and also removing C++11 compilation directive. See GitHub issue #475 for more.")
| ^
In file included from /home/biocbuild/bbs-3.23-bioc/R/site-library/BH/include/boost/mpl/aux_/na_assert.hpp:23,
from /home/biocbuild/bbs-3.23-bioc/R/site-library/BH/include/boost/mpl/arg.hpp:25,
from /home/biocbuild/bbs-3.23-bioc/R/site-library/BH/include/boost/mpl/placeholders.hpp:24,
from /home/biocbuild/bbs-3.23-bioc/R/site-library/BH/include/boost/iterator/iterator_categories.hpp:16,
from /home/biocbuild/bbs-3.23-bioc/R/site-library/BH/include/boost/iterator/iterator_adaptor.hpp:14,
from /home/biocbuild/bbs-3.23-bioc/R/site-library/BH/include/boost/token_iterator.hpp:22,
from /home/biocbuild/bbs-3.23-bioc/R/site-library/BH/include/boost/tokenizer.hpp:20,
from fill_cell_gene.cpp:16:
/home/biocbuild/bbs-3.23-bioc/R/site-library/BH/include/boost/mpl/assert.hpp:194:21: warning: unnecessary parentheses in declaration of ‘assert_arg’ [-Wparentheses]
194 | failed ************ (Pred::************
| ^~~~~~~~~~~~~~~~~~~
195 | assert_arg( void (*)(Pred), typename assert_arg_pred<Pred>::type )
| ~~~~~~~~~~~~~~~~~~~~~~~~~~~~~~~~~~~~~~~~~~~~~~~~~~~~~~~~~~~~~~~~~~
196 | );
| ~
/home/biocbuild/bbs-3.23-bioc/R/site-library/BH/include/boost/mpl/assert.hpp:194:21: note: remove parentheses
194 | failed ************ (Pred::************
| ^~~~~~~~~~~~~~~~~~~
| -
195 | assert_arg( void (*)(Pred), typename assert_arg_pred<Pred>::type )
| ~~~~~~~~~~~~~~~~~~~~~~~~~~~~~~~~~~~~~~~~~~~~~~~~~~~~~~~~~~~~~~~~~~
196 | );
| ~
| -
/home/biocbuild/bbs-3.23-bioc/R/site-library/BH/include/boost/mpl/assert.hpp:199:21: warning: unnecessary parentheses in declaration of ‘assert_not_arg’ [-Wparentheses]
199 | failed ************ (boost::mpl::not_<Pred>::************
| ^~~~~~~~~~~~~~~~~~~~~~~~~~~~~~~~~~~~~
200 | assert_not_arg( void (*)(Pred), typename assert_arg_pred_not<Pred>::type )
| ~~~~~~~~~~~~~~~~~~~~~~~~~~~~~~~~~~~~~~~~~~~~~~~~~~~~~~~~~~~~~~~~~~~~~~~~~~
201 | );
| ~
/home/biocbuild/bbs-3.23-bioc/R/site-library/BH/include/boost/mpl/assert.hpp:199:21: note: remove parentheses
199 | failed ************ (boost::mpl::not_<Pred>::************
| ^~~~~~~~~~~~~~~~~~~~~~~~~~~~~~~~~~~~~
| -
200 | assert_not_arg( void (*)(Pred), typename assert_arg_pred_not<Pred>::type )
| ~~~~~~~~~~~~~~~~~~~~~~~~~~~~~~~~~~~~~~~~~~~~~~~~~~~~~~~~~~~~~~~~~~~~~~~~~~
201 | );
| ~
| -
g++ -std=gnu++11 -shared -L/home/biocbuild/bbs-3.23-bioc/R/lib -L/usr/local/lib -o BUSpaRse.so RcppExports.o fill_cell_gene.o -llapack -L/home/biocbuild/bbs-3.23-bioc/R/lib -lRblas -lgfortran -lm -lquadmath -L/home/biocbuild/bbs-3.23-bioc/R/lib -lR
installing to /home/biocbuild/bbs-3.23-bioc/R/site-library/00LOCK-BUSpaRse/00new/BUSpaRse/libs
** R
** data
*** moving datasets to lazyload DB
** inst
** byte-compile and prepare package for lazy loading
** help
*** installing help indices
** building package indices
** installing vignettes
** testing if installed package can be loaded from temporary location
** checking absolute paths in shared objects and dynamic libraries
** testing if installed package can be loaded from final location
** testing if installed package keeps a record of temporary installation path
* DONE (BUSpaRse)