Back to Build/check report for BioC 3.23:   simplified   long
AB[C]DEFGHIJKLMNOPQRSTUVWXYZ

This page was generated on 2025-10-31 08:34 -0400 (Fri, 31 Oct 2025).

HostnameOSArch (*)R versionInstalled pkgs
nebbiolo1Linux (Ubuntu 24.04.3 LTS)x86_64R Under development (unstable) (2025-10-20 r88955) -- "Unsuffered Consequences" 4428
Click on any hostname to see more info about the system (e.g. compilers)      (*) as reported by 'uname -p', except on Windows and Mac OS X

Package 342/2321HostnameOS / ArchINSTALLBUILDCHECKBUILD BIN
ChIPpeakAnno 3.45.0  (landing page)
Jianhong Ou
Snapshot Date: 2025-10-30 13:40 -0400 (Thu, 30 Oct 2025)
git_url: https://git.bioconductor.org/packages/ChIPpeakAnno
git_branch: devel
git_last_commit: 2e00e23
git_last_commit_date: 2025-10-29 10:03:18 -0400 (Wed, 29 Oct 2025)
nebbiolo1Linux (Ubuntu 24.04.3 LTS) / x86_64  ERROR    ERROR  skipped


BUILD results for ChIPpeakAnno on nebbiolo1

To the developers/maintainers of the ChIPpeakAnno package:
- Allow up to 24 hours (and sometimes 48 hours) for your latest push to git@git.bioconductor.org:packages/ChIPpeakAnno.git to reflect on this report. See Troubleshooting Build Report for more information.
- Use the following Renviron settings to reproduce errors and warnings.
- If 'R CMD check' started to fail recently on the Linux builder(s) over a missing dependency, add the missing dependency to 'Suggests:' in your DESCRIPTION file. See Renviron.bioc for more information.

raw results


Summary

Package: ChIPpeakAnno
Version: 3.45.0
Command: /home/biocbuild/bbs-3.23-bioc/R/bin/R CMD build --keep-empty-dirs --no-resave-data ChIPpeakAnno
StartedAt: 2025-10-30 16:30:25 -0400 (Thu, 30 Oct 2025)
EndedAt: 2025-10-30 16:31:28 -0400 (Thu, 30 Oct 2025)
EllapsedTime: 63.0 seconds
RetCode: 1
Status:   ERROR  
PackageFile: None
PackageFileSize: NA

Command output

##############################################################################
##############################################################################
###
### Running command:
###
###   /home/biocbuild/bbs-3.23-bioc/R/bin/R CMD build --keep-empty-dirs --no-resave-data ChIPpeakAnno
###
##############################################################################
##############################################################################


* checking for file ‘ChIPpeakAnno/DESCRIPTION’ ... OK
* preparing ‘ChIPpeakAnno’:
* checking DESCRIPTION meta-information ... OK
* installing the package (it is needed to build vignettes)
      -----------------------------------
* installing *source* package ‘ChIPpeakAnno’ ...
** this is package ‘ChIPpeakAnno’ version ‘3.45.0’
** using staged installation
** R
** data
*** moving datasets to lazyload DB
** inst
** byte-compile and prepare package for lazy loading
Error: object ‘microRNAs’ is not exported by 'namespace:GenomicFeatures'
Execution halted
ERROR: lazy loading failed for package ‘ChIPpeakAnno’
* removing ‘/tmp/Rtmpe0QSED/Rinst1010bd222123a7/ChIPpeakAnno’
      -----------------------------------
ERROR: package installation failed