| wilson2 | 
Linux (openSUSE 11.4) / x86_64  |  |  |  | 
| liverpool | 
Windows Server 2003 R2 (32-bit) / x64  |  |  |  | 
| gewurz | 
Windows Server 2008 R2 Enterprise (64-bit) / x64  |  |  |  | 
| moscato1 | 
Windows Server 2008 R2 Enterprise (64-bit) / x64  |  |  |  | 
| [pitt] | 
Mac OS X Leopard (10.5.8) / i386  |  |  |  | 
 | 
 | 
| A [A] B  C  D  E  F  G  H  I  J  K  L  M  N  O  P  Q  R  S  T  U  V  W  X  Y  Z  | 
| a4 1.1.2 | Tobias Verbeke |  OK  |  OK  |  OK  | 
| a4Base 1.1.3 | Tobias Verbeke |  OK  |  OK  |  OK  | 
| a4Classif 1.1.3 | Tobias Verbeke |  OK  |  OK  |  OK  | 
| a4Core 1.1.3 | Tobias Verbeke |  OK  |  OK  |  OK  | 
| a4Preproc 1.1.1 | Tobias Verbeke |  OK  |  OK  |  OK  | 
| a4Reporting 1.1.1 | Tobias Verbeke |  OK  |  OK  |  OK  | 
| ABarray 1.21.0 | Yongming Andrew Sun |  OK  |  OK  |  OK  | 
| aCGH 1.31.0 | Peter Dimitrov |  OK  |  OK  |  OK  | 
| ACME 2.9.1 | Sean Davis |  OK  |  OK  |  OK  | 
| ADaCGH2 1.3.0 | Ramon Diaz-Uriarte |  ERROR  |  skipped  |  skipped  | 
| adSplit 1.23.0 | Claudio Lottaz |  OK  |  OK  |  OK  | 
| affxparser 1.25.0 | Kasper Daniel Hansen |  OK  |  OK  |  OK  | 
| affy 1.31.2 | Rafael A. Irizarry |  OK  |  OK  |  OK  | 
| affycomp 1.29.3 | Rafael A. Irizarry |  OK  |  OK  |  OK  | 
| AffyCompatible 1.13.0 | Martin Morgan |  OK  |  OK  |  OK  | 
| affyContam 1.11.0 | V. Carey |  OK  |  OK  |  OK  | 
| affycoretools 1.25.0 | James W. MacDonald |  OK  |  OK  |  OK  | 
| AffyExpress 1.19.0 | Xuejun Arthur Li |  OK  |  OK  |  OK  | 
| affyILM 1.5.0 | Myriam Kroll and Fabrice Berger |  OK  |  OK  |  OK  | 
| affyio 1.21.2 | Benjamin Milo Bolstad |  OK  |  OK  |  OK  | 
| affylmGUI 1.27.0 | Keith Satterley |  OK  |  OK  |  OK  | 
| affyPara 1.13.0 | Markus Schmidberger |  OK  |  OK  |  OK  | 
| affypdnn 1.27.0 | Laurent Gautier |  OK  |  OK  |  OK  | 
| affyPLM 1.29.2 | Ben Bolstad |  OK  |  OK  |  OK  | 
| affyQCReport 1.31.0 | Craig Parman |  OK  |  OK  |  OK  | 
| AffyTiling 1.11.0 | Charles G. Danko |  OK  |  OK  |  OK  | 
| Agi4x44PreProcess 1.13.1 | Pedro Lopez-Romero |  OK  |  OK  |  OK  | 
| AgiMicroRna 2.3.1 | Pedro Lopez-Romero |  OK  |  OK  |  OK  | 
| altcdfenvs 2.15.0 | Laurent Gautier |  OK  |  OK  |  OK  | 
| annaffy 1.25.0 | Colin A. Smith |  OK  |  OK  |  OK  | 
| annotate 1.31.0 | Biocore Team c/o BioC user list |  OK  |  OK  |  OK  | 
| AnnotationDbi 1.15.9 | Biocore Team c/o BioC user list |  OK  |  OK  |  OK  | 
| AnnotationFuncs 1.3.0 | Stefan McKinnon Edwards |  OK  |  OK  |  OK  | 
| annotationTools 1.27.0 | Alexandre Kuhn |  OK  |  OK  |  OK  | 
| anota 1.1.0 | Ola Larsson |  OK  |  OK  |  OK  | 
| apComplex 2.19.0 | Denise Scholtens |  OK  |  OK  |  OK  | 
| aroma.light 1.21.0 | Henrik Bengtsson |  OK  |  ERROR  |  OK  | 
| ArrayExpress 1.13.0 | Audrey Kauffmann |  OK  |  OK  |  OK  | 
| ArrayExpressHTS 1.3.2 | Angela Goncalves , Andrew Tikhonov |  OK  |  WARNINGS  |  OK  | 
| arrayMvout 1.11.0 | V. Carey |  OK  |  OK  |  OK  | 
| arrayQuality 1.31.0 | Agnes Paquet |  OK  |  OK  |  OK  | 
| arrayQualityMetrics 3.9.3 | Audrey Kauffmann |  OK  |  OK  |  OK  | 
| ArrayTools 1.13.0 | Arthur Li |  OK  |  OK  |  OK  | 
| attract 1.5.0 | Jessica Mar |  OK  |  OK  |  OK  | 
 | 
| B  A [B] C  D  E  F  G  H  I  J  K  L  M  N  O  P  Q  R  S  T  U  V  W  X  Y  Z  | 
| BAC 1.13.0 | Raphael Gottardo |  OK  |  OK  |  OK  | 
| BayesPeak 1.5.0 | Jonathan Cairns |  OK  |  OK  |  OK  | 
| baySeq 1.7.1 | Thomas J. Hardcastle |  OK  |  OK  |  OK  | 
| BCRANK 1.15.0 | Adam Ameur |  OK  |  OK  |  OK  | 
| beadarray 2.3.5 | Mark Dunning |  OK  |  OK  |  OK  | 
| beadarraySNP 1.19.0 | Jan Oosting |  OK  |  OK  |  OK  | 
| BeadDataPackR 1.5.2 | Mike Smith |  OK  |  OK  |  OK  | 
| betr 1.9.0 | Martin Aryee |  OK  |  OK  |  OK  | 
| bgafun 1.15.0 | Iain Wallace |  OK  |  OK  |  OK  | 
| BGmix 1.13.0 | Alex Lewin |  OK  |  OK  |  OK  | 
| bgx 1.17.0 | Ernest Turro |  OK  |  OK  |  OK  | 
| BHC 1.5.0 | Rich Savage |  OK  |  OK  |  OK  | 
| BicARE 1.11.0 | Pierre Gestraud |  OK  |  OK  |  OK  | 
| Biobase 2.13.7 | Biocore Team c/o BioC user list |  OK  |  WARNINGS  |  OK  | 
| BiocCaseStudies 1.15.0 | Biocore Team c/o BioC user list |  OK  |  OK  |  OK  | 
| biocGraph 1.15.0 | Florian Hahne |  OK  |  OK  |  OK  | 
| BiocInstaller 1.1.12 | Biocore Team c/o BioC user list |  OK  |  OK  |  OK  | 
| biocViews 1.21.4 | Biocore Team c/o BioC user list |  OK  |  WARNINGS  |  OK  | 
| bioDist 1.25.1 | Biocore Team c/o BioC user list |  OK  |  OK  |  OK  | 
| biomaRt 2.9.2 | Steffen Durinck |  OK  |  OK  |  OK  | 
| BioMVCClass 1.21.0 | Elizabeth Whalen |  OK  |  OK  |  OK  | 
| BioNet 1.11.1 | Marcus Dittrich |  OK  |  OK  |  OK  | 
| BioSeqClass 1.11.0 | Li Hong |  OK  |  OK  |  OK  | 
| Biostrings 2.21.6 | H. Pages |  OK  |  WARNINGS  |  OK  | 
| bridge 1.17.0 | Raphael Gottardo |  OK  |  OK  |  OK  | 
| BSgenome 1.21.3 | H. Pages |  OK  |  OK  |  OK  | 
| BufferedMatrix 1.17.0 | Benjamin Milo Bolstad |  OK  |  OK  |  OK  | 
| BufferedMatrixMethods 1.17.0 | B. M. Bolstad |  OK  |  OK  |  OK  | 
| BUS 1.9.0 | Yuanhua Liu |  OK  |  OK  |  OK  | 
 | 
| C  A  B [C] D  E  F  G  H  I  J  K  L  M  N  O  P  Q  R  S  T  U  V  W  X  Y  Z  | 
| CALIB 1.19.0 | Hui Zhao |  OK  |  OK  |  OK  | 
| CAMERA 1.9.3 | Carsten Kuhl |  OK  |  OK  |  OK  | 
| Category 2.19.1 | Biocore Team c/o BioC user list |  ERROR  |  skipped  |  skipped  | 
| cellHTS 1.23.0 | Ligia Bras |  OK  |  OK  |  OK  | 
| cellHTS2 2.17.2 | Florian Hahne |  OK  |  OK  |  OK  | 
| CGEN 1.5.0 | William Wheeler |  OK  |  OK  |  OK  | 
| CGHbase 1.11.0 | Sjoerd Vosse |  OK  |  OK  |  OK  | 
| CGHcall 2.13.0 | Mark van de Wiel |  OK  |  OK  |  OK  | 
| cghMCR 1.11.0 | J. Zhang |  OK  |  OK  |  OK  | 
| CGHnormaliter 1.7.0 | Bart P.P. van Houte |  OK  |  WARNINGS  |  OK  | 
| CGHregions 1.11.0 | Sjoerd Vosse |  OK  |  OK  |  OK  | 
| charm 1.5.5 | Martin Aryee |  OK  |  WARNINGS  |  OK  | 
| ChemmineR 2.5.3 | ChemmineR Team |  OK  |  OK  |  OK  | 
| ChIPpeakAnno 1.9.5 | Lihua Julie Zhu |  OK  |  OK  |  OK  | 
| chipseq 1.3.0 | Biocore Team c/o BioC user list |  ERROR  |  skipped  |  skipped  | 
| ChIPseqR 1.7.0 | Peter Humburg |  OK  |  OK  |  OK  | 
| ChIPsim 1.7.2 | Peter Humburg |  OK  |  OK  |  OK  | 
| chopsticks 1.17.1 | Hin-Tak Leung |  OK  |  OK  |  OK  | 
| ChromHeatMap 1.7.0 | Tim F. Rayner |  OK  |  OK  |  OK  | 
| clippda 1.3.0 | Stephen Nyangoma |  OK  |  OK  |  OK  | 
| Clonality 1.1.0 | Irina Ostrovnaya |  OK  |  OK  |  OK  | 
| clst 1.1.0 | Noah Hoffman |  OK  |  OK  |  OK  | 
| clstutils 1.1.0 | Noah Hoffman |  OK  |  OK  |  OK  | 
| clusterProfiler 1.1.15 | Guangchuang Yu |  OK  |  OK  |  OK  | 
| clusterStab 1.25.1 | James W. MacDonald |  OK  |  OK  |  OK  | 
| CMA 1.11.0 | Christoph Bernau |  OK  |  OK  |  OK  | 
| cn.farms 1.1.2 | Andreas Mitterecker |  OK  |  WARNINGS  |  OK  | 
| CNTools 1.9.0 | J. Zhang |  OK  |  OK  |  OK  | 
| CNVtools 1.47.0 | Chris Barnes |  OK  |  OK  |  OK  | 
| CoCiteStats 1.25.0 | Biocore Team c/o BioC user list |  OK  |  OK  |  OK  | 
| codelink 1.21.0 | Diego Diez |  OK  |  OK  |  OK  | 
| CoGAPS 1.3.0 | Elana J. Fertig , Michael F. Ochs | N O T   S U P P O R T E D | 
| ConsensusClusterPlus 1.5.1 | Matt Wilkerson |  OK  |  OK  |  OK  | 
| convert 1.29.0 | Yee Hwa (Jean) Yang |  OK  |  OK  |  OK  | 
| copa 1.21.0 | James W. MacDonald |  OK  |  OK  |  OK  | 
| Cormotif 0.99.0 | Yingying Wei |  OK  |  OK  |  OK  | 
| coRNAi 1.3.0 | Elin Axelsson |  OK  |  OK  |  OK  | 
| CORREP 1.19.0 | Dongxiao Zhu |  OK  |  OK  |  OK  | 
| cosmo 1.19.0 | Oliver Bembom |  OK  |  OK  |  OK  | 
| cosmoGUI 1.19.0 | Oliver Bembom |  OK  |  OK  |  OK  | 
| cqn 0.99.2 | Kasper Daniel Hansen |  OK  |  OK  |  OK  | 
| CRImage 1.3.0 | Henrik Failmezger , Yinyin Yuan | N O T   S U P P O R T E D | 
| crlmm 1.11.2 | Benilton S Carvalho , Robert Scharpf , Matt Ritchie |  OK  |  WARNINGS  |  OK  | 
| CSAR 1.5.0 | Jose M Muino |  OK  |  OK  |  OK  | 
| ctc 1.27.0 | Antoine Lucas |  OK  |  OK  |  OK  | 
| cycle 1.7.0 | Matthias Futschik |  OK  |  OK  |  OK  | 
 | 
| D  A  B  C [D] E  F  G  H  I  J  K  L  M  N  O  P  Q  R  S  T  U  V  W  X  Y  Z  | 
| daMA 1.25.0 | Jobst Landgrebe |  OK  |  OK  |  OK  | 
| DAVIDQuery 1.13.0 | Roger Day |  OK  |  OK  |  OK  | 
| ddCt 1.7.1 | Jitao David Zhang |  OK  |  OK  |  OK  | 
| DEDS 1.27.0 | Yuanyuan Xiao |  OK  |  OK  |  OK  | 
| DEGraph 1.5.0 | Laurent Jacob |  OK  |  OK  |  OK  | 
| DEGseq 1.7.1 | Likun Wang |  OK  |  OK  |  OK  | 
| DESeq 1.5.19 | Simon Anders |  OK  |  OK  |  OK  | 
| DEXSeq 0.1.10 | Alejandro Reyes |  OK  |  OK  |  OK  | 
| DFP 1.11.0 | Rodrigo Alvarez-Glez |  OK  |  OK  |  OK  | 
| diffGeneAnalysis 1.35.0 | Choudary Jagarlamudi |  OK  |  OK  |  OK  | 
| DNAcopy 1.27.1 | Venkatraman E. Seshan |  OK  |  OK  |  OK  | 
| domainsignatures 1.13.0 | Florian Hahne |  OK  |  OK  |  OK  | 
| DOSE 0.99.7 | Guangchuang Yu |  OK  |  OK  |  OK  | 
| dualKS 1.13.0 | Eric J. Kort |  OK  |  OK  |  OK  | 
| dyebias 1.11.0 | Philip Lijnzaad |  OK  |  OK  |  OK  | 
| DynDoc 1.31.0 | Biocore Team c/o BioC user list |  OK  |  OK  |  OK  | 
 | 
| E  A  B  C  D [E] F  G  H  I  J  K  L  M  N  O  P  Q  R  S  T  U  V  W  X  Y  Z  | 
| EBarrays 2.17.0 | Ming Yuan |  OK  |  OK  |  OK  | 
| EBImage 3.9.7 | Gregoire Pau | N O T   S U P P O R T E D | 
| ecolitk 1.25.0 | Laurent Gautier |  OK  |  WARNINGS  |  OK  | 
| edd 1.31.0 | Vince Carey |  OK  |  OK  |  OK  | 
| edgeR 2.3.29 | Mark Robinson , Davis McCarthy , Gordon Smyth |  OK  |  OK  |  OK  | 
| eisa 1.5.0 | Gabor Csardi |  OK  |  OK  |  OK  | 
| ENVISIONQuery 1.1.2 | Alex Lisovich , Roger Day |  ERROR  |  skipped  |  skipped  | 
| ExiMiR 1.1.0 | Sylvain Gubian |  OK  |  OK  |  OK  | 
| explorase 1.17.0 | Michael Lawrence | N O T   S U P P O R T E D | 
| ExpressionView 1.5.0 | Gabor Csardi |  OK  |  WARNINGS  |  OK  | 
| externalVector 1.19.0 | Biocore Team c/o BioC user list |  OK  |  OK  |  OK  | 
 | 
| F  A  B  C  D  E [F] G  H  I  J  K  L  M  N  O  P  Q  R  S  T  U  V  W  X  Y  Z  | 
| fabia 1.5.0 | Sepp Hochreiter |  OK  |  OK  |  OK  | 
| factDesign 1.29.0 | Denise Scholtens |  OK  |  OK  |  OK  | 
| farms 1.5.0 | Djork-Arne Clevert |  OK  |  OK  |  OK  | 
| fdrame 1.25.0 | Effi Kenigsberg |  OK  |  OK  |  OK  | 
| flagme 1.9.0 | Mark Robinson |  OK  |  OK  |  OK  | 
| flowClust 2.11.0 | Raphael Gottardo |  OK  |  WARNINGS  |  OK  | 
| flowCore 1.19.2 | F. Hahne |  OK  |  OK  |  OK  | 
| flowFlowJo 1.11.0 | John J. Gosink |  OK  |  OK  |  OK  | 
| flowFP 1.9.0 | Herb Holyst |  ERROR  |  skipped  |  skipped  | 
| flowMeans 1.5.2 | Nima Aghaeepour |  OK  |  OK  |  OK  | 
| flowMerge 2.1.6 | Greg Finak |  OK  |  OK  |  OK  | 
| flowPhyto 1.5.0 | David M. Schruth |  OK  |  WARNINGS  |  OK  | 
| flowPlots 1.1.0 | N. Hawkins |  OK  |  OK  |  OK  | 
| flowQ 1.13.0 | F. Hahne |  ERROR  |  skipped  |  skipped  | 
| flowStats 1.11.0 | Florian Hahne  and Chao-Jen Wong |  OK  |  OK  |  OK  | 
| flowTrans 1.5.0 | Greg Finak |  OK  |  OK  |  OK  | 
| flowType 0.99.3 | Nima Aghaeepour |  OK  |  OK  |  OK  | 
| flowUtils 1.13.0 | Nishant Gopalakrishnan |  OK  |  OK  |  OK  | 
| flowViz 1.17.0 | Florian Hahne |  OK  |  OK  |  OK  | 
| flowWorkspace 0.99.11 | Greg Finak |  ERROR  |  skipped  |  skipped  | 
| frma 1.5.0 | Matthew N. McCall |  OK  |  WARNINGS  |  OK  | 
| frmaTools 1.5.0 | Matthew N. McCall |  OK  |  OK  |  OK  | 
 | 
| G  A  B  C  D  E  F [G] H  I  J  K  L  M  N  O  P  Q  R  S  T  U  V  W  X  Y  Z  | 
| gaga 1.99.0 | David Rossell |  OK  |  OK  |  OK  | 
| gage 2.3.2 | Weijun Luo |  OK  |  OK  |  OK  | 
| gaggle 1.21.0 | Christopher Bare |  OK  |  OK  |  OK  | 
| gaia 1.3.0 | S. Morganella |  OK  |  OK  |  OK  | 
| gcrma 2.25.2 | Z. Wu |  OK  |  OK  |  OK  | 
| genArise 1.29.0 | IFC Development Team |  OK  |  OK  |  OK  | 
| gene2pathway 2.3.0 | Holger Froehlich |  OK  |  ERROR  |  OK  | 
| GeneAnswers 1.9.0 | Gang Feng  , Pan Du  and Tian Xia |  OK  |  OK  |  OK  | 
| genefilter 1.35.0 | Biocore Team c/o BioC user list |  OK  |  OK  |  OK  | 
| genefu 1.3.2 | Benjamin Haibe-Kains , Markus Schroeder |  OK  |  OK  |  OK  | 
| GeneGA 1.3.0 | Zhenpeng Li |  OK  |  OK  |  OK  | 
| GeneMeta 1.25.0 | Biocore Team c/o BioC user list |  OK  |  OK  |  OK  | 
| geneplotter 1.31.0 | Biocore Team c/o BioC user list |  OK  |  OK  |  OK  | 
| GeneR 2.23.0 | Y. d'Aubenton-Carafa |  OK  |  OK  |  OK  | 
| geneRecommender 1.25.0 | Greg Hather |  OK  |  OK  |  OK  | 
| GeneRegionScan 1.9.7 | Lasse Folkersen |  OK  |  OK  |  OK  | 
| GeneRfold 1.11.0 | Antoine Lucas |  OK  |  OK  |  OK  | 
| GeneSelectMMD 1.9.0 | Weiliang Qiu |  OK  |  OK  |  OK  | 
| GeneSelector 2.3.0 | Martin Slawski |  OK  |  OK  |  OK  | 
| GeneticsDesign 1.21.0 | The R Genetics Project |  OK  |  OK  |  OK  | 
| GeneticsPed 1.15.0 | David Henderson |  OK  |  OK  |  OK  | 
| GeneTraffic 1.25.0 | Daniel Iordan |  OK  |  ERROR  |  OK  | 
| genoCN 1.5.0 | Wei Sun |  OK  |  OK  |  OK  | 
| GenomeGraphs 1.13.0 | Steffen Durinck |  OK  |  OK  |  OK  | 
| genomeIntervals 1.9.0 | Julien Gagneur |  OK  |  OK  |  OK  | 
| genomes 1.9.1 | Chris Stubben |  OK  |  OK  |  OK  | 
| GenomicFeatures 1.5.14 | Biocore Team c/o BioC user list |  OK  |  OK  |  OK  | 
| GenomicRanges 1.5.16 | Biocore Team c/o BioC user list |  OK  |  OK  |  OK  | 
| Genominator 1.7.0 | James Bullard |  OK  |  OK  |  OK  | 
| genoset 1.1.0 | Peter M. Haverty |  OK  |  OK  |  OK  | 
| GEOmetadb 1.13.0 | Jack Zhu |  OK  |  OK  |  OK  | 
| GEOquery 2.19.2 | Sean Davis |  OK  |  OK  |  OK  | 
| GEOsubmission 1.5.0 | Alexandre Kuhn |  OK  |  OK  |  OK  | 
| GGBase 3.13.3 | Vince Carey |  OK  |  OK  |  OK  | 
| GGtools 3.11.31 | Vince Carey |  OK  |  WARNINGS  |  OK  | 
| girafe 1.5.2 | J. Toedling |  OK  |  OK  |  OK  | 
| GLAD 2.15.1 | Philippe Hupe |  OK  |  OK  |  OK  | 
| GlobalAncova 3.21.0 | Manuela Hummel |  OK  |  OK  |  OK  | 
| globaltest 5.7.4 | Jelle Goeman |  OK  |  OK  |  OK  | 
| GOFunction 0.99.0 | Zheng Guo |  OK  |  OK  |  OK  | 
| goProfiles 1.15.0 | Alex Sanchez |  OK  |  WARNINGS  |  OK  | 
| GOSemSim 1.11.4 | Guangchuang Yu |  OK  |  OK  |  OK  | 
| goseq 1.5.0 | Matthew Young |  OK  |  OK  |  OK  | 
| GOstats 2.19.0 | Biocore Team c/o BioC user list |  OK  |  OK  |  OK  | 
| goTools 1.27.0 | Agnes Paquet |  OK  |  OK  |  OK  | 
| gpls 1.25.0 | Biocore Team c/o BioC user list |  OK  |  OK  |  OK  | 
| graph 1.31.1 | Seth Falcon |  OK  |  OK  |  OK  | 
| GraphAlignment 1.15.0 | Joern P. Meier |  OK  |  OK  |  OK  | 
| GraphAT 1.25.0 | Thomas LaFramboise |  OK  |  OK  |  OK  | 
| GRENITS 1.4.1 | Edward Morrissey |  OK  |  OK  |  OK  | 
| GSEABase 1.15.0 | Biocore Team c/o BioC user list |  OK  |  OK  |  OK  | 
| GSEAlm 1.13.0 | Assaf Oron |  OK  |  OK  |  OK  | 
| GSRI 2.1.0 | Julian Gehring |  OK  |  WARNINGS  |  OK  | 
| GSVA 1.1.2 | Justin Guinney |  OK  |  OK  |  ERROR  | 
 | 
| H  A  B  C  D  E  F  G [H] I  J  K  L  M  N  O  P  Q  R  S  T  U  V  W  X  Y  Z  | 
| Harshlight 1.25.0 | Maurizio Pellegrino |  OK  |  OK  |  OK  | 
| Heatplus 1.23.0 | Alexander Ploner |  OK  |  OK  |  OK  | 
| HELP 1.11.0 | Reid F. Thompson |  OK  |  OK  |  OK  | 
| HEM 1.25.0 | HyungJun Cho |  OK  |  OK  |  OK  | 
| hexbin 1.27.0 | Nicholas Lewin-Koh |  OK  |  OK  |  OK  | 
| HilbertVis 1.11.1 | Simon Anders | N O T   S U P P O R T E D | 
| HilbertVisGUI 1.11.0 | Simon Anders |  OK  |  OK  |  OK  | 
| hopach 2.13.0 | Katherine S. Pollard |  OK  |  OK  |  OK  | 
| HTqPCR 1.7.1 | Heidi Dvinge |  ERROR  |  skipped  |  skipped  | 
| HTSanalyzeR 2.5.1 | Xin Wang |  OK  |  OK  |  OK  | 
| htSeqTools 0.99.1 | Oscar Reina |  OK  |  OK  |  OK  | 
| hyperdraw 1.5.0 | Paul Murrell |  OK  |  OK  |  OK  | 
| hypergraph 1.25.0 | Biocore Team c/o BioC user list |  OK  |  OK  |  OK  | 
 | 
| I  A  B  C  D  E  F  G  H [I] J  K  L  M  N  O  P  Q  R  S  T  U  V  W  X  Y  Z  | 
| ibh 1.1.0 | Kircicegi Korkmaz |  OK  |  OK  |  OK  | 
| Icens 1.25.0 | Biocore Team c/o BioC user list |  OK  |  OK  |  OK  | 
| iChip 1.7.0 | Qianxing Mo |  OK  |  OK  |  OK  | 
| idiogram 1.29.0 | Karl J. Dykema |  OK  |  OK  |  OK  | 
| IdMappingRetrieval 0.99.1 | Alex Lisovich , Roger Day |  ERROR  |  skipped  |  skipped  | 
| iFlow 2.5.0 | Kyongryun Lee |  OK  |  WARNINGS  |  OK  | 
| imageHTS 1.3.1 | Gregoire Pau | N O T   S U P P O R T E D | 
| impute 1.27.0 | Balasubramanian Narasimhan |  OK  |  OK  |  OK  | 
| inSilicoDb 0.99.3 | Jonatan Taminau , David Steenhoff |  OK  |  OK  |  OK  | 
| inveRsion 1.1.0 | Alejandro Caceres |  OK  |  OK  |  OK  | 
| IPPD 1.1.0 | Martin Slawski |  OK  |  OK  |  OK  | 
| IRanges 1.11.11 | Biocore Team c/o BioC user list |  OK  |  WARNINGS  |  OK  | 
| iSeq 1.5.0 | Qianxing Mo |  OK  |  OK  |  OK  | 
| IsoGeneGUI 1.5.0 | Setia Pramana |  OK  |  WARNINGS  |  OK  | 
| ITALICS 2.13.0 | Guillem Rigaill |  OK  |  WARNINGS  |  OK  | 
| iterativeBMA 1.11.0 | Ka Yee Yeung |  OK  |  OK  |  OK  | 
| iterativeBMAsurv 1.11.0 | Ka Yee Yeung |  OK  |  OK  |  OK  | 
 | 
| J  A  B  C  D  E  F  G  H  I [J] K  L  M  N  O  P  Q  R  S  T  U  V  W  X  Y  Z  | 
| joda 1.1.0 | Ewa Szczurek |  OK  |  OK  |  OK  | 
 | 
| K  A  B  C  D  E  F  G  H  I  J [K] L  M  N  O  P  Q  R  S  T  U  V  W  X  Y  Z  | 
| KCsmart 2.11.0 | Jorma de Ronde |  OK  |  OK  |  OK  | 
| KEGGgraph 1.9.0 | Jitao David Zhang |  OK  |  ERROR  |  OK  | 
| keggorthology 2.5.0 | VJ Carey |  OK  |  OK  |  OK  | 
| KEGGSOAP 1.27.0 | Biocore Team c/o BioC user list |  OK  |  OK  |  OK  | 
 | 
| L  A  B  C  D  E  F  G  H  I  J  K [L] M  N  O  P  Q  R  S  T  U  V  W  X  Y  Z  | 
| lapmix 1.19.0 | Yann Ruffieux |  OK  |  OK  |  OK  | 
| LBE 1.21.0 | Cyril Dalmasso |  OK  |  OK  |  OK  | 
| les 1.3.0 | Julian Gehring |  OK  |  WARNINGS  |  OK  | 
| limma 3.9.11 | Gordon Smyth |  OK  |  OK  |  OK  | 
| limmaGUI 1.29.0 | Keith Satterley |  OK  |  OK  |  OK  | 
| LiquidAssociation 1.7.0 | Yen-Yi Ho |  OK  |  OK  |  OK  | 
| LMGene 2.9.0 | Blythe Durbin-Johnson |  OK  |  OK  |  OK  | 
| logicFS 1.23.0 | Holger Schwender |  OK  |  OK  |  OK  | 
| logitT 1.11.0 | Tobias Guennel |  OK  |  OK  |  OK  | 
| lol 1.1.0 | Yinyin Yuan |  OK  |  OK  |  OK  | 
| LPE 1.27.0 | Nitin Jain |  OK  |  OK  |  OK  | 
| LPEadj 1.13.0 | Carl Murie |  OK  |  OK  |  OK  | 
| lumi 2.5.1 | Pan Du |  OK  |  OK  |  OK  | 
| LVSmiRNA 1.3.1 | Stefano Calza |  OK  |  OK  |  OK  | 
 | 
| M  A  B  C  D  E  F  G  H  I  J  K  L [M] N  O  P  Q  R  S  T  U  V  W  X  Y  Z  | 
| maanova 1.23.0 | Keith Sheppard |  OK  |  OK  |  OK  | 
| macat 1.27.1 | Joern Toedling |  OK  |  WARNINGS  |  OK  | 
| maCorrPlot 1.23.0 | Alexander Ploner |  OK  |  OK  |  OK  | 
| maDB 1.25.0 | Johannes Rainer |  OK  |  OK  |  OK  | 
| made4 1.27.0 | Aedin Culhane |  OK  |  OK  |  OK  | 
| maigesPack 1.17.0 | Gustavo H. Esteves |  OK  |  OK  |  OK  | 
| makecdfenv 1.31.2 | James W. MacDonald |  OK  |  OK  |  OK  | 
| MANOR 1.25.0 | Pierre Neuvial |  OK  |  OK  |  OK  | 
| MantelCorr 1.23.0 | Brian Steinmeyer |  OK  |  OK  |  OK  | 
| marray 1.31.0 | Yee Hwa (Jean) Yang |  OK  |  OK  |  OK  | 
| maSigPro 1.25.1 | Maria Jose Nueda |  OK  |  OK  |  OK  | 
| MassArray 1.5.0 | Reid F. Thompson |  OK  |  OK  |  OK  | 
| MassSpecWavelet 1.19.0 | Pan Du |  OK  |  OK  |  OK  | 
| MBCB 1.7.0 | Jeff Allen |  OK  |  OK  |  OK  | 
| mBPCR 1.7.0 | P.M.V. Rancoita |  OK  |  OK  |  OK  | 
| mcaGUI 1.1.0 | Wade K. Copeland |  OK  |  OK  |  OK  | 
| MCRestimate 2.9.0 | Marc Johannes |  OK  |  OK  |  OK  | 
| mdqc 1.15.0 | Gabriela Cohen-Freue |  OK  |  OK  |  OK  | 
| MeasurementError.cor 1.25.0 | Beiying Ding |  OK  |  OK  |  OK  | 
| MEDIPS 1.3.2 | Lukas Chavez |  OK  |  OK  |  OK  | 
| MEDME 1.13.0 | Mattia Pelizzola |  OK  |  OK  |  OK  | 
| MergeMaid 2.25.0 | Xiaogang Zhong |  OK  |  OK  |  OK  | 
| metaArray 1.29.0 | Hyungwon Choi |  OK  |  OK  |  OK  | 
| metahdep 1.11.0 | John R. Stevens |  OK  |  OK  |  OK  | 
| methVisual 1.5.0 | Arie Zackay |  OK  |  OK  |  OK  | 
| methylumi 1.9.0 | Sean Davis |  OK  |  OK  |  OK  | 
| Mfuzz 2.11.0 | Matthias Futschik |  OK  |  OK  |  OK  | 
| mgsa 1.1.1 | Sebastian Bauer |  OK  |  OK  |  OK  | 
| MiChip 1.7.0 | Jonathon Blake |  OK  |  OK  |  OK  | 
| microRNA 1.11.0 | "James F. Reid" |  OK  |  OK  |  OK  | 
| minet 3.7.0 | Patrick E. Meyer |  OK  |  OK  |  OK  | 
| MiPP 1.25.0 | Sukwoo Kim |  OK  |  OK  |  OK  | 
| miRNApath 1.13.0 | James M. Ward |  OK  |  OK  |  OK  | 
| MLInterfaces 1.33.4 | V. Carey |  OK  |  OK  |  OK  | 
| MLP 1.1.0 | Tobias Verbeke |  OK  |  OK  |  OK  | 
| mosaics 1.1.1 | Dongjun Chung |  OK  |  OK  |  OK  | 
| MotIV 1.7.0 | Eloi Mercier , Raphael Gottardo |  OK  |  OK  |  OK  | 
| MSnbase 1.1.17 | Laurent Gatto |  OK  |  OK  |  OK  | 
| Mulcom 1.3.0 | Claudio Isella |  OK  |  OK  |  OK  | 
| multiscan 1.13.0 | Mizanur Khondoker |  OK  |  OK  |  OK  | 
| multtest 2.9.0 | Katherine S. Pollard |  OK  |  OK  |  OK  | 
| MVCClass 1.27.0 | Elizabeth Whalen |  OK  |  OK  |  OK  | 
 | 
| N  A  B  C  D  E  F  G  H  I  J  K  L  M [N] O  P  Q  R  S  T  U  V  W  X  Y  Z  | 
| NCIgraph 1.1.0 | Laurent Jacob |  OK  |  OK  |  OK  | 
| nem 2.17.0 | Holger Froehlich |  OK  |  OK  |  OK  | 
| netresponse 1.5.12 | Leo Lahti |  OK  |  OK  |  OK  | 
| nnNorm 2.17.0 | Adi Laurentiu Tarca |  OK  |  OK  |  OK  | 
| NTW 1.3.0 | Yuanhua Liu |  OK  |  OK  |  OK  | 
| nudge 1.19.0 | N. Dean |  OK  |  OK  |  OK  | 
| NuPoP 1.3.0 | Ji-Ping Wang |  OK  |  OK  |  OK  | 
 | 
| O  A  B  C  D  E  F  G  H  I  J  K  L  M  N [O] P  Q  R  S  T  U  V  W  X  Y  Z  | 
| occugene 1.13.0 | Oliver Will |  OK  |  OK  |  OK  | 
| OCplus 1.27.0 | Alexander Ploner |  OK  |  OK  |  OK  | 
| oligo 1.17.2 | Benilton Carvalho |  OK  |  WARNINGS  |  OK  | 
| oligoClasses 1.15.9 | Benilton Carvalho  and Robert Scharpf |  OK  |  WARNINGS  |  OK  | 
| OLIN 1.31.0 | Matthias Futschik |  OK  |  OK  |  OK  | 
| OLINgui 1.27.0 | Matthias Futschik |  OK  |  OK  |  OK  | 
| oneChannelGUI 1.19.4 | Raffaele A Calogero |  OK  |  WARNINGS  |  OK  | 
| ontoCAT 1.4.2 | Natalja Kurbatova |  OK  |  OK  |  OK  | 
| ontoTools 1.31.0 | Vince Carey |  OK  |  OK  |  OK  | 
| OrderedList 1.25.0 | Claudio Lottaz |  OK  |  OK  |  OK  | 
| OTUbase 1.3.0 | Daniel Beck |  OK  |  OK  |  OK  | 
| OutlierD 1.17.0 | Sukwoo Kim |  OK  |  OK  |  OK  | 
 | 
| P  A  B  C  D  E  F  G  H  I  J  K  L  M  N  O [P] Q  R  S  T  U  V  W  X  Y  Z  | 
| pamr 1.51.0 | Rob Tibshirani |  OK  |  OK  |  OK  | 
| PAnnBuilder 1.17.0 | Li Hong |  OK  |  OK  |  OK  | 
| panp 1.23.0 | Peter Warren |  OK  |  OK  |  OK  | 
| parody 1.11.0 | VJ Carey |  OK  |  OK  |  OK  | 
| pathRender 1.21.0 | Li Long |  OK  |  OK  |  OK  | 
| PatientGeneSets 1.3.0 | Simina M. Boca |  OK  |  OK  |  OK  | 
| pcaMethods 1.38.0 | Wolfram Stacklies |  OK  |  OK  |  OK  | 
| pcot2 1.21.0 | Sarah Song |  OK  |  OK  |  OK  | 
| PCpheno 1.15.0 | Nolwenn Le Meur |  OK  |  OK  |  OK  | 
| pdInfoBuilder 1.17.0 | Benilton Carvalho |  OK  |  WARNINGS  |  OK  | 
| pdmclass 1.25.0 | James W. MacDonald |  OK  |  OK  |  OK  | 
| PGSEA 1.27.0 | Karl Dykema |  OK  |  OK  |  OK  | 
| pgUtils 1.25.0 | Johannes Rainer |  OK  |  OK  |  OK  | 
| phenoDist 1.1.0 | Xian Zhang | N O T   S U P P O R T E D | 
| phenoTest 1.1.1 | Evarist Planet |  ERROR  |  skipped  |  skipped  | 
| pickgene 1.25.0 | Brian S. Yandell |  OK  |  OK  |  OK  | 
| PICS 1.7.0 | Arnaud Droit , Xuekui Zhang , Raphael Gottardo |  OK  |  WARNINGS  |  OK  | 
| pint 1.5.09 | Olli-Pekka Huovilainen |  ERROR  |  skipped  |  skipped  | 
| pkgDepTools 1.19.0 | Seth Falcon |  OK  |  OK  |  OK  | 
| plateCore 1.11.0 | Errol Strain |  OK  |  OK  |  OK  | 
| plgem 1.25.0 | Norman Pavelka |  OK  |  OK  |  OK  | 
| plier 1.23.0 | Crispin Miller |  OK  |  OK  |  OK  | 
| PLPE 1.13.0 | Soo-heang Eo |  OK  |  OK  |  OK  | 
| plw 1.13.0 | Magnus Astrand |  OK  |  OK  |  OK  | 
| ppiStats 1.19.0 | Tony Chiang |  OK  |  OK  |  OK  | 
| prada 1.29.0 | Florian Hahne |  OK  |  OK  |  OK  | 
| preprocessCore 1.15.0 | Benjamin Milo Bolstad |  OK  |  OK  |  OK  | 
| PROcess 1.29.0 | Xiaochun Li |  OK  |  OK  |  OK  | 
| procoil 1.3.0 | Ulrich Bodenhofer |  OK  |  OK  |  OK  | 
| PROMISE 1.5.0 | Xueyuan Cao |  OK  |  OK  |  OK  | 
| puma 2.5.0 | Richard Pearson , Li Zhang |  OK  |  WARNINGS  |  OK  | 
| pvac 1.1.0 | Jun Lu , Pierre R. Bushel |  OK  |  OK  |  OK  | 
 | 
| Q  A  B  C  D  E  F  G  H  I  J  K  L  M  N  O  P [Q] R  S  T  U  V  W  X  Y  Z  | 
| qpcrNorm 1.11.0 | Jessica Mar |  OK  |  OK  |  OK  | 
| qpgraph 1.9.0 | Robert Castelo |  OK  |  OK  |  OK  | 
| qrqc 1.1.3 | Vince Buffalo |  OK  |  OK  |  OK  | 
| qtbase 0.8-14 | Michael Lawrence |  ERROR  |  skipped  |  skipped  | 
| quantsmooth 1.19.0 | Jan Oosting |  OK  |  OK  |  OK  | 
| qvalue 1.27.0 | John D. Storey |  OK  |  OK  |  OK  | 
 | 
| R  A  B  C  D  E  F  G  H  I  J  K  L  M  N  O  P  Q [R] S  T  U  V  W  X  Y  Z  | 
| R453Plus1Toolbox 1.3.1 | Hans-Ulrich Klein |  OK  |  OK  |  OK  | 
| rama 1.27.0 | Raphael Gottardo |  OK  |  OK  |  OK  | 
| randPack 0.99.0 | Robert Gentleman |  OK  |  OK  |  OK  | 
| RankProd 2.25.0 | Fangxin Hong |  OK  |  OK  |  OK  | 
| RbcBook1 1.21.0 | Vince Carey |  OK  |  OK  |  OK  | 
| RBGL 1.29.0 | Li Long |  OK  |  WARNINGS  |  OK  | 
| RBioinf 1.13.0 | Robert Gentleman |  OK  |  OK  |  OK  | 
| rbsurv 2.11.0 | Soo-heang Eo |  OK  |  OK  |  OK  | 
| RCASPAR 0.99.2 | Douaa Mugahid , Lars Kaderali |  OK  |  OK  |  OK  | 
| RCytoscape 1.3.2 | Paul Shannon |  OK  |  OK  |  OK  | 
| Rdisop 1.13.0 | Steffen Neumann |  OK  |  OK  |  OK  | 
| RDRToolbox 1.3.0 | Christoph Bartenhagen |  OK  |  OK  |  OK  | 
| ReadqPCR 0.99.3 | James Perkins |  OK  |  OK  |  OK  | 
| reb 1.29.0 | Karl J. Dykema |  OK  |  OK  |  OK  | 
| REDseq 0.99.5 | Lihua Julie Zhu |  ERROR  |  skipped  |  skipped  | 
| RefPlus 1.23.0 | Kai-Ming Chang |  OK  |  OK  |  OK  | 
| Repitools 0.99.17 | Mark Robinson |  OK  |  WARNINGS  |  OK  | 
| Resourcerer 1.27.0 | Jianhua Zhang |  OK  |  OK  |  OK  | 
| rGADEM 1.5.0 | Arnaud Droit |  OK  |  WARNINGS  |  OK  | 
| Rgraphviz 1.31.1 | Kasper Hansen |  OK  |  ERROR  |  OK  | 
| rHVDM 1.19.0 | Martino Barenco |  OK  |  OK  |  OK  | 
| Ringo 1.17.1 | J. Toedling |  OK  |  OK  |  OK  | 
| RLMM 1.15.0 | Nusrat Rabbee |  OK  |  OK  |  OK  | 
| RMAGEML 2.27.0 | Steffen Durinck | N O T   S U P P O R T E D | 
| Rmagpie 1.9.0 | Camille Maumet |  OK  |  OK  |  OK  | 
| RMAPPER 1.3.0 | Heike Sichtig , Alberto Riva |  OK  |  OK  |  OK  | 
| rMAT 3.3.0 | Arnaud Droit  and Raphael Gottardo |  OK  |  WARNINGS  |  OK  | 
| RmiR 1.9.0 | Francesco Favero |  OK  |  OK  |  OK  | 
| RNAinteract 1.1.1 | Bernd Fischer |  OK  |  OK  |  OK  | 
| RNAither 2.1.1 | Nora Rieber |  OK  |  ERROR  |  OK  | 
| rnaSeqMap 2.7.7 | Michal Okoniewski |  OK  |  OK  |  OK  | 
| ROC 1.29.0 | Vince Carey |  OK  |  OK  |  OK  | 
| Rolexa 1.9.0 | Jacques Rougemont |  OK  |  OK  |  OK  | 
| RPA 1.9.16 | Leo Lahti |  OK  |  OK  |  OK  | 
| RpsiXML 1.13.0 | Jitao David Zhang |  OK  |  OK  |  OK  | 
| Rredland 1.19.0 | VJ Carey | N O T   S U P P O R T E D | 
| Rsamtools 1.5.36 | Biocore Team c/o BioC user list |  OK  |  WARNINGS  |  OK  | 
| rsbml 2.11.0 | Michael Lawrence |  OK  |  WARNINGS  |  OK  | 
| Rsubread 1.1.0 | Wei Shi | N O T   S U P P O R T E D | 
| RTCA 1.5.0 | Jitao David Zhang |  OK  |  WARNINGS  |  OK  | 
| RTools4TB 1.9.0 | Aurelie Bergon |  ERROR  |  skipped  |  skipped  | 
| rtracklayer 1.13.7 | Michael Lawrence |  ERROR  |  skipped  |  skipped  | 
| Rtreemix 1.15.0 | Jasmina Bogojeska |  OK  |  OK  |  OK  | 
| RWebServices 1.17.0 | Martin Morgan | N O T   S U P P O R T E D | 
 | 
| S  A  B  C  D  E  F  G  H  I  J  K  L  M  N  O  P  Q  R [S] T  U  V  W  X  Y  Z  | 
| safe 2.13.0 | William T. Barry |  OK  |  OK  |  OK  | 
| sagenhaft 1.23.0 | Tim Beissbarth |  OK  |  OK  |  OK  | 
| SAGx 1.27.0 | Per Broberg, |  OK  |  OK  |  OK  | 
| SamSPECTRAL 1.7.3 | Habil Zare |  OK  |  OK  |  OK  | 
| SBMLR 1.49.0 | Tomas Radivoyevitch |  OK  |  OK  |  OK  | 
| ScISI 1.25.0 | Tony Chiang |  OK  |  OK  |  OK  | 
| segmentSeq 1.5.1 | Thomas J. Hardcastle |  OK  |  WARNINGS  |  OK  | 
| seqbias 1.1.0 | Daniel Jones |  OK  |  OK  |  OK  | 
| seqLogo 1.19.0 | Oliver Bembom |  OK  |  OK  |  OK  | 
| ShortRead 1.11.23 | Biocore Team c/o BioC user list |  OK  |  WARNINGS  |  OK  | 
| siggenes 1.27.1 | Holger Schwender |  OK  |  OK  |  OK  | 
| sigPathway 1.21.0 | Weil Lai |  OK  |  OK  |  OK  | 
| SIM 1.21.0 | Maarten van Iterson |  OK  |  OK  |  OK  | 
| simpleaffy 2.29.0 | Crispin Miller |  OK  |  OK  |  OK  | 
| sizepower 1.23.0 | Weiliang Qiu |  OK  |  OK  |  OK  | 
| SJava 0.79.0 | Martin Morgan | N O T   S U P P O R T E D | 
| SLGI 1.13.0 | Nolwenn Le Meur |  OK  |  OK  |  OK  | 
| SLqPCR 1.19.1 | Matthias Kohl |  OK  |  OK  |  OK  | 
| SMAP 1.17.0 | Robin Andersson |  OK  |  OK  |  OK  | 
| snapCGH 1.23.0 | John Marioni |  OK  |  OK  |  OK  | 
| snm 1.1.0 | Brig Mecham |  OK  |  OK  |  OK  | 
| SNPchip 1.17.0 | Robert Scharpf |  OK  |  OK  |  OK  | 
| snpMatrix 1.17.2 | David Clayton |  OK  |  OK  |  OK  | 
| snpStats 1.3.1 | David Clayton |  OK  |  OK  |  OK  | 
| SpeCond 1.7.1 | Florence Cavalli |  OK  |  OK  |  OK  | 
| SPIA 2.3.0 | Adi Laurentiu Tarca |  OK  |  OK  |  OK  | 
| spikeLI 2.13.0 | Enrico Carlon |  OK  |  OK  |  OK  | 
| spkTools 1.9.0 | Matthew N McCall |  OK  |  OK  |  OK  | 
| splicegear 1.25.0 | Laurent Gautier |  OK  |  OK  |  OK  | 
| splots 1.19.0 | Wolfgang Huber |  OK  |  OK  |  OK  | 
| spotSegmentation 1.27.0 | Chris Fraley |  OK  |  OK  |  OK  | 
| SQUADD 1.3.0 | Martial Sankar |  OK  |  OK  |  OK  | 
| SRAdb 1.7.0 | Jack Zhu |  OK  |  OK  |  OK  | 
| sscore 1.25.0 | Richard Kennedy |  OK  |  OK  |  OK  | 
| ssize 1.27.0 | Gregory R. Warnes |  OK  |  OK  |  OK  | 
| SSPA 1.9.0 | Maarten van Iterson |  OK  |  OK  |  OK  | 
| Starr 1.9.2 | Benedikt Zacher |  OK  |  OK  |  OK  | 
| stepNorm 1.25.0 | Yuanyuan Xiao |  OK  |  OK  |  OK  | 
| survcomp 1.3.5 | Benjamin Haibe-Kains , Markus Schroeder |  OK  |  OK  |  OK  | 
 | 
| T  A  B  C  D  E  F  G  H  I  J  K  L  M  N  O  P  Q  R  S [T] U  V  W  X  Y  Z  | 
| TargetSearch 1.9.1 | Alvaro Cuadros-Inostroza |  OK  |  OK  |  OK  | 
| TDARACNE 1.3.0 | Zoppoli Pietro |  OK  |  OK  |  OK  | 
| TEQC 1.1.2 | Manuela Hummel |  OK  |  OK  |  OK  | 
| tigre 1.7.2 | Antti Honkela |  OK  |  OK  |  OK  | 
| tilingArray 1.31.0 | Zhenyu Xu |  OK  |  OK  |  OK  | 
| timecourse 1.25.0 | Yu Chuan Tai |  OK  |  OK  |  OK  | 
| tkWidgets 1.31.0 | J. Zhang |  OK  |  OK  |  OK  | 
| topGO 2.5.0 | Adrian Alexa |  OK  |  OK  |  OK  | 
| tspair 1.11.0 | Jeffrey T. Leek |  OK  |  OK  |  OK  | 
| TurboNorm 1.1.0 | Maarten van Iterson |  OK  |  OK  |  OK  | 
| twilight 1.29.0 | Stefanie Scheid |  ERROR  |  skipped  |  skipped  | 
| TypeInfo 1.19.0 | Duncan Temple Lang |  OK  |  OK  |  OK  | 
 | 
| V  A  B  C  D  E  F  G  H  I  J  K  L  M  N  O  P  Q  R  S  T  U [V] W  X  Y  Z  | 
| VanillaICE 1.15.0 | Robert Scharpf |  OK  |  OK  |  OK  | 
| vbmp 1.21.0 | Nicola Lama |  OK  |  OK  |  OK  | 
| Vega 1.1.0 | Sandro Morganella |  OK  |  WARNINGS  |  OK  | 
| vsn 3.21.1 | Wolfgang Huber |  OK  |  OK  |  OK  | 
 | 
| W  A  B  C  D  E  F  G  H  I  J  K  L  M  N  O  P  Q  R  S  T  U  V [W] X  Y  Z  | 
| weaver 1.19.0 | Seth Falcon |  OK  |  OK  |  OK  | 
| webbioc 1.25.0 | Colin A. Smith |  OK  |  OK  |  OK  | 
| widgetTools 1.31.0 | Jianhua Zhang |  OK  |  OK  |  OK  | 
 | 
| X  A  B  C  D  E  F  G  H  I  J  K  L  M  N  O  P  Q  R  S  T  U  V  W [X] Y  Z  | 
| xcms 1.27.3 | Ralf Tautenhahn |  OK  |  OK  |  OK  | 
| XDE 1.99.2 | Robert Scharpf |  ERROR  |  skipped  |  skipped  | 
| xmapbridge 1.11.0 | Tim Yates |  OK  |  OK  |  OK  | 
| xmapcore 1.7.1 | Tim Yates |  OK  |  ERROR  |  OK  | 
| xps 1.13.2 | Christian Stratowa |  ERROR  |  skipped  |  skipped  | 
 | 
| Y  A  B  C  D  E  F  G  H  I  J  K  L  M  N  O  P  Q  R  S  T  U  V  W  X [Y] Z  | 
| yaqcaffy 1.13.0 | Laurent Gatto |  OK  |  OK  |  OK  | 
 | 
| Z  A  B  C  D  E  F  G  H  I  J  K  L  M  N  O  P  Q  R  S  T  U  V  W  X  Y [Z] | 
| zlibbioc 0.1.6 | Biocore Team c/o BioC user list |  OK  |  WARNINGS  |  OK  |