Agi4x44PreProcess 1.13.1 Pedro Lopez-Romero
 | Snapshot Date: 2011-07-06 19:21:50 -0700 (Wed, 06 Jul 2011) |  | URL: https://hedgehog.fhcrc.org/bioconductor/trunk/madman/Rpacks/Agi4x44PreProcess |  | Last Changed Rev: 55341 / Revision: 56603 |  | Last Changed Date: 2011-05-08 20:15:32 -0700 (Sun, 08 May 2011) |  
  | wilson2  | Linux (openSUSE 11.4) / x86_64  |  OK  |  OK  |  | 
| liverpool  | Windows Server 2003 R2 (32-bit) / x64  |  OK  |  OK  |  OK  | 
| gewurz  | Windows Server 2008 R2 Enterprise (64-bit) / x64  |  OK  |  OK  |  OK  | 
| moscato1  | Windows Server 2008 R2 Enterprise (64-bit) / x64  |  OK  |  OK  |  OK  | 
| pitt  | Mac OS X Leopard (10.5.8) / i386  |  OK  |  OK  | [ OK ] | 
>>>>>>> 
>>>>>>> INSTALLATION WITH 'R CMD INSTALL --preclean --library=Agi4x44PreProcess.buildbin-libdir Agi4x44PreProcess_1.13.1.tar.gz'
>>>>>>> 
* installing *source* package 'Agi4x44PreProcess' ...
** R
** data
** inst
** preparing package for lazy loading
Welcome to Bioconductor
  Vignettes contain introductory material. To view, type
  'browseVignettes()'. To cite Bioconductor, see
  'citation("Biobase")' and for packages 'citation("pkgname")'.
Loading required package: AnnotationDbi
** help
*** installing help indices
** building package indices ...
*** tangling vignette sources ...
   'Agi4x44PreProcess.Rnw' using 'latin1' 
** testing if installed package can be loaded
* DONE (Agi4x44PreProcess)