mBPCR 1.7.0 P.M.V. Rancoita
 | Snapshot Date: 2011-07-06 19:21:50 -0700 (Wed, 06 Jul 2011) |  | URL: https://hedgehog.fhcrc.org/bioconductor/trunk/madman/Rpacks/mBPCR |  | Last Changed Rev: 54802 / Revision: 56603 |  | Last Changed Date: 2011-04-13 15:36:43 -0700 (Wed, 13 Apr 2011) |  
  | wilson2  | Linux (openSUSE 11.4) / x86_64  |  OK  |  OK  |  | 
| liverpool  | Windows Server 2003 R2 (32-bit) / x64  |  OK  |  OK  |  OK  | 
| gewurz  | Windows Server 2008 R2 Enterprise (64-bit) / x64  |  OK  |  OK  |  OK  | 
| moscato1  | Windows Server 2008 R2 Enterprise (64-bit) / x64  |  OK  |  OK  |  OK  | 
| pitt  | Mac OS X Leopard (10.5.8) / i386  |  OK  |  OK  | [ OK ] | 
>>>>>>> 
>>>>>>> INSTALLATION WITH 'R CMD INSTALL --preclean --library=mBPCR.buildbin-libdir mBPCR_1.7.0.tar.gz'
>>>>>>> 
* installing *source* package 'mBPCR' ...
** R
** data
**  moving datasets to lazyload DB
** inst
** preparing package for lazy loading
Loading required package: Biobase
Welcome to Bioconductor
  Vignettes contain introductory material. To view, type
  'browseVignettes()'. To cite Bioconductor, see
  'citation("Biobase")' and for packages 'citation("pkgname")'.
================================================================================
Welcome to oligoClasses version 1.15.9
================================================================================
Large dataset support for 'oligo/crlmm': Disabled
     - Load 'ff'
================================================================================
Parallel computing support for 'oligo/crlmm': Disabled
     - Load 'ff'
     - Load 'snow'
     - Use options(cluster=makeCluster(...))
================================================================================
Welcome to SNPchip version 1.17.0
** help
*** installing help indices
** building package indices ...
*** tangling vignette sources ...
   'mBPCR.Rnw' 
** testing if installed package can be loaded
================================================================================
Welcome to oligoClasses version 1.15.9
================================================================================
Large dataset support for 'oligo/crlmm': Disabled
     - Load 'ff'
================================================================================
Parallel computing support for 'oligo/crlmm': Disabled
     - Load 'ff'
     - Load 'snow'
     - Use options(cluster=makeCluster(...))
================================================================================
Welcome to SNPchip version 1.17.0
* DONE (mBPCR)