xmapcore 1.7.1 Tim Yates
 | Snapshot Date: 2011-07-06 19:21:50 -0700 (Wed, 06 Jul 2011) |  | URL: https://hedgehog.fhcrc.org/bioconductor/trunk/madman/Rpacks/xmapcore |  | Last Changed Rev: 56551 / Revision: 56603 |  | Last Changed Date: 2011-07-05 01:31:57 -0700 (Tue, 05 Jul 2011) |  
  | wilson2  | Linux (openSUSE 11.4) / x86_64  |  OK  |  ERROR  |  | 
| liverpool  | Windows Server 2003 R2 (32-bit) / x64  | N O T   S U P P O R T E D | 
| gewurz  | Windows Server 2008 R2 Enterprise (64-bit) / x64  | N O T   S U P P O R T E D | 
| moscato1  | Windows Server 2008 R2 Enterprise (64-bit) / x64  | N O T   S U P P O R T E D | 
| pitt  | Mac OS X Leopard (10.5.8) / i386  |  OK  |  ERROR  | [ OK ] | 
>>>>>>> 
>>>>>>> INSTALLATION WITH 'R CMD INSTALL --preclean --library=xmapcore.buildbin-libdir xmapcore_1.7.1.tar.gz'
>>>>>>> 
* installing *source* package 'xmapcore' ...
** R
** inst
** preparing package for lazy loading
Attaching package: 'IRanges'
The following object(s) are masked from 'package:base':
    Map, cbind, eval, intersect, mapply, order, paste, pmax, pmax.int,
    pmin, pmin.int, rbind, rep.int, setdiff, table, union
** help
*** installing help indices
** building package indices ...
*** tangling vignette sources ...
   'INSTALL.Rnw' 
   'xmapcore.Rnw' 
** testing if installed package can be loaded
* DONE (xmapcore)