Genominator 1.7.0 James Bullard
 | Snapshot Date: 2011-07-06 19:21:50 -0700 (Wed, 06 Jul 2011) |  | URL: https://hedgehog.fhcrc.org/bioconductor/trunk/madman/Rpacks/Genominator |  | Last Changed Rev: 54802 / Revision: 56603 |  | Last Changed Date: 2011-04-13 15:36:43 -0700 (Wed, 13 Apr 2011) |  
  | wilson2  | Linux (openSUSE 11.4) / x86_64  |  OK  |  OK  |  | 
| liverpool  | Windows Server 2003 R2 (32-bit) / x64  |  OK  |  OK  |  OK  | 
| gewurz  | Windows Server 2008 R2 Enterprise (64-bit) / x64  |  OK  |  OK  |  OK  | 
| moscato1  | Windows Server 2008 R2 Enterprise (64-bit) / x64  |  OK  |  OK  |  OK  | 
| pitt  | Mac OS X Leopard (10.5.8) / i386  |  OK  |  OK  | [ OK ] | 
>>>>>>> 
>>>>>>> INSTALLATION WITH 'R CMD INSTALL --preclean --library=Genominator.buildbin-libdir Genominator_1.7.0.tar.gz'
>>>>>>> 
* installing *source* package 'Genominator' ...
** R
** data
** inst
** preparing package for lazy loading
Loading required package: DBI
Attaching package: 'IRanges'
The following object(s) are masked from 'package:base':
    Map, cbind, eval, intersect, mapply, order, paste, pmax, pmax.int,
    pmin, pmin.int, rbind, rep.int, setdiff, table, union
Loading required package: biomaRt
Loading required package: grid
** help
*** installing help indices
** building package indices ...
*** tangling vignette sources ...
   'Genominator.Rnw' 
   'plotting.Rnw' 
   'withShortRead.Rnw' 
** testing if installed package can be loaded
* DONE (Genominator)