oligoClasses 1.15.9 Benilton Carvalho  and Robert Scharpf
 | Snapshot Date: 2011-07-06 19:21:50 -0700 (Wed, 06 Jul 2011) |  | URL: https://hedgehog.fhcrc.org/bioconductor/trunk/madman/Rpacks/oligoClasses |  | Last Changed Rev: 55800 / Revision: 56603 |  | Last Changed Date: 2011-05-24 05:48:19 -0700 (Tue, 24 May 2011) |  
  | wilson2  | Linux (openSUSE 11.4) / x86_64  |  OK  |  WARNINGS  |  | 
| liverpool  | Windows Server 2003 R2 (32-bit) / x64  |  OK  |  WARNINGS  |  OK  | 
| gewurz  | Windows Server 2008 R2 Enterprise (64-bit) / x64  |  OK  |  WARNINGS  |  OK  | 
| moscato1  | Windows Server 2008 R2 Enterprise (64-bit) / x64  |  OK  |  WARNINGS  |  OK  | 
| pitt  | Mac OS X Leopard (10.5.8) / i386  |  OK  |  WARNINGS  | [ OK ] | 
>>>>>>> 
>>>>>>> INSTALLATION WITH 'R CMD INSTALL --preclean --library=oligoClasses.buildbin-libdir oligoClasses_1.15.9.tar.gz'
>>>>>>> 
* installing *source* package 'oligoClasses' ...
** R
** data
** inst
** preparing package for lazy loading
Welcome to Bioconductor
  Vignettes contain introductory material. To view, type
  'browseVignettes()'. To cite Bioconductor, see
  'citation("Biobase")' and for packages 'citation("pkgname")'.
Creating a generic function for "close" from package "base" in package "oligoClasses"
Creating a generic function for "open" from package "base" in package "oligoClasses"
** help
*** installing help indices
** building package indices ...
** testing if installed package can be loaded
================================================================================
Welcome to oligoClasses version 1.15.9
================================================================================
Large dataset support for 'oligo/crlmm': Disabled
     - Load 'ff'
================================================================================
Parallel computing support for 'oligo/crlmm': Disabled
     - Load 'ff'
     - Load 'snow'
     - Use options(cluster=makeCluster(...))
================================================================================
* DONE (oligoClasses)