clusterProfiler 1.1.15 Guangchuang Yu
 | Snapshot Date: 2011-07-06 19:21:50 -0700 (Wed, 06 Jul 2011) |  | URL: https://hedgehog.fhcrc.org/bioconductor/trunk/madman/Rpacks/clusterProfiler |  | Last Changed Rev: 56260 / Revision: 56603 |  | Last Changed Date: 2011-06-16 18:18:20 -0700 (Thu, 16 Jun 2011) |  
  | wilson2  | Linux (openSUSE 11.4) / x86_64  |  OK  |  OK  |  | 
| liverpool  | Windows Server 2003 R2 (32-bit) / x64  |  OK  |  OK  |  OK  | 
| gewurz  | Windows Server 2008 R2 Enterprise (64-bit) / x64  |  OK  |  OK  |  OK  | 
| moscato1  | Windows Server 2008 R2 Enterprise (64-bit) / x64  |  OK  |  OK  |  OK  | 
| pitt  | Mac OS X Leopard (10.5.8) / i386  |  OK  |  OK  | [ OK ] | 
>>>>>>> 
>>>>>>> INSTALLATION WITH 'R CMD INSTALL --preclean --library=clusterProfiler.buildbin-libdir clusterProfiler_1.1.15.tar.gz'
>>>>>>> 
* installing *source* package 'clusterProfiler' ...
** R
** data
** inst
** preparing package for lazy loading
Loading required package: reshape
Loading required package: plyr
Attaching package: 'reshape'
The following object(s) are masked from 'package:plyr':
    rename, round_any
Loading required package: grid
Loading required package: proto
Loading Tcl/Tk interface ... done
Loading required package: DBI
** help
*** installing help indices
** building package indices ...
*** tangling vignette sources ...
   'clusterProfiler.Rnw' 
** testing if installed package can be loaded
* DONE (clusterProfiler)