SLGI 1.13.0 Nolwenn Le Meur
 | Snapshot Date: 2011-07-06 19:21:50 -0700 (Wed, 06 Jul 2011) |  | URL: https://hedgehog.fhcrc.org/bioconductor/trunk/madman/Rpacks/SLGI |  | Last Changed Rev: 54802 / Revision: 56603 |  | Last Changed Date: 2011-04-13 15:36:43 -0700 (Wed, 13 Apr 2011) |  
  | wilson2  | Linux (openSUSE 11.4) / x86_64  |  OK  |  OK  |  | 
| liverpool  | Windows Server 2003 R2 (32-bit) / x64  |  OK  |  OK  |  OK  | 
| gewurz  | Windows Server 2008 R2 Enterprise (64-bit) / x64  |  OK  |  OK  |  OK  | 
| moscato1  | Windows Server 2008 R2 Enterprise (64-bit) / x64  |  OK  |  OK  |  OK  | 
| pitt  | Mac OS X Leopard (10.5.8) / i386  |  OK  | [ OK ] |  OK  | 
* using log directory '/Users/biocbuild/bbs-2.9-bioc/meat/SLGI.Rcheck'
* using R version 2.14.0 Under development (unstable) (2011-06-22 r56208)
* using platform: i386-apple-darwin9.8.0 (32-bit)
* using session charset: ASCII
* using option '--no-vignettes'
* checking for file 'SLGI/DESCRIPTION' ... OK
* this is package 'SLGI' version '1.13.0'
* checking package name space information ... OK
* checking package dependencies ... OK
* checking if this is a source package ... OK
* checking whether package 'SLGI' can be installed ... OK
* checking installed package size ... NOTE
  installed size is 25.4Mb
  sub-directories of 1Mb or more:
    data     13.7Mb
    extdata  11.3Mb
* checking package directory ... OK
* checking for portable file names ... OK
* checking for sufficient/correct file permissions ... OK
* checking DESCRIPTION meta-information ... OK
* checking top-level files ... OK
* checking index information ... OK
* checking package subdirectories ... OK
* checking R files for non-ASCII characters ... OK
* checking R files for syntax errors ... OK
* checking whether the package can be loaded ... OK
* checking whether the package can be loaded with stated dependencies ... OK
* checking whether the package can be unloaded cleanly ... OK
* checking whether the name space can be loaded with stated dependencies ... OK
* checking whether the name space can be unloaded cleanly ... OK
* checking for unstated dependencies in R code ... OK
* checking S3 generic/method consistency ... OK
* checking replacement functions ... OK
* checking foreign function calls ... OK
* checking R code for possible problems ... OK
* checking Rd files ... OK
* checking Rd metadata ... OK
* checking Rd cross-references ... OK
* checking for missing documentation entries ... OK
* checking for code/documentation mismatches ... OK
* checking Rd \usage sections ... OK
* checking Rd contents ... OK
* checking for unstated dependencies in examples ... NOTE
'library' or 'require' call not declared from: 'YEAST'
* checking contents of 'data' directory ... OK
* checking data for non-ASCII characters ... OK
* checking data for ASCII and uncompressed saves ... NOTE
  
  Note: significantly better compression could be obtained
        by using tools::resaveRdaFiles() or R CMD build --resave-data
                          old_size new_size compress
  Atong.rda                   13Kb      6Kb    bzip2
  AtongFnDomain.rda          6.3Mb    164Kb       xz
  AtongPair.rda               57Kb     20Kb       xz
  Boeke2006raw.rda            24Kb     15Kb       xz
  SGA.rda                     14Kb      9Kb    bzip2
  SGAraw.rda                  13Kb      9Kb       xz
  SGD.SL.rda                 895Kb    500Kb       xz
  SGD.SynGrowthDefect.rda    869Kb    491Kb       xz
  SGD.SynRescue.rda          851Kb    483Kb       xz
  TFmat.rda                 1008Kb    626Kb       xz
  dSLAM.GPL1444.rda          335Kb    141Kb       xz
  dSLAM.rda                   30Kb      5Kb       xz
  gi2005.rda                 768Kb    456Kb       xz
  gi2007.rda                 2.6Mb    1.2Mb       xz
  tong2004raw.RData           44Kb     29Kb    bzip2
* checking sizes of PDF files under 'inst/doc' ... OK
* checking examples ... OK
* checking for unstated dependencies in vignettes ... OK
* checking package vignettes in 'inst/doc' ... OK
* checking running R code from vignettes ... SKIPPED
* checking re-building of vignettes ... SKIPPED
* checking PDF version of manual ... OK
 
* installing *source* package 'SLGI' ...
** R
** data
** inst
** preparing package for lazy loading
Loading required package: GO.db
Loading required package: AnnotationDbi
Loading required package: Biobase
Welcome to Bioconductor
  Vignettes contain introductory material. To view, type
  'browseVignettes()'. To cite Bioconductor, see
  'citation("Biobase")' and for packages 'citation("pkgname")'.
Loading required package: DBI
Loading required package: RpsiXML
Loading required package: annotate
Loading required package: graph
Loading required package: RBGL
Loading required package: XML
Attaching package: 'XML'
The following object(s) are masked from 'package:graph':
    addNode
Loading required package: hypergraph
Attaching package: 'hypergraph'
The following object(s) are masked from 'package:AnnotationDbi':
    head, tail
The following object(s) are masked from 'package:utils':
    head, tail
Loading required package: apComplex
Creating a generic function for "plot" from package "graphics" in package "SLGI"
** help
*** installing help indices
** building package indices ...
*** tangling vignette sources ...
   'SLGI.Rnw' 
** testing if installed package can be loaded
* DONE (SLGI)