ExpressionView 1.5.0 Gabor Csardi
 | Snapshot Date: 2011-07-06 19:21:50 -0700 (Wed, 06 Jul 2011) |  | URL: https://hedgehog.fhcrc.org/bioconductor/trunk/madman/Rpacks/ExpressionView |  | Last Changed Rev: 56066 / Revision: 56603 |  | Last Changed Date: 2011-06-08 15:07:12 -0700 (Wed, 08 Jun 2011) |  
  | wilson2  | Linux (openSUSE 11.4) / x86_64  |  OK  |  WARNINGS  |  | 
| liverpool  | Windows Server 2003 R2 (32-bit) / x64  |  OK  |  WARNINGS  |  OK  | 
| gewurz  | Windows Server 2008 R2 Enterprise (64-bit) / x64  |  OK  |  WARNINGS  |  OK  | 
| moscato1  | Windows Server 2008 R2 Enterprise (64-bit) / x64  |  OK  |  WARNINGS  |  OK  | 
| pitt  | Mac OS X Leopard (10.5.8) / i386  |  OK  |  WARNINGS  | [ OK ] | 
>>>>>>> 
>>>>>>> INSTALLATION WITH 'R CMD INSTALL --preclean --library=ExpressionView.buildbin-libdir ExpressionView_1.5.0.tar.gz'
>>>>>>> 
* installing *source* package 'ExpressionView' ...
** libs
*** arch - i386
g++-4.2 -arch i386 -I/Library/Frameworks/R.framework/Resources/include -I/Library/Frameworks/R.framework/Resources/include/i386  -I/usr/local/include    -fPIC  -g -O2 -Wall -fasm-blocks -c order.cpp -o order.o
g++-4.2 -arch i386 -I/Library/Frameworks/R.framework/Resources/include -I/Library/Frameworks/R.framework/Resources/include/i386  -I/usr/local/include    -fPIC  -g -O2 -Wall -fasm-blocks -c orderclusters.cpp -o orderclusters.o
g++-4.2 -arch i386 -dynamiclib -Wl,-headerpad_max_install_names -undefined dynamic_lookup -single_module -multiply_defined suppress -L/usr/local/lib -o ExpressionView.so order.o orderclusters.o -F/Library/Frameworks/R.framework/.. -framework R -Wl,-framework -Wl,CoreFoundation
installing to /Users/biocbuild/bbs-2.9-bioc/meat/ExpressionView.buildbin-libdir/ExpressionView/libs/i386
*** arch - ppc
g++-4.2 -arch ppc -I/Library/Frameworks/R.framework/Resources/include -I/Library/Frameworks/R.framework/Resources/include/ppc  -I/usr/local/include    -fPIC  -g -O2 -Wall -fasm-blocks -c order.cpp -o order.o
g++-4.2 -arch ppc -I/Library/Frameworks/R.framework/Resources/include -I/Library/Frameworks/R.framework/Resources/include/ppc  -I/usr/local/include    -fPIC  -g -O2 -Wall -fasm-blocks -c orderclusters.cpp -o orderclusters.o
g++-4.2 -arch ppc -dynamiclib -Wl,-headerpad_max_install_names -undefined dynamic_lookup -single_module -multiply_defined suppress -L/usr/local/lib -o ExpressionView.so order.o orderclusters.o -F/Library/Frameworks/R.framework/.. -framework R -Wl,-framework -Wl,CoreFoundation
installing to /Users/biocbuild/bbs-2.9-bioc/meat/ExpressionView.buildbin-libdir/ExpressionView/libs/ppc
*** arch - x86_64
g++-4.2 -arch x86_64 -I/Library/Frameworks/R.framework/Resources/include -I/Library/Frameworks/R.framework/Resources/include/x86_64  -I/usr/local/include    -fPIC  -g -O2 -Wall -fasm-blocks -c order.cpp -o order.o
g++-4.2 -arch x86_64 -I/Library/Frameworks/R.framework/Resources/include -I/Library/Frameworks/R.framework/Resources/include/x86_64  -I/usr/local/include    -fPIC  -g -O2 -Wall -fasm-blocks -c orderclusters.cpp -o orderclusters.o
g++-4.2 -arch x86_64 -dynamiclib -Wl,-headerpad_max_install_names -undefined dynamic_lookup -single_module -multiply_defined suppress -L/usr/local/lib -o ExpressionView.so order.o orderclusters.o -F/Library/Frameworks/R.framework/.. -framework R -Wl,-framework -Wl,CoreFoundation
installing to /Users/biocbuild/bbs-2.9-bioc/meat/ExpressionView.buildbin-libdir/ExpressionView/libs/x86_64
** R
** inst
** preparing package for lazy loading
Loading required package: bitops
Loading required package: DBI
in method for 'ExportEV' with signature 'biclusters="Biclust"': no definition for class "Biclust"
Loading required package: eisa
Loading required package: isa2
Loading required package: Biobase
Welcome to Bioconductor
  Vignettes contain introductory material. To view, type
  'browseVignettes()'. To cite Bioconductor, see
  'citation("Biobase")' and for packages 'citation("pkgname")'.
Loading required package: AnnotationDbi
Loading required package: Category
Loading required package: genefilter
Loading required package: biclust
Loading required package: MASS
Attaching package: 'MASS'
The following object(s) are masked from 'package:genefilter':
    area
Loading required package: grid
Loading required package: colorspace
Loading required package: lattice
** help
*** installing help indices
** building package indices ...
*** tangling vignette sources ...
   'ExpressionView.format.Rnw' 
   'ExpressionView.ordering.Rnw' 
   'ExpressionView.tutorial.Rnw' 
Warning: value of 'results' option should be lowercase
** testing if installed package can be loaded
* DONE (ExpressionView)
>>>>>>> 
>>>>>>> FIXING LINKS FOR ExpressionView.buildbin-libdir/ExpressionView/libs/i386/ExpressionView.so
>>>>>>> 
install_name_tool -change "/usr/local/lib/libgcc_s.1.dylib" "/Library/Frameworks/R.framework/Versions/2.14/Resources/lib/libgcc_s.1.dylib" "ExpressionView.buildbin-libdir/ExpressionView/libs/i386/ExpressionView.so"
install_name_tool -change "/usr/local/lib/libgfortran.2.dylib" "/Library/Frameworks/R.framework/Versions/2.14/Resources/lib/libgfortran.2.dylib" "ExpressionView.buildbin-libdir/ExpressionView/libs/i386/ExpressionView.so"
install_name_tool -change "/usr/local/lib/libreadline.5.2.dylib" "/Library/Frameworks/R.framework/Versions/2.14/Resources/lib/libreadline.5.2.dylib" "ExpressionView.buildbin-libdir/ExpressionView/libs/i386/ExpressionView.so"
install_name_tool -change "/usr/local/lib/libreadline.dylib" "/Library/Frameworks/R.framework/Versions/2.14/Resources/lib/libreadline.dylib" "ExpressionView.buildbin-libdir/ExpressionView/libs/i386/ExpressionView.so"
>>>>>>> 
>>>>>>> FIXING LINKS FOR ExpressionView.buildbin-libdir/ExpressionView/libs/ppc/ExpressionView.so
>>>>>>> 
install_name_tool -change "/usr/local/lib/libgcc_s.1.dylib" "/Library/Frameworks/R.framework/Versions/2.14/Resources/lib/libgcc_s.1.dylib" "ExpressionView.buildbin-libdir/ExpressionView/libs/ppc/ExpressionView.so"
install_name_tool -change "/usr/local/lib/libgfortran.2.dylib" "/Library/Frameworks/R.framework/Versions/2.14/Resources/lib/libgfortran.2.dylib" "ExpressionView.buildbin-libdir/ExpressionView/libs/ppc/ExpressionView.so"
install_name_tool -change "/usr/local/lib/libreadline.5.2.dylib" "/Library/Frameworks/R.framework/Versions/2.14/Resources/lib/libreadline.5.2.dylib" "ExpressionView.buildbin-libdir/ExpressionView/libs/ppc/ExpressionView.so"
install_name_tool -change "/usr/local/lib/libreadline.dylib" "/Library/Frameworks/R.framework/Versions/2.14/Resources/lib/libreadline.dylib" "ExpressionView.buildbin-libdir/ExpressionView/libs/ppc/ExpressionView.so"
>>>>>>> 
>>>>>>> FIXING LINKS FOR ExpressionView.buildbin-libdir/ExpressionView/libs/x86_64/ExpressionView.so
>>>>>>> 
install_name_tool -change "/usr/local/lib/libgcc_s.1.dylib" "/Library/Frameworks/R.framework/Versions/2.14/Resources/lib/libgcc_s.1.dylib" "ExpressionView.buildbin-libdir/ExpressionView/libs/x86_64/ExpressionView.so"
install_name_tool -change "/usr/local/lib/libgfortran.2.dylib" "/Library/Frameworks/R.framework/Versions/2.14/Resources/lib/libgfortran.2.dylib" "ExpressionView.buildbin-libdir/ExpressionView/libs/x86_64/ExpressionView.so"
install_name_tool -change "/usr/local/lib/libreadline.5.2.dylib" "/Library/Frameworks/R.framework/Versions/2.14/Resources/lib/libreadline.5.2.dylib" "ExpressionView.buildbin-libdir/ExpressionView/libs/x86_64/ExpressionView.so"
install_name_tool -change "/usr/local/lib/libreadline.dylib" "/Library/Frameworks/R.framework/Versions/2.14/Resources/lib/libreadline.dylib" "ExpressionView.buildbin-libdir/ExpressionView/libs/x86_64/ExpressionView.so"