ABarray 1.21.0 Yongming Andrew Sun
 | Snapshot Date: 2011-07-06 19:21:50 -0700 (Wed, 06 Jul 2011) |  | URL: https://hedgehog.fhcrc.org/bioconductor/trunk/madman/Rpacks/ABarray |  | Last Changed Rev: 54810 / Revision: 56603 |  | Last Changed Date: 2011-04-13 18:14:51 -0700 (Wed, 13 Apr 2011) |  
  | wilson2  | Linux (openSUSE 11.4) / x86_64  |  OK  |  OK  |  | 
| liverpool  | Windows Server 2003 R2 (32-bit) / x64  |  OK  |  OK  |  OK  | 
| gewurz  | Windows Server 2008 R2 Enterprise (64-bit) / x64  |  OK  |  OK  |  OK  | 
| moscato1  | Windows Server 2008 R2 Enterprise (64-bit) / x64  |  OK  |  OK  |  OK  | 
| pitt  | Mac OS X Leopard (10.5.8) / i386  |  OK  |  OK  | [ OK ] | 
>>>>>>> 
>>>>>>> INSTALLATION WITH 'R CMD INSTALL --preclean --library=ABarray.buildbin-libdir ABarray_1.21.0.tar.gz'
>>>>>>> 
* installing *source* package 'ABarray' ...
** R
** inst
** preparing package for lazy loading
Loading Tcl/Tk interface ... done
** help
*** installing help indices
** building package indices ...
*** tangling vignette sources ...
   'ABarray.Rnw' 
   'ABarrayGUI.Rnw' 
** testing if installed package can be loaded
* DONE (ABarray)