VanillaICE 1.15.0 Robert Scharpf
 | Snapshot Date: 2011-07-06 19:21:50 -0700 (Wed, 06 Jul 2011) |  | URL: https://hedgehog.fhcrc.org/bioconductor/trunk/madman/Rpacks/VanillaICE |  | Last Changed Rev: 54810 / Revision: 56603 |  | Last Changed Date: 2011-04-13 18:14:51 -0700 (Wed, 13 Apr 2011) |  
  | wilson2  | Linux (openSUSE 11.4) / x86_64  |  OK  |  OK  |  | 
| liverpool  | Windows Server 2003 R2 (32-bit) / x64  |  OK  |  OK  |  OK  | 
| gewurz  | Windows Server 2008 R2 Enterprise (64-bit) / x64  |  OK  |  OK  |  OK  | 
| moscato1  | Windows Server 2008 R2 Enterprise (64-bit) / x64  |  OK  |  OK  |  OK  | 
| pitt  | Mac OS X Leopard (10.5.8) / i386  |  OK  |  OK  | [ OK ] | 
>>>>>>> 
>>>>>>> INSTALLATION WITH 'R CMD INSTALL --preclean --library=VanillaICE.buildbin-libdir VanillaICE_1.15.0.tar.gz'
>>>>>>> 
* installing *source* package 'VanillaICE' ...
** libs
*** arch - i386
gcc-4.2 -arch i386 -std=gnu99 -I/Library/Frameworks/R.framework/Resources/include -I/Library/Frameworks/R.framework/Resources/include/i386  -I/usr/local/include    -fPIC  -g -O2 -Wall -pedantic -c viterbi.c -o viterbi.o
viterbi.c: In function 'viterbi':
viterbi.c:61: warning: unused variable 'tp'
gcc-4.2 -arch i386 -std=gnu99 -dynamiclib -Wl,-headerpad_max_install_names -undefined dynamic_lookup -single_module -multiply_defined suppress -L/usr/local/lib -o VanillaICE.so viterbi.o -lm -F/Library/Frameworks/R.framework/.. -framework R -Wl,-framework -Wl,CoreFoundation
installing to /Users/biocbuild/bbs-2.9-bioc/meat/VanillaICE.buildbin-libdir/VanillaICE/libs/i386
*** arch - ppc
gcc-4.2 -arch ppc -std=gnu99 -I/Library/Frameworks/R.framework/Resources/include -I/Library/Frameworks/R.framework/Resources/include/ppc  -I/usr/local/include    -fPIC  -g -O2 -Wall -pedantic -c viterbi.c -o viterbi.o
viterbi.c: In function 'viterbi':
viterbi.c:61: warning: unused variable 'tp'
gcc-4.2 -arch ppc -std=gnu99 -dynamiclib -Wl,-headerpad_max_install_names -undefined dynamic_lookup -single_module -multiply_defined suppress -L/usr/local/lib -o VanillaICE.so viterbi.o -lm -F/Library/Frameworks/R.framework/.. -framework R -Wl,-framework -Wl,CoreFoundation
installing to /Users/biocbuild/bbs-2.9-bioc/meat/VanillaICE.buildbin-libdir/VanillaICE/libs/ppc
*** arch - x86_64
gcc-4.2 -arch x86_64 -std=gnu99 -I/Library/Frameworks/R.framework/Resources/include -I/Library/Frameworks/R.framework/Resources/include/x86_64  -I/usr/local/include    -fPIC  -g -O2 -Wall -pedantic -c viterbi.c -o viterbi.o
viterbi.c: In function 'viterbi':
viterbi.c:61: warning: unused variable 'tp'
gcc-4.2 -arch x86_64 -std=gnu99 -dynamiclib -Wl,-headerpad_max_install_names -undefined dynamic_lookup -single_module -multiply_defined suppress -L/usr/local/lib -o VanillaICE.so viterbi.o -lm -F/Library/Frameworks/R.framework/.. -framework R -Wl,-framework -Wl,CoreFoundation
installing to /Users/biocbuild/bbs-2.9-bioc/meat/VanillaICE.buildbin-libdir/VanillaICE/libs/x86_64
** R
** data
** inst
** preparing package for lazy loading
Attaching package: 'IRanges'
The following object(s) are masked from 'package:base':
    Map, cbind, eval, intersect, mapply, order, paste, pmax, pmax.int,
    pmin, pmin.int, rbind, rep.int, setdiff, table, union
Loading required package: Biobase
Welcome to Bioconductor
  Vignettes contain introductory material. To view, type
  'browseVignettes()'. To cite Bioconductor, see
  'citation("Biobase")' and for packages 'citation("pkgname")'.
Attaching package: 'Biobase'
The following object(s) are masked from 'package:IRanges':
    updateObject
================================================================================
Welcome to oligoClasses version 1.15.9
================================================================================
Large dataset support for 'oligo/crlmm': Disabled
     - Load 'ff'
================================================================================
Parallel computing support for 'oligo/crlmm': Disabled
     - Load 'ff'
     - Load 'snow'
     - Use options(cluster=makeCluster(...))
================================================================================
** help
*** installing help indices
** building package indices ...
*** tangling vignette sources ...
   'VanillaICE.Rnw' 
** testing if installed package can be loaded
================================================================================
Welcome to oligoClasses version 1.15.9
================================================================================
Large dataset support for 'oligo/crlmm': Disabled
     - Load 'ff'
================================================================================
Parallel computing support for 'oligo/crlmm': Disabled
     - Load 'ff'
     - Load 'snow'
     - Use options(cluster=makeCluster(...))
================================================================================
Welcome to VanillaICE version 1.15.0
* DONE (VanillaICE)
>>>>>>> 
>>>>>>> FIXING LINKS FOR VanillaICE.buildbin-libdir/VanillaICE/libs/i386/VanillaICE.so
>>>>>>> 
install_name_tool -change "/usr/local/lib/libgcc_s.1.dylib" "/Library/Frameworks/R.framework/Versions/2.14/Resources/lib/libgcc_s.1.dylib" "VanillaICE.buildbin-libdir/VanillaICE/libs/i386/VanillaICE.so"
install_name_tool -change "/usr/local/lib/libgfortran.2.dylib" "/Library/Frameworks/R.framework/Versions/2.14/Resources/lib/libgfortran.2.dylib" "VanillaICE.buildbin-libdir/VanillaICE/libs/i386/VanillaICE.so"
install_name_tool -change "/usr/local/lib/libreadline.5.2.dylib" "/Library/Frameworks/R.framework/Versions/2.14/Resources/lib/libreadline.5.2.dylib" "VanillaICE.buildbin-libdir/VanillaICE/libs/i386/VanillaICE.so"
install_name_tool -change "/usr/local/lib/libreadline.dylib" "/Library/Frameworks/R.framework/Versions/2.14/Resources/lib/libreadline.dylib" "VanillaICE.buildbin-libdir/VanillaICE/libs/i386/VanillaICE.so"
>>>>>>> 
>>>>>>> FIXING LINKS FOR VanillaICE.buildbin-libdir/VanillaICE/libs/ppc/VanillaICE.so
>>>>>>> 
install_name_tool -change "/usr/local/lib/libgcc_s.1.dylib" "/Library/Frameworks/R.framework/Versions/2.14/Resources/lib/libgcc_s.1.dylib" "VanillaICE.buildbin-libdir/VanillaICE/libs/ppc/VanillaICE.so"
install_name_tool -change "/usr/local/lib/libgfortran.2.dylib" "/Library/Frameworks/R.framework/Versions/2.14/Resources/lib/libgfortran.2.dylib" "VanillaICE.buildbin-libdir/VanillaICE/libs/ppc/VanillaICE.so"
install_name_tool -change "/usr/local/lib/libreadline.5.2.dylib" "/Library/Frameworks/R.framework/Versions/2.14/Resources/lib/libreadline.5.2.dylib" "VanillaICE.buildbin-libdir/VanillaICE/libs/ppc/VanillaICE.so"
install_name_tool -change "/usr/local/lib/libreadline.dylib" "/Library/Frameworks/R.framework/Versions/2.14/Resources/lib/libreadline.dylib" "VanillaICE.buildbin-libdir/VanillaICE/libs/ppc/VanillaICE.so"
>>>>>>> 
>>>>>>> FIXING LINKS FOR VanillaICE.buildbin-libdir/VanillaICE/libs/x86_64/VanillaICE.so
>>>>>>> 
install_name_tool -change "/usr/local/lib/libgcc_s.1.dylib" "/Library/Frameworks/R.framework/Versions/2.14/Resources/lib/libgcc_s.1.dylib" "VanillaICE.buildbin-libdir/VanillaICE/libs/x86_64/VanillaICE.so"
install_name_tool -change "/usr/local/lib/libgfortran.2.dylib" "/Library/Frameworks/R.framework/Versions/2.14/Resources/lib/libgfortran.2.dylib" "VanillaICE.buildbin-libdir/VanillaICE/libs/x86_64/VanillaICE.so"
install_name_tool -change "/usr/local/lib/libreadline.5.2.dylib" "/Library/Frameworks/R.framework/Versions/2.14/Resources/lib/libreadline.5.2.dylib" "VanillaICE.buildbin-libdir/VanillaICE/libs/x86_64/VanillaICE.so"
install_name_tool -change "/usr/local/lib/libreadline.dylib" "/Library/Frameworks/R.framework/Versions/2.14/Resources/lib/libreadline.dylib" "VanillaICE.buildbin-libdir/VanillaICE/libs/x86_64/VanillaICE.so"