GeneMeta 1.25.0 Biocore Team c/o BioC user list
 | Snapshot Date: 2011-07-06 19:21:50 -0700 (Wed, 06 Jul 2011) |  | URL: https://hedgehog.fhcrc.org/bioconductor/trunk/madman/Rpacks/GeneMeta |  | Last Changed Rev: 54802 / Revision: 56603 |  | Last Changed Date: 2011-04-13 15:36:43 -0700 (Wed, 13 Apr 2011) |  
  | wilson2  | Linux (openSUSE 11.4) / x86_64  |  OK  |  OK  |  | 
| liverpool  | Windows Server 2003 R2 (32-bit) / x64  |  OK  |  OK  |  OK  | 
| gewurz  | Windows Server 2008 R2 Enterprise (64-bit) / x64  |  OK  |  OK  |  OK  | 
| moscato1  | Windows Server 2008 R2 Enterprise (64-bit) / x64  |  OK  |  OK  |  OK  | 
| pitt  | Mac OS X Leopard (10.5.8) / i386  |  OK  |  OK  | [ OK ] | 
>>>>>>> 
>>>>>>> INSTALLATION WITH 'R CMD INSTALL --preclean --library=GeneMeta.buildbin-libdir GeneMeta_1.25.0.tar.gz'
>>>>>>> 
* installing *source* package 'GeneMeta' ...
** R
** data
** inst
** preparing package for lazy loading
Welcome to Bioconductor
  Vignettes contain introductory material. To view, type
  'browseVignettes()'. To cite Bioconductor, see
  'citation("Biobase")' and for packages 'citation("pkgname")'.
** help
*** installing help indices
** building package indices ...
*** tangling vignette sources ...
   'GeneMeta.Rnw' 
** testing if installed package can be loaded
* DONE (GeneMeta)