| GLYPH TABLE - These are the glyphs used in this report to indicate the following package status: |
| - TIMEOUT |
BUILD, CHECK or BUILD BIN of package took more than 40 minutes |
| - ERROR |
BUILD, CHECK or BUILD BIN of package returned an error |
| - WARNINGS |
CHECK of package produced warnings |
| - OK |
BUILD, CHECK or BUILD BIN of package was OK |
| - skipped |
CHECK or BUILD BIN of package was skipped because the BUILD step failed (or because something bad happened with the Build System itself) |
| Click on any glyph in the report below to see the status details (command output). |
| lamb1 |
Linux (SUSE 10.1) | x86_64 | | | |
| [lemming] |
Windows Server 2003 (32-bit) | x64 | | | |
|
| affydata 1.11.3 | Laurent | OK | OK | OK |
| ALL 1.4.3 | Xiaochun Li | OK | OK | OK |
| ALLMLL 1.2.2 | B. M. Bolstad | OK | OK | OK |
| AmpAffyExample 1.2.2 | Rafael A. Irizarry | OK | OK | OK |
| beta7 0.6.0 | Jean Yang | OK | WARNINGS | OK |
| bronchialIL13 1.0-1 | Vince Carey | OK | OK | OK |
| CCl4 1.0.5 | Audrey Kauffmann | ERROR | skipped | skipped |
| CLL 1.2.3 | Elizabeth Whalen | OK | OK | OK |
| colonCA 1.4.1 | W Sylvia Merk | OK | OK | OK |
| davidTiling 1.2.4 | Wolfgang Huber | OK | OK | OK |
| ecoliLeucine 1.2.1 | Laurent Gautier | OK | OK | OK |
| estrogen 1.8.2 | R. Gentleman | OK | OK | OK |
| faahKO 1.2.0 | Colin A. Smith | OK | OK | OK |
| facsDorit 1.4.0 | Florian Hahne | OK | OK | OK |
| fibroEset 1.4.2 | Sylvia Merk | OK | OK | OK |
| gaschYHS 1.0.0 | Vince Carey | OK | OK | OK |
| GGdata 0.0-7 | stvjc | OK | WARNINGS | OK |
| golubEsets 1.4.3 | Vince Carey | OK | OK | OK |
| hapmap100khind 1.1 | Benilton Carvalho | OK | OK | OK |
| hapmap100kxba 1.1 | Benilton Carvalho | OK | OK | OK |
| hapmap500knsp 1.1 | Benilton Carvalho | OK | OK | OK |
| hapmap500ksty 1.1 | Benilton Carvalho | OK | OK | OK |
| harbChIP 0.0.1 | VJ Carey | OK | OK | OK |
| HEEBOdata 1.0.0 | Agnes Paquet | OK | OK | OK |
| hgu2beta7 1.2.0 | Ting-Yuan Liu | OK | ERROR | OK |
| HIVcDNAvantWout03 1.2.0 | Chris Fraley | OK | OK | OK |
| Iyer517 1.4.2 | Vince Carey | OK | OK | OK |
| kidpack 1.4.3 | Wolfgang Huber | OK | OK | OK |
| lumiBarnes 1.3.2 | Pan Du | OK | OK | OK |
| lungExpression 0.0.6 | Robert Scharpf | OK | OK | OK |
| lymphoma 1.6.5 | W. Huber | OK | WARNINGS | OK |
| maqcExpression4plex 1.2 | Benilton Carvalho | OK | OK | OK |
| MAQCsubset 1.0.2 | VJ Carey | OK | WARNINGS | OK |
| MEEBOdata 1.0.0 | Agnes Paquet | OK | OK | OK |
| Neve2006 0.1.3 | VJ Carey | OK | ERROR | OK |
| ppiData 0.1.7 | Tony Chiang | OK | WARNINGS | OK |
| ProData 0.4.1 | Xiaochun Li | OK | OK | OK |
| pumadata 1.0.0 | Richard Pearson | OK | OK | OK |
| rfcdmin 1.6.3 | N. Le Meur | OK | WARNINGS | OK |
| SNAData 1.8.0 | Denise Scholtens | OK | OK | OK |
| SpikeIn 1.4.1 | Rafael A. Irizarry | OK | OK | OK |
| SpikeInSubset 1.2.5 | Rafael A. Irizarry | OK | OK | OK |
| stjudem 1.2.0 | Joern Toedling | OK | OK | OK |
| tinesath1cdf 1.0.2 | Tine Casneuf | OK | OK | OK |
| tinesath1probe 1.0.2 | Tine Casneuf | OK | OK | OK |
| XhybCasneuf 1.0.0 | Tineke Casneuf | OK | OK | OK |
| yeastCC 1.2.6 | Sandrine Dudoit | OK | OK | OK |
| yeastExpData 0.8.4 | R. Gentleman | OK | WARNINGS | OK |