Back to the "Multiple platform build/check report"
| Package 4/48 | Hostname | OS | Arch | BUILD | CHECK | BUILD BIN |
AmpAffyExample1.2.2Rafael A. IrizarryLast Changed Date: 2007-05-13 22:20:57 -0700 Last Changed Rev: 298 | lamb1 | Linux (SUSE 10.1) | x86_64 | OK | OK | |
| lemming | Windows Server 2003 (32-bit) | x64 | OK | [ OK ] | OK |
| Package: AmpAffyExample |
| Version: 1.2.2 |
| Command: D:\biocbld\bbs-2.0-bioc\R\bin\R.exe CMD check AmpAffyExample_1.2.2.tar.gz |
| RetCode: 0 |
| Time: 60.6 seconds |
| Status: OK |
| CheckDir: AmpAffyExample.Rcheck |
| Warnings: 0 |
* checking for working latex ... OK * using log directory 'D:/biocbld/bbs-2.0-data-experiment/meat/AmpAffyExample.Rcheck' * using R version 2.5.1 (2007-06-27) * checking for file 'AmpAffyExample/DESCRIPTION' ... OK * this is package 'AmpAffyExample' version '1.2.2' * checking package dependencies ... OK * checking if this is a source package ... OK * checking whether package 'AmpAffyExample' can be installed ... OK * checking package directory ... OK * checking for portable file names ... OK * checking DESCRIPTION meta-information ... OK * checking top-level files ... OK * checking index information ... OK * checking package subdirectories ... OK * checking R files for non-ASCII characters ... OK * checking R files for syntax errors ... OK * checking whether the package can be loaded ... OK * checking whether the package can be loaded with stated dependencies ... OK * checking for unstated dependencies in R code ... OK * checking S3 generic/method consistency ... OK * checking replacement functions ... OK * checking foreign function calls ... OK * checking R code for possible problems ... OK * checking Rd files ... OK * checking Rd cross-references ... OK * checking for missing documentation entries ... OK * checking for code/documentation mismatches ... OK * checking Rd \usage sections ... OK * checking data for non-ASCII characters ... OK * creating AmpAffyExample-Ex.R ... OK * checking examples ... OK * creating AmpAffyExample-manual.tex ... OK * checking AmpAffyExample-manual.tex ... OK
AmpAffyExample.Rcheck/00install.out:
installing R.css in D:/biocbld/bbs-2.0-data-experiment/meat/AmpAffyExample.Rcheck
---------- Making package AmpAffyExample ------------
adding build stamp to DESCRIPTION
installing R files
installing data files
installing man source files
installing indices
not zipping data
installing help
>>> Building/Updating help pages for package 'AmpAffyExample'
Formats: text html latex example chm
AmpData text html latex chm
Microsoft HTML Help Compiler 4.74.8702
Compiling d:\biocbld\bbs-2.0-data-experiment\meat\AmpAffyExample.Rcheck\00_pkg_src\AmpAffyExample\chm\AmpAffyExample.chm
Compile time: 0 minutes, 0 seconds
2 Topics
2 Local links
0 Internet links
1 Graphic
Created d:\biocbld\bbs-2.0-data-experiment\meat\AmpAffyExample.Rcheck\00_pkg_src\AmpAffyExample\chm\AmpAffyExample.chm, 15,685 bytes
Compression increased file by 8,917 bytes.
adding MD5 sums
* DONE (AmpAffyExample)