Back to the "Multiple platform build/check report"
| Package 4/48 | Hostname | OS | Arch | BUILD | CHECK | BUILD BIN |
AmpAffyExample1.2.2Rafael A. IrizarryLast Changed Date: 2007-05-13 22:20:57 -0700 Last Changed Rev: 298 | lamb1 | Linux (SUSE 10.1) | x86_64 | OK | OK | |
| lemming | Windows Server 2003 (32-bit) | x64 | OK | OK | [ OK ] |
| Package: AmpAffyExample |
| Version: 1.2.2 |
| Command: D:\biocbld\bbs-2.0-bioc\R\bin\R.exe CMD INSTALL --build --library=AmpAffyExample.buildbin-libdir AmpAffyExample_1.2.2.tar.gz |
| RetCode: 0 |
| Time: 11.5 seconds |
| Status: OK |
| PackageFile: AmpAffyExample_1.2.2.zip |
installing R.css in D:/biocbld/bbs-2.0-data-experiment/meat/AmpAffyExample.buildbin-libdir
Using auto-selected zip options 'AmpAffyExample-ZIPDATA=zip'
---------- Making package AmpAffyExample ------------
adding build stamp to DESCRIPTION
installing R files
installing data files
installing man source files
installing indices
zipping data
installing help
>>> Building/Updating help pages for package 'AmpAffyExample'
Formats: text html latex example chm
AmpData text html latex chm
Microsoft HTML Help Compiler 4.74.8702
Compiling d:\biocbld\bbs-2.0-data-experiment\meat\R.INSTALL.6588\AmpAffyExample\chm\AmpAffyExample.chm
Compile time: 0 minutes, 0 seconds
2 Topics
2 Local links
0 Internet links
1 Graphic
Created d:\biocbld\bbs-2.0-data-experiment\meat\R.INSTALL.6588\AmpAffyExample\chm\AmpAffyExample.chm, 15,683 bytes
Compression increased file by 8,915 bytes.
adding MD5 sums
packaged installation of package 'AmpAffyExample' as AmpAffyExample_1.2.2.zip
* DONE (AmpAffyExample)