Back to the "Multiple platform build/check report"
| Package 3/48 | Hostname | OS | Arch | BUILD | CHECK | BUILD BIN |
ALLMLL1.2.2B. M. BolstadLast Changed Date: 2007-04-15 13:06:52 -0700 Last Changed Rev: 253 | lamb1 | Linux (SUSE 10.1) | x86_64 | OK | OK | |
| lemming | Windows Server 2003 (32-bit) | x64 | OK | OK | [ OK ] |
| Package: ALLMLL |
| Version: 1.2.2 |
| Command: D:\biocbld\bbs-2.0-bioc\R\bin\R.exe CMD INSTALL --build --library=ALLMLL.buildbin-libdir ALLMLL_1.2.2.tar.gz |
| RetCode: 0 |
| Time: 32.7 seconds |
| Status: OK |
| PackageFile: ALLMLL_1.2.2.zip |
installing R.css in D:/biocbld/bbs-2.0-data-experiment/meat/ALLMLL.buildbin-libdir
Using auto-selected zip options 'ALLMLL-ZIPDATA=zip'
---------- Making package ALLMLL ------------
adding build stamp to DESCRIPTION
no R files in this package
installing data files
installing man source files
installing indices
zipping data
installing help
>>> Building/Updating help pages for package 'ALLMLL'
Formats: text html latex example chm
MLL text html latex chm
Microsoft HTML Help Compiler 4.74.8702
Compiling d:\biocbld\bbs-2.0-data-experiment\meat\R.INSTALL.6908\ALLMLL\chm\ALLMLL.chm
Compile time: 0 minutes, 2 seconds
2 Topics
3 Local links
0 Internet links
1 Graphic
Created d:\biocbld\bbs-2.0-data-experiment\meat\R.INSTALL.6908\ALLMLL\chm\ALLMLL.chm, 16,417 bytes
Compression increased file by 8,993 bytes.
adding MD5 sums
packaged installation of package 'ALLMLL' as ALLMLL_1.2.2.zip
* DONE (ALLMLL)