Back to the "Multiple platform build/check report"
| Package 2/48 | Hostname | OS | Arch | BUILD | CHECK | BUILD BIN |
ALL1.4.3Xiaochun LiLast Changed Date: 2007-06-05 09:16:51 -0700 Last Changed Rev: 329 | lamb1 | Linux (SUSE 10.1) | x86_64 | OK | OK | |
| lemming | Windows Server 2003 (32-bit) | x64 | [ OK ] | OK | OK |
| Package: ALL |
| Version: 1.4.3 |
| Command: D:\biocbld\bbs-2.0-bioc\R\bin\R.exe CMD build ALL |
| RetCode: 0 |
| Time: 90.7 seconds |
| Status: OK |
| PackageFile: ALL_1.4.3.tar.gz |
* checking for file 'ALL/DESCRIPTION' ... OK
* preparing 'ALL':
* checking DESCRIPTION meta-information ... OK
* installing the package to re-build vignettes
installing R.css in D:/biocbld/bbs-2.0-data-experiment/tmpdir/Rinst753228372
---------- Making package ALL ------------
adding build stamp to DESCRIPTION
installing R files
installing inst files
installing data files
installing man source files
installing indices
Loading required package: methods
not zipping data
installing help
>>> Building/Updating help pages for package 'ALL'
Formats: text html latex example chm
ALL text html latex example chm
tojulian text html latex example chm
Microsoft HTML Help Compiler 4.74.8702
Compiling d:\biocbld\bbs-2.0-data-experiment\meat\ALL\chm\ALL.chm
Compile time: 0 minutes, 0 seconds
3 Topics
4 Local links
0 Internet links
1 Graphic
Created d:\biocbld\bbs-2.0-data-experiment\meat\ALL\chm\ALL.chm, 19,432 bytes
Compression increased file by 8,038 bytes.
adding MD5 sums
* DONE (ALL)
* creating vignettes ... OK
* removing junk files
* checking for LF line-endings in source files
* checking for empty or unneeded directories
* building 'ALL_1.4.3.tar.gz'