Back to the "Multiple platform build/check report"
| Package 41/48 | Hostname | OS | Arch | BUILD | CHECK | BUILD BIN |
SpikeIn1.4.1Rafael A. IrizarryLast Changed Date: 2007-03-02 15:09:05 -0800 Last Changed Rev: 233 | lamb1 | Linux (SUSE 10.1) | x86_64 | OK | OK | |
| lemming | Windows Server 2003 (32-bit) | x64 | OK | OK | [ OK ] |
| Package: SpikeIn |
| Version: 1.4.1 |
| Command: D:\biocbld\bbs-2.0-bioc\R\bin\R.exe CMD INSTALL --build --library=SpikeIn.buildbin-libdir SpikeIn_1.4.1.tar.gz |
| RetCode: 0 |
| Time: 74.9 seconds |
| Status: OK |
| PackageFile: SpikeIn_1.4.1.zip |
installing R.css in D:/biocbld/bbs-2.0-data-experiment/meat/SpikeIn.buildbin-libdir
Using auto-selected zip options 'SpikeIn-ZIPDATA=zip'
---------- Making package SpikeIn ------------
adding build stamp to DESCRIPTION
installing R files
installing data files
installing man source files
installing indices
zipping data
installing help
>>> Building/Updating help pages for package 'SpikeIn'
Formats: text html latex example chm
SpikeIn text html latex chm
Microsoft HTML Help Compiler 4.74.8702
Compiling d:\biocbld\bbs-2.0-data-experiment\meat\R.INSTALL.7820\SpikeIn\chm\SpikeIn.chm
Compile time: 0 minutes, 0 seconds
2 Topics
3 Local links
1 Internet link
1 Graphic
Created d:\biocbld\bbs-2.0-data-experiment\meat\R.INSTALL.7820\SpikeIn\chm\SpikeIn.chm, 16,010 bytes
Compression increased file by 8,830 bytes.
adding MD5 sums
packaged installation of package 'SpikeIn' as SpikeIn_1.4.1.zip
* DONE (SpikeIn)