Back to the "Multiple platform build/check report"
| Package 32/48 | Hostname | OS | Arch | BUILD | CHECK | BUILD BIN |
maqcExpression4plex1.2Benilton CarvalhoLast Changed Date: 2007-07-28 14:59:14 -0700 Last Changed Rev: 399 | lamb1 | Linux (SUSE 10.1) | x86_64 | OK | OK | |
| lemming | Windows Server 2003 (32-bit) | x64 | [ OK ] | OK | OK |
| Package: maqcExpression4plex |
| Version: 1.2 |
| Command: D:\biocbld\bbs-2.0-bioc\R\bin\R.exe CMD build maqcExpression4plex |
| RetCode: 0 |
| Time: 19.5 seconds |
| Status: OK |
| PackageFile: maqcExpression4plex_1.2.tar.gz |
* checking for file 'maqcExpression4plex/DESCRIPTION' ... OK * preparing 'maqcExpression4plex': * checking DESCRIPTION meta-information ... OK * removing junk files * checking for LF line-endings in source files * checking for empty or unneeded directories * building 'maqcExpression4plex_1.2.tar.gz'