Back to the "Multiple platform build/check report"
| Package 6/48 | Hostname | OS | Arch | BUILD | CHECK | BUILD BIN |
bronchialIL131.0-1Vince CareyLast Changed Date: 2007-04-15 15:10:53 -0700 Last Changed Rev: 255 | lamb1 | Linux (SUSE 10.1) | x86_64 | OK | OK | |
| lemming | Windows Server 2003 (32-bit) | x64 | OK | OK | [ OK ] |
| Package: bronchialIL13 |
| Version: 1.0-1 |
| Command: D:\biocbld\bbs-2.0-bioc\R\bin\R.exe CMD INSTALL --build --library=bronchialIL13.buildbin-libdir bronchialIL13_1.0-1.tar.gz |
| RetCode: 0 |
| Time: 34.2 seconds |
| Status: OK |
| PackageFile: bronchialIL13_1.0-1.zip |
installing R.css in D:/biocbld/bbs-2.0-data-experiment/meat/bronchialIL13.buildbin-libdir
Using auto-selected zip options 'bronchialIL13-ZIPDATA=zip'
---------- Making package bronchialIL13 ------------
adding build stamp to DESCRIPTION
no R files in this package
installing inst files
installing data files
installing man source files
installing indices
zipping data
installing help
>>> Building/Updating help pages for package 'bronchialIL13'
Formats: text html latex example chm
il13tc text html latex example chm
Microsoft HTML Help Compiler 4.74.8702
Compiling d:\biocbld\bbs-2.0-data-experiment\meat\R.INSTALL.2540\bronchialIL13\chm\bronchialIL13.chm
Compile time: 0 minutes, 0 seconds
2 Topics
3 Local links
1 Internet link
1 Graphic
Created d:\biocbld\bbs-2.0-data-experiment\meat\R.INSTALL.2540\bronchialIL13\chm\bronchialIL13.chm, 16,182 bytes
Compression increased file by 8,885 bytes.
adding MD5 sums
packaged installation of package 'bronchialIL13' as bronchialIL13_1.0-1.zip
* DONE (bronchialIL13)