Back to the "Multiple platform build/check report"
| Package 29/48 | Hostname | OS | Arch | BUILD | CHECK | BUILD BIN |
lumiBarnes1.3.2Pan DuLast Changed Date: 2007-08-03 10:24:06 -0700 Last Changed Rev: 406 | lamb1 | Linux (SUSE 10.1) | x86_64 | OK | OK | |
| lemming | Windows Server 2003 (32-bit) | x64 | [ OK ] | OK | OK |
| Package: lumiBarnes |
| Version: 1.3.2 |
| Command: D:\biocbld\bbs-2.0-bioc\R\bin\R.exe CMD build lumiBarnes |
| RetCode: 0 |
| Time: 2.5 seconds |
| Status: OK |
| PackageFile: lumiBarnes_1.3.2.tar.gz |
* checking for file 'lumiBarnes/DESCRIPTION' ... OK * preparing 'lumiBarnes': * checking DESCRIPTION meta-information ... OK * removing junk files * checking for LF line-endings in source files * checking for empty or unneeded directories * building 'lumiBarnes_1.3.2.tar.gz'